{"text_format":"1","workbook":"xlsx","n_sheets":8,"sheets":["Datos","TD","Menu","ATENDIDOS","PAQUETE_TA","CUMPLIMIENTO_PAQUETES","PAQUETES_EDAD","PROG_CUIDADO_MUTUO"],"not_rendered":{"charts":0,"images":35,"macros":1,"external_links":0,"defined_names":0,"comments":0,"pivot_tables":12},"unopened":[],"bounds":{"document_bytes":16777216,"sheet_cells":100000,"rows_first":2000,"rows_last":500,"rows_between":2000,"halvings":0,"cell_chars":16384,"cell_head_chars":4096},"cells_cut":0,"cells_raw":0,"read":"whole","date_system":"1900"}

{"sheet":"Datos","index":0,"n_rows":438,"n_cols":36,"rows_kept":438,"cut":false,"hidden":true,"merged":[]}
[]
[]
[]
[]
[]
[]
[]
[]
[null,"ANO",null,"MESES",null,"COD_RED","DESC_RED","RED",null,"COD_RED","COD_MIC","DESC_MICRO","MICROREDES",null,"COD_ESTAB","DESC_ESTAB","COD_RED","COD_MIC","COD_PROV","COD_DIST","REDMIC","CONCATENAR",null,"COD_PROV","DESC_PROV","CONCATENAR",null,"COD_PROV","COD_DIST","DESC_DIST","PROVDIST","CONCATENAR",null,"UE"]
[null,2024,null,"01-Enero",null,"01","CUSCO SUR",{"$f":"CONCATENATE(F10,\" - \",G10)","v":"01 - CUSCO SUR"},null,"00","00","NO PERTENECE A NINGUNA MICRORED                                                                     ",{"$f":"CONCATENATE(J10,K10,\" - \",L10)","v":"0000 - NO PERTENECE A NINGUNA MICRORED                                                                     "},null,"000000000","(All)","07","00",null,null,{"$f":"CONCATENATE(Q10,R10)","v":"0700"},{"$f":"CONCATENATE(O10,\" - \",P10)","v":"000000000 - (All)"},null,"00","(All)",{"$f":"CONCATENATE(X10,\" - \",Y10)","v":"00 - (All)"},null,"01","00","(All)",{"$f":"CONCATENATE(AB10,AC10)","v":"0100"},{"$f":"CONCATENATE(AB10,AC10,\" - \",AD10)","v":"0100 - (All)"},null,"COD_RED","DESC_RED","CONCATENAR"]
[null,null,null,"02-Febrero",null,"02","CUSCO NORTE","02 - CUSCO NORTE",null,"00","99","(All)",{"$f":"CONCATENATE(J11,K11,\" - \",L11)","v":"0099 - (All)"},null,"000002289","HOSPITAL REGIONAL CUSCO","07","00","01","01",{"$f":"CONCATENATE(Q11,R11)","v":"0700"},{"$f":"CONCATENATE(O11,\" - \",P11)","v":"000002289 - HOSPITAL REGIONAL CUSCO"},null,"01","CUSCO",{"$f":"CONCATENATE(X11,\" - \",Y11)","v":"01 - CUSCO"},null,"01","01","CUSCO",{"$f":"CONCATENATE(AB11,AC11)","v":"0101"},{"$f":"CONCATENATE(AB11,AC11,\" - \",AD11)","v":"0101 - CUSCO"},null,1129,"UE - SALUD CANAS - CANCHIS - ESPINAR",{"$f":"CONCATENATE(AH11,\" - \",AI11)","v":"1129 - UE - SALUD CANAS - CANCHIS - ESPINAR"}]
[null,null,null,"03-Marzo",null,"03","LA CONVENCION","03 - LA CONVENCION",null,"01","00","HOSPITAL","0100 - HOSPITAL",null,"000002305","HOSPITAL ANTONIO LORENA","07","00","01","06",{"$f":"CONCATENATE(Q12,R12)","v":"0700"},"000002305 - HOSPITAL ANTONIO LORENA",null,"02","ACOMAYO",{"$f":"CONCATENATE(X12,\" - \",Y12)","v":"02 - ACOMAYO"},null,"01","02","CCORCA","0102","0102 - CCORCA",null,1130,"UE - HOSPITAL REGIONAL CUSCO",{"$f":"CONCATENATE(AH12,\" - \",AI12)","v":"1130 - UE - HOSPITAL REGIONAL CUSCO"}]
[null,null,null,"04-Abril",null,"04","CANAS-CANCHIS-ESPINAR","04 - CANAS-CANCHIS-ESPINAR",null,"01","03","PARURO                                                                                              ","0103 - PARURO                                                                                              ",null,"999999999","(All)","07","99",null,null,{"$f":"CONCATENATE(Q13,R13)","v":"0799"},"999999999 - (All)",null,"03","ANTA","03 - ANTA",null,"01","03","POROY","0103","0103 - POROY",null,1169,"UE - HOSPITAL ANTONIO LORENA","1169 - UE - HOSPITAL ANTONIO LORENA"]
[null,null,null,"05-Mayo",null,"05","KIMBIRI PICHARI","05 - KIMBIRI PICHARI",null,"01","06","PAUCARTAMBO                                                                                         ","0106 - PAUCARTAMBO                                                                                         ",null,"000025210","TUPAC AMARU","01","00","01","05","0100","000025210 - TUPAC AMARU",null,"04","CALCA","04 - CALCA",null,"01","04","SAN JERONIMO","0104","0104 - SAN JERONIMO",null,1170,"UE - SALUD LA CONVENCION","1170 - UE - SALUD LA CONVENCION"]
[null,null,null,"06-Junio",null,"06","CHUMBIVILCAS","06 - CHUMBIVILCAS",null,"01","12","URCOS                                                                                               ","0112 - URCOS                                                                                               ",null,"000000000","(All)","01","16",null,null,{"$f":"CONCATENATE(Q15,R15)","v":"0116"},{"$f":"CONCATENATE(O15,\" - \",P15)","v":"000000000 - (All)"},null,"05","CANAS","05 - CANAS",null,"01","05","SAN SEBASTIAN","0105","0105 - SAN SEBASTIAN",null,1322,"UE - SALUD CUSCO SUR","1322 - UE - SALUD CUSCO SUR"]
[null,null,null,"07-Julio",null,"07","HOSPITALES III",{"$f":"CONCATENATE(F16,\" - \",G16)","v":"07 - HOSPITALES III"},null,"01","13","ACOMAYO                                                                                             ","0113 - ACOMAYO                                                                                             ",null,"000002300","SAN JERONIMO                                                                                        ","01","16","01","04","0116","000002300 - SAN JERONIMO                                                                                        ",null,"06","CANCHIS","06 - CANCHIS",null,"01","06","SANTIAGO","0106","0106 - SANTIAGO",null,1347,"UE - SALUD KIMBIRI PICHARI","1347 - UE - SALUD KIMBIRI PICHARI"]
[null,null,null,"08-Agosto",null,"99","(All)",{"$f":"CONCATENATE(F17,\" - \",G17)","v":"99 - (All)"},null,"01","15","OCONGATE                                                                                            ","0115 - OCONGATE                                                                                            ",null,"000002301","SAN SEBASTIAN                                                                                       ","01","16","01","05","0116","000002301 - SAN SEBASTIAN                                                                                       ",null,"07","CHUMBIVILCAS","07 - CHUMBIVILCAS",null,"01","07","SAYLLA","0107","0107 - SAYLLA",null,1348,"UE - SALUD CUSCO NORTE","1348 - UE - SALUD CUSCO NORTE"]
[null,null,null,"09-Setiembre",null,null,null,null,null,"01","16","CUSCO","0116 - CUSCO",null,"000002303","SANTA ROSA                                                                                          ","01","16","01","05","0116","000002303 - SANTA ROSA                                                                                          ",null,"08","ESPINAR","08 - ESPINAR",null,"01","08","WANCHAQ","0108","0108 - WANCHAQ",null,1547,"UE - HOSPITAL ESPINAR","1547 - UE - HOSPITAL ESPINAR"]
[null,null,null,"10-Octubre",null,null,null,null,null,"01","99","(All)","0199 - (All)",null,"000002314","SAYLLA                                                                                              ","01","16","01","07","0116","000002314 - SAYLLA                                                                                              ",null,"09","LA CONVENCION","09 - LA CONVENCION",null,"02","00","(All)","0200","0200 - (All)",null,1625,"UE - HOSPITAL SICUANI","1625 - UE - HOSPITAL SICUANI"]
[null,null,null,"11-Noviembre",null,null,null,null,null,"02","01","BELEMPAMPA                                                                                          ","0201 - BELEMPAMPA                                                                                          ",null,"000002323","RONDOCAN                                                                                            ","01","16","02","06","0116","000002323 - RONDOCAN                                                                                            ",null,"10","PARURO","10 - PARURO",null,"02","01","ACOMAYO","0201","0201 - ACOMAYO",null,1626,"UE - HOSPITAL QUILLABAMBA","1626 - UE - HOSPITAL QUILLABAMBA"]
[null,null,null,"12-Diciembre",null,null,null,null,null,"02","02","WANCHAQ                                                                                             ","0202 - WANCHAQ                                                                                             ",null,"000007699","CONCHACALLE                                                                                         ","01","16","01","04","0116","000007699 - CONCHACALLE                                                                                         ",null,"11","PAUCARTAMBO","11 - PAUCARTAMBO",null,"02","02","ACOPIA","0202","0202 - ACOPIA",null,1666,"UE - SALUD CHUMBIVILCAS","1666 - UE - SALUD CHUMBIVILCAS"]
[null,null,null,null,null,null,null,null,null,"02","03","ANTA                                                                                                ","0203 - ANTA                                                                                                ",null,"000010065","ESSALUD-SAN SEBASTIAN","01","16","01","05","0116","000010065 - ESSALUD-SAN SEBASTIAN",null,"12","QUISPICANCHI","12 - QUISPICANCHI",null,"02","03","ACOS","0203","0203 - ACOS",null,"7777","(All)",{"$f":"CONCATENATE(AH22,\" - \",AI22)","v":"7777 - (All)"}]
[null,null,null,null,null,null,null,null,null,"02","04","LIMATAMBO                                                                                           ","0204 - LIMATAMBO                                                                                           ",null,"000011743","SANIDAD-SANTA ROSA PNP","01","16","01","05","0116","000011743 - SANIDAD-SANTA ROSA PNP",null,"13","URUBAMBA","13 - URUBAMBA",null,"02","04","MOSOC LLACTA","0204","0204 - MOSOC LLACTA"]
[null,null,null,null,null,null,null,null,null,"02","05","PISAC                                                                                               ","0205 - PISAC                                                                                               ",null,"000026181","MENTAL SAN SEBASTIAN","01","16","01","05","0116","000026181 - MENTAL SAN SEBASTIAN",null,null,null,null,null,"02","05","POMACANCHI","0205","0205 - POMACANCHI"]
[null,null,null,null,null,null,null,null,null,"02","06","CALCA                                                                                               ","0206 - CALCA                                                                                               ",null,"000030727","PATRÓN SAN SEBASTIAN","01","16","01","04",{"$f":"CONCATENATE(Q25,R25)","v":"0116"},"000030727 - PATRÓN SAN SEBASTIAN",null,null,null,null,null,"02","06","RONDOCAN","0206","0206 - RONDOCAN"]
[null,null,null,null,null,null,null,null,null,"02","07","URUBAMBA                                                                                            ","0207 - URUBAMBA                                                                                            ",null,"000000000","(All)","01","03",null,null,{"$f":"CONCATENATE(Q26,R26)","v":"0103"},{"$f":"CONCATENATE(O26,\" - \",P26)","v":"000000000 - (All)"},null,null,null,null,null,"02","07","SANGARARA","0207","0207 - SANGARARA"]
[null,null,null,null,null,null,null,null,null,"02","08","YANATILE                                                                                            ","0208 - YANATILE                                                                                            ",null,"000002499","PARURO                                                                                              ","01","03",10,"01","0103","000002499 - PARURO                                                                                              ",null,null,null,null,null,"03","00","(All)","0300","0300 - (All)"]
[null,null,null,null,null,null,null,null,null,"02","09","SIETE CUARTONES                                                                                     ","0209 - SIETE CUARTONES                                                                                     ",null,"000002500","ACCHA                                                                                               ","01","03",10,"02","0103","000002500 - ACCHA                                                                                               ",null,null,null,null,null,"03","01","ANTA","0301","0301 - ANTA"]
[null,null,null,null,null,null,null,null,null,"02","99","(All)","0299 - (All)",null,"000002501","CCAPI                                                                                               ","01","03",10,"03","0103","000002501 - CCAPI                                                                                               ",null,null,null,null,null,"03","02","ANCAHUASI","0302","0302 - ANCAHUASI"]
[null,null,null,null,null,null,null,null,null,"03","00","HOSPITAL","0300 - HOSPITAL",null,"000002502","CCOYABAMBA                                                                                          ","01","03",10,"03","0103","000002502 - CCOYABAMBA                                                                                          ",null,null,null,null,null,"03","03","CACHIMAYO","0303","0303 - CACHIMAYO"]
[null,null,null,null,null,null,null,null,null,"03","01","SANTA ANA                                                                                           ","0301 - SANTA ANA                                                                                           ",null,"000002503","COLCHA                                                                                              ","01","03",10,"04","0103","000002503 - COLCHA                                                                                              ",null,null,null,null,null,"03","04","CHINCHAYPUJIO","0304","0304 - CHINCHAYPUJIO"]
[null,null,null,null,null,null,null,null,null,"03","02","MARANURA                                                                                            ","0302 - MARANURA                                                                                            ",null,"000002504","HUANOQUITE                                                                                          ","01","03",10,"05","0103","000002504 - HUANOQUITE                                                                                          ",null,null,null,null,null,"03","05","HUAROCONDO","0305","0305 - HUAROCONDO"]
[null,null,null,null,null,null,null,null,null,"03","03","QUELLOUNO                                                                                           ","0303 - QUELLOUNO                                                                                           ",null,"000002505","OMACHA                                                                                              ","01","03",10,"06","0103","000002505 - OMACHA                                                                                              ",null,null,null,null,null,"03","06","LIMATAMBO","0306","0306 - LIMATAMBO"]
[null,null,null,null,null,null,null,null,null,"03","04","KITENI                                                                                              ","0304 - KITENI                                                                                              ",null,"000002506","ANTAPALLPA                                                                                          ","01","03",10,"06","0103","000002506 - ANTAPALLPA                                                                                          ",null,null,null,null,null,"03","07","MOLLEPATA","0307","0307 - MOLLEPATA"]
[null,null,null,null,null,null,null,null,null,"03","05","KAMISEA                                                                                             ","0305 - KAMISEA                                                                                             ",null,"000002507","PACCARECTAMBO                                                                                       ","01","03",10,"07","0103","000002507 - PACCARECTAMBO                                                                                       ",null,null,null,null,null,"03","08","PUCYURA","0308","0308 - PUCYURA"]
[null,null,null,null,null,null,null,null,null,"03","06","PUCYURA                                                                                             ","0306 - PUCYURA                                                                                             ",null,"000002509","YAURISQUE                                                                                           ","01","03",10,"09","0103","000002509 - YAURISQUE                                                                                           ",null,null,null,null,null,"03","09","ZURITE","0309","0309 - ZURITE"]
[null,null,null,null,null,null,null,null,null,"03","99","(All)","0399 - (All)",null,"000006978","CCOCHIRIHUAY                                                                                        ","01","03",10,"04","0103","000006978 - CCOCHIRIHUAY                                                                                        ",null,null,null,null,null,"04","00","(All)","0400","0400 - (All)"]
[null,null,null,null,null,null,null,null,null,"04","00","HOSPITAL","0400 - HOSPITAL",null,"000007147","HUASQUILLAY                                                                                         ","01","03",10,"06","0103","000007147 - HUASQUILLAY                                                                                         ",null,null,null,null,null,"04","01","CALCA","0401","0401 - CALCA"]
[null,null,null,null,null,null,null,null,null,"04","01","YANAOCA                                                                                             ","0401 - YANAOCA                                                                                             ",null,"000012924","SAHUA SAHUA                                                                                         ","01","03",10,"06","0103","000012924 - SAHUA SAHUA                                                                                         ",null,null,null,null,null,"04","02","COYA","0402","0402 - COYA"]
[null,null,null,null,null,null,null,null,null,"04","02","EL DESCANSO                                                                                         ","0402 - EL DESCANSO                                                                                         ",null,"000000000","(All)","01","06",null,null,"0106","000000000 - (All)",null,null,null,null,null,"04","03","LAMAY","0403","0403 - LAMAY"]
[null,null,null,null,null,null,null,null,null,"04","03","COMBAPATA                                                                                           ","0403 - COMBAPATA                                                                                           ",null,"000002510","PAUCARTAMBO                                                                                         ","01","06",11,"01","0106","000002510 - PAUCARTAMBO                                                                                         ",null,null,null,null,null,"04","04","LARES","0404","0404 - LARES"]
[null,null,null,null,null,null,null,null,null,"04","04","TECHO OBRERO                                                                                        ","0404 - TECHO OBRERO                                                                                        ",null,"000002511","MOLLOMARCA                                                                                          ","01","06",11,"01","0106","000002511 - MOLLOMARCA                                                                                          ",null,null,null,null,null,"04","05","PISAC","0405","0405 - PISAC"]
[null,null,null,null,null,null,null,null,null,"04","05","PAMPAPHALLA                                                                                         ","0405 - PAMPAPHALLA                                                                                         ",null,"000002512","CAICAY                                                                                              ","01","06",11,"02","0106","000002512 - CAICAY                                                                                              ",null,null,null,null,null,"04","06","SAN SALVADOR","0406","0406 - SAN SALVADOR"]
[null,null,null,null,null,null,null,null,null,"04","06","YAURI                                                                                               ","0406 - YAURI                                                                                               ",null,"000002513","HUASAC                                                                                              ","01","06",11,"02","0106","000002513 - HUASAC                                                                                              ",null,null,null,null,null,"04","07","TARAY","0407","0407 - TARAY"]
[null,null,null,null,null,null,null,null,null,"04","99","(All)","0499 - (All)",null,"000002514","CHALLABAMBA                                                                                         ","01","06",11,"03","0106","000002514 - CHALLABAMBA                                                                                         ",null,null,null,null,null,"04","08","YANATILE","0408","0408 - YANATILE"]
[null,null,null,null,null,null,null,null,null,"05","00","HOSPITAL","0500 - HOSPITAL",null,"000002516","COLQUEPATA                                                                                          ","01","06",11,"04","0106","000002516 - COLQUEPATA                                                                                          ",null,null,null,null,null,"05","00","(All)","0500","0500 - (All)"]
[null,null,null,null,null,null,null,null,null,"05","01","KIMBIRI                                                                                             ","0501 - KIMBIRI                                                                                             ",null,"000002517","PICHIHUA COLQUEPATA                                                                                 ","01","06",11,"04","0106","000002517 - PICHIHUA COLQUEPATA                                                                                 ",null,null,null,null,null,"05","01","YANAOCA","0501","0501 - YANAOCA"]
[null,null,null,null,null,null,null,null,null,"05","02","PICHARI                                                                                             ","0502 - PICHARI                                                                                             ",null,"000002518","VIZCOCHONI                                                                                          ","01","06",11,"04","0106","000002518 - VIZCOCHONI                                                                                          ",null,null,null,null,null,"05","02","CHECCA","0502","0502 - CHECCA"]
[null,null,null,null,null,null,null,null,null,"05","99","(All)","0599 - (All)",null,"000002519","AYRE                                                                                                ","01","06",11,"04","0106","000002519 - AYRE                                                                                                ",null,null,null,null,null,"05","03","KUNTURKANKI","0503","0503 - KUNTURKANKI"]
[null,null,null,null,null,null,null,null,null,"06","00","HOSPITAL","0600 - HOSPITAL",null,"000002520","HUANCARANI                                                                                          ","01","06",11,"05","0106","000002520 - HUANCARANI                                                                                          ",null,null,null,null,null,"05","04","LANGUI","0504","0504 - LANGUI"]
[null,null,null,null,null,null,null,null,null,"06","09","SANTO TOMAS                                                                                         ","0609 - SANTO TOMAS                                                                                         ",null,"000002521","PILCOPATA                                                                                           ","01","06",11,"06","0106","000002521 - PILCOPATA                                                                                           ",null,null,null,null,null,"05","05","LAYO","0505","0505 - LAYO"]
[null,null,null,null,null,null,null,null,null,"06","01","LIVITACA                                                                                            ","0601 - LIVITACA                                                                                            ",null,"000002522","PATRIA                                                                                              ","01","06",11,"06","0106","000002522 - PATRIA                                                                                              ",null,null,null,null,null,"05","06","PAMPAMARCA","0506","0506 - PAMPAMARCA"]
[null,null,null,null,null,null,null,null,null,"06","99","(All)","0699 - (All)",null,"000006979","TOCRA                                                                                               ","01","06",11,"04","0106","000006979 - TOCRA                                                                                               ",null,null,null,null,null,"05","07","QUEHUE","0507","0507 - QUEHUE"]
[null,null,null,null,null,null,null,null,null,"07","00","HOSPITAL","0700 - HOSPITAL",null,"000010077","ESSALUD-PAUCARTAMBO","01","06",11,"01","0106","000010077 - ESSALUD-PAUCARTAMBO",null,null,null,null,null,"05","08","TUPAC AMARU","0508","0508 - TUPAC AMARU"]
[null,null,null,null,null,null,null,null,null,"99","99","(All)",{"$f":"CONCATENATE(J55,K55,\" - \",L55)","v":"9999 - (All)"},null,"000033777","MENTAL COMUNITARIO VIRGEN DEL ROSARIO","01","06",11,"01",{"$f":"CONCATENATE(Q55,R55)","v":"0106"},{"$f":"CONCATENATE(O55,\" - \",P55)","v":"000033777 - MENTAL COMUNITARIO VIRGEN DEL ROSARIO"},null,null,null,null,null,"06","00","(All)","0600","0600 - (All)"]
[null,null,null,null,null,null,null,null,null,null,null,null,null,null,"000000000","(All)","01","12",null,null,{"$f":"CONCATENATE(Q56,R56)","v":"0112"},{"$f":"CONCATENATE(O56,\" - \",P56)","v":"000000000 - (All)"},null,null,null,null,null,"06","01","SICUANI","0601","0601 - SICUANI"]
[null,null,null,null,null,null,null,null,null,null,null,null,null,null,"000002523","URCOS                                                                                               ","01","12",12,"01","0112","000002523 - URCOS                                                                                               ",null,null,null,null,null,"06","02","CHECACUPE","0602","0602 - CHECACUPE"]
[null,null,null,null,null,null,null,null,null,null,null,null,null,null,"000002525","ANDAHUAYLILLAS                                                                                      ","01","12",12,"02","0112","000002525 - ANDAHUAYLILLAS                                                                                      ",null,null,null,null,null,"06","03","COMBAPATA","0603","0603 - COMBAPATA"]
[null,null,null,null,null,null,null,null,null,null,null,null,null,null,"000002530","CUSIPATA                                                                                            ","01","12",12,"06","0112","000002530 - CUSIPATA                                                                                            ",null,null,null,null,null,"06","04","MARANGANI","0604","0604 - MARANGANI"]
[null,null,null,null,null,null,null,null,null,null,null,null,null,null,"000002532","HUARO                                                                                               ","01","12",12,"07","0112","000002532 - HUARO                                                                                               ",null,null,null,null,null,"06","05","PITUMARCA","0605","0605 - PITUMARCA"]
[null,null,null,null,null,null,null,null,null,null,null,null,null,null,"000002533","URPAY                                                                                               ","01","12",12,"07","0112","000002533 - URPAY                                                                                               ",null,null,null,null,null,"06","06","SAN PABLO","0606","0606 - SAN PABLO"]
[null,null,null,null,null,null,null,null,null,null,null,null,null,null,"000002534","LUCRE                                                                                               ","01","12",12,"08","0112","000002534 - LUCRE                                                                                               ",null,null,null,null,null,"06","07","SAN PEDRO","0607","0607 - SAN PEDRO"]
[null,null,null,null,null,null,null,null,null,null,null,null,null,null,"000002537","OROPESA                                                                                             ","01","12",12,11,"0112","000002537 - OROPESA                                                                                             ",null,null,null,null,null,"06","08","TINTA","0608","0608 - TINTA"]
[null,null,null,null,null,null,null,null,null,null,null,null,null,null,"000002538","QUIQUIJANA                                                                                          ","01","12",12,12,"0112","000002538 - QUIQUIJANA                                                                                          ",null,null,null,null,null,"07","00","(All)","0700","0700 - (All)"]
[null,null,null,null,null,null,null,null,null,null,null,null,null,null,"000002539","CCOLCA","01","12",12,12,"0112","000002539 - CCOLCA",null,null,null,null,null,"07","01","SANTO TOMAS","0701","0701 - SANTO TOMAS"]
[null,null,null,null,null,null,null,null,null,null,null,null,null,null,"000006980","CHILLIHUANI                                                                                         ","01","12",12,"06","0112","000006980 - CHILLIHUANI                                                                                         ",null,null,null,null,null,"07","02","CAPACMARCA","0702","0702 - CAPACMARCA"]
[null,null,null,null,null,null,null,null,null,null,null,null,null,null,"000008911","HUARA HUARA                                                                                         ","01","12",12,"05","0112","000008911 - HUARA HUARA                                                                                         ",null,null,null,null,null,"07","03","CHAMACA","0703","0703 - CHAMACA"]
[null,null,null,null,null,null,null,null,null,null,null,null,null,null,"000011747","SANIDAD-PUCUTO PNP","01","12",12,"07","0112","000011747 - SANIDAD-PUCUTO PNP",null,null,null,null,null,"07","04","COLQUEMARCA","0704","0704 - COLQUEMARCA"]
[null,null,null,null,null,null,null,null,null,null,null,null,null,null,"000026385","ESSALUD-URCOS","01","12",12,"01","0112","000026385 - ESSALUD-URCOS",null,null,null,null,null,"07","05","LIVITACA","0705","0705 - LIVITACA"]
[null,null,null,null,null,null,null,null,null,null,null,null,null,null,"000030708","MENTAL COMUNITARIO HUARO","01","12",12,"07","0112","000030708 - MENTAL COMUNITARIO HUARO",null,null,null,null,null,"07","06","LLUSCO","0706","0706 - LLUSCO"]
[null,null,null,null,null,null,null,null,null,null,null,null,null,null,"000000000","(All)","01","13",null,null,"0113","000000000 - (All)",null,null,null,null,null,"07","07","QUIÑOTA","0707","0707 - QUIÑOTA"]
[null,null,null,null,null,null,null,null,null,null,null,null,null,null,"000002317","ACOMAYO                                                                                             ","01","13","02","01","0113","000002317 - ACOMAYO                                                                                             ",null,null,null,null,null,"07","08","VELILLE","0708","0708 - VELILLE"]
[null,null,null,null,null,null,null,null,null,null,null,null,null,null,"000002318","ACOPIA                                                                                              ","01","13","02","02","0113","000002318 - ACOPIA                                                                                              ",null,null,null,null,null,"08","00","(All)","0800","0800 - (All)"]
[null,null,null,null,null,null,null,null,null,null,null,null,null,null,"000002319","ACOS                                                                                                ","01","13","02","03","0113","000002319 - ACOS                                                                                                ",null,null,null,null,null,"08","01","ESPINAR","0801","0801 - ESPINAR"]
[null,null,null,null,null,null,null,null,null,null,null,null,null,null,"000002321","CENTRO DE SALUD POMACANCHI","01","13","02","05","0113","000002321 - CENTRO DE SALUD POMACANCHI",null,null,null,null,null,"08","02","CONDOROMA",{"$f":"CONCATENATE(AB75,AC75)","v":"0802"},{"$f":"CONCATENATE(AB75,AC75,\" - \",AD75)","v":"0802 - CONDOROMA"}]
[null,null,null,null,null,null,null,null,null,null,null,null,null,null,"000002322","SAN JUAN DE POMACANCHI                                                                              ","01","13","02","05","0113","000002322 - SAN JUAN DE POMACANCHI                                                                              ",null,null,null,null,null,"08","03","COPORAQUE","0803","0803 - COPORAQUE"]
[null,null,null,null,null,null,null,null,null,null,null,null,null,null,"000002324","PUESTO DE SALUD SANGARARA","01","13","02","07","0113","000002324 - PUESTO DE SALUD SANGARARA",null,null,null,null,null,"08","04","OCORURO","0804","0804 - OCORURO"]
[null,null,null,null,null,null,null,null,null,null,null,null,null,null,"000002325","PUESTO DE SALUD MARCACONGA","01","13","02","07","0113","000002325 - PUESTO DE SALUD MARCACONGA",null,null,null,null,null,"08","05","PALLPATA","0805","0805 - PALLPATA"]
[null,null,null,null,null,null,null,null,null,null,null,null,null,null,"000002508","PILLPINTO                                                                                           ","01","13",10,"08","0113","000002508 - PILLPINTO                                                                                           ",null,null,null,null,null,"08","06","PICHIGUA","0806","0806 - PICHIGUA"]
[null,null,null,null,null,null,null,null,null,null,null,null,null,null,"000010076","ESSALUD-ACOMAYO","01","13","02","01","0113","000010076 - ESSALUD-ACOMAYO",null,null,null,null,null,"08","07","SUYCKUTAMBO","0807","0807 - SUYCKUTAMBO"]
[null,null,null,null,null,null,null,null,null,null,null,null,null,null,"000012926","SANTA  LUCIA                                                                                        ","01","13","02","05","0113","000012926 - SANTA  LUCIA                                                                                        ",null,null,null,null,null,"08","08","ALTO PICHIGUA","0808","0808 - ALTO PICHIGUA"]
[null,null,null,null,null,null,null,null,null,null,null,null,null,null,"000000000","(All)","01","15",null,null,"0115","000000000 - (All)",null,null,null,null,null,"09","00","(All)","0900","0900 - (All)"]
[null,null,null,null,null,null,null,null,null,null,null,null,null,null,"000002524","PAMPACAMARA                                                                                         ","01","15",12,"05","0115","000002524 - PAMPACAMARA                                                                                         ",null,null,null,null,null,"09","01","SANTA ANA","0901","0901 - SANTA ANA"]
[null,null,null,null,null,null,null,null,null,null,null,null,null,null,"000002526","QUINCE MIL","01","15",12,"03","0115",{"$f":"CONCATENATE(O84,\" - \",P84)","v":"000002526 - QUINCE MIL"},null,null,null,null,null,"09","02","ECHARATE","0902","0902 - ECHARATE"]
[null,null,null,null,null,null,null,null,null,null,null,null,null,null,"000002527","CCARHUAYO","01","15",12,"04","0115","000002527 - CCARHUAYO",null,null,null,null,null,"09","03","HUAYOPATA","0903","0903 - HUAYOPATA"]
[null,null,null,null,null,null,null,null,null,null,null,null,null,null,"000002528","CCATCCA                                                                                             ","01","15",12,"05",{"$f":"CONCATENATE(Q86,R86)","v":"0115"},"000002528 - CCATCCA                                                                                             ",null,null,null,null,null,"09","04","MARANURA","0904","0904 - MARANURA"]
[null,null,null,null,null,null,null,null,null,null,null,null,null,null,"000002529","KCAURY                                                                                              ","01","15",12,"05","0115","000002529 - KCAURY                                                                                              ",null,null,null,null,null,"09","05","OCOBAMBA","0905","0905 - OCOBAMBA"]
[null,null,null,null,null,null,null,null,null,null,null,null,null,null,"000002535","MARCAPATA                                                                                           ","01","15",12,"09","0115","000002535 - MARCAPATA                                                                                           ",null,null,null,null,null,"09","06","QUELLOUNO","0906","0906 - QUELLOUNO"]
[null,null,null,null,null,null,null,null,null,null,null,null,null,null,"000002536","OCONGATE                                                                                            ","01","15",12,10,"0115","000002536 - OCONGATE                                                                                            ",null,null,null,null,null,"09","07","KIMBIRI","0907","0907 - KIMBIRI"]
[null,null,null,null,null,null,null,null,null,null,null,null,null,null,"000006977","TINKI                                                                                               ","01","15",12,10,"0115","000006977 - TINKI                                                                                               ",null,null,null,null,null,"09","08","SANTA TERESA","0908","0908 - SANTA TERESA"]
[null,null,null,null,null,null,null,null,null,null,null,null,null,null,"000007110","INCACANCHA                                                                                          ","01","15",12,"09","0115","000007110 - INCACANCHA                                                                                          ",null,null,null,null,null,"09","09","VILCABAMBA","0909","0909 - VILCABAMBA"]
[null,null,null,null,null,null,null,null,null,null,null,null,null,null,"000012931","CHICHINA                                                                                            ","01","15",12,"05","0115","000012931 - CHICHINA                                                                                            ",null,null,null,null,null,"09","10","PICHARI","0910","0910 - PICHARI"]
[null,null,null,null,null,null,null,null,null,null,null,null,null,null,"000016335","CCAPANA                                                                                             ","01","15",12,"05","0115","000016335 - CCAPANA                                                                                             ",null,null,null,null,null,"09","11","INKAWASI                                ","0911","0911 - INKAWASI                                "]
[null,null,null,null,null,null,null,null,null,null,null,null,null,null,"999999999","(All)","01","99",null,null,"0199","999999999 - (All)",null,null,null,null,null,"09","12","VILLA VIRGEN","0912","0912 - VILLA VIRGEN"]
[null,null,null,null,null,null,null,null,null,null,null,null,null,null,"000000000","(All)","02","01",null,null,"0201","000000000 - (All)",null,null,null,null,null,"09","13","VILLA KINTIARINA","0913","0913 - VILLA KINTIARINA"]
[null,null,null,null,null,null,null,null,null,null,null,null,null,null,"000002292","INDEPENDENCIA                                                                                       ","02","01","01","01","0201","000002292 - INDEPENDENCIA                                                                                       ",null,null,null,null,null,"09","14","MEGANTONI","0914","0914 - MEGANTONI"]
[null,null,null,null,null,null,null,null,null,null,null,null,null,null,"000002297","CCORCCA                                                                                             ","02","01","01","02","0201","000002297 - CCORCCA                                                                                             ",null,null,null,null,null,"09","15","KUMPIRUSHIATO",{"$f":"CONCATENATE(AB97,AC97)","v":"0915"},{"$f":"CONCATENATE(AB97,AC97,\" - \",AD97)","v":"0915 - KUMPIRUSHIATO"}]
[null,null,null,null,null,null,null,null,null,null,null,null,null,null,"000002306","BELEMPAMPA                                                                                          ","02","01","01","06","0201","000002306 - BELEMPAMPA                                                                                          ",null,null,null,null,null,"09","16","CIELO PUNCO","0916","0916 - CIELO PUNCO"]
[null,null,null,null,null,null,null,null,null,null,null,null,null,null,"000002308","ZARZUELA ALTA                                                                                       ","02","01","01","06","0201","000002308 - ZARZUELA ALTA                                                                                       ",null,null,null,null,null,"09","17","MANITEA","0917","0917 - MANITEA"]
[null,null,null,null,null,null,null,null,null,null,null,null,null,null,"000002309","DIGNIDAD NACIONAL                                                                                   ","02","01","01","06","0201","000002309 - DIGNIDAD NACIONAL                                                                                   ",null,null,null,null,null,"09","18","UNION ASHANINKA","0918","0918 - UNION ASHANINKA"]
[null,null,null,null,null,null,null,null,null,null,null,null,null,null,"000002313","OCCOPATA                                                                                            ","02","01","01","06","0201","000002313 - OCCOPATA                                                                                            ",null,null,null,null,null,"10","00","(All)","1000","1000 - (All)"]
[null,null,null,null,null,null,null,null,null,null,null,null,null,null,"000010067","ESSALUD-SANTIAGO","02","01","01","06","0201","000010067 - ESSALUD-SANTIAGO",null,null,null,null,null,"10","01","PARURO","1001","1001 - PARURO"]
[null,null,null,null,null,null,null,null,null,null,null,null,null,null,"000010920","EJERCITO-QUINTA BRIGADA DE MONTAÑA","02","01","01","06","0201","000010920 - EJERCITO-QUINTA BRIGADA DE MONTAÑA",null,null,null,null,null,"10","02","ACCHA",{"$f":"CONCATENATE(AB103,AC103)","v":"1002"},{"$f":"CONCATENATE(AB103,AC103,\" - \",AD103)","v":"1002 - ACCHA"}]
[null,null,null,null,null,null,null,null,null,null,null,null,null,null,"000026182","MENTAL SANTIAGO","02","01","01","06","0201","000026182 - MENTAL SANTIAGO",null,null,null,null,null,"10","03","CCAPI","1003","1003 - CCAPI"]
[null,null,null,null,null,null,null,null,null,null,null,null,null,null,"000000000","(All)","02","02",null,null,"0202","000000000 - (All)",null,null,null,null,null,"10","04","COLCHA","1004","1004 - COLCHA"]
[null,null,null,null,null,null,null,null,null,null,null,null,null,null,"000002302","CCORAO                                                                                              ","02","02","01","05","0202","000002302 - CCORAO                                                                                              ",null,null,null,null,null,"10","05","HUANOQUITE","1005","1005 - HUANOQUITE"]
[null,null,null,null,null,null,null,null,null,null,null,null,null,null,"000002307","MANCO CAPAC","02","02","01","06","0202","000002307 - MANCO CAPAC",null,null,null,null,null,"10","06","OMACHA","1006","1006 - OMACHA"]
[null,null,null,null,null,null,null,null,null,null,null,null,null,null,"000002310","CHOCCO                                                                                              ","02","02","01","06","0202","000002310 - CHOCCO                                                                                              ",null,null,null,null,null,"10","07","PACCARITAMBO","1007","1007 - PACCARITAMBO"]
[null,null,null,null,null,null,null,null,null,null,null,null,null,null,"000002315","WANCHAQ                                                                                             ","02","02","01","08","0202","000002315 - WANCHAQ                                                                                             ",null,null,null,null,null,"10","08","PILLPINTO","1008","1008 - PILLPINTO"]
[null,null,null,null,null,null,null,null,null,null,null,null,null,null,"000002316","TTIO                                                                                                ","02","02","01","08","0202","000002316 - TTIO                                                                                                ",null,null,null,null,null,"10","09","YAURISQUE","1009","1009 - YAURISQUE"]
[null,null,null,null,null,null,null,null,null,null,null,null,null,null,"000010041","ESSALUD-ADOLFO GUEVARA V.","02","02","01","08","0202","000010041 - ESSALUD-ADOLFO GUEVARA V.",null,null,null,null,null,"11","00","(All)","1100","1100 - (All)"]
[null,null,null,null,null,null,null,null,null,null,null,null,null,null,"000026183","ESSALUD-METROPOLITANO","02","02","01","08","0202","000026183 - ESSALUD-METROPOLITANO",null,null,null,null,null,"11","01","PAUCARTAMBO","1101","1101 - PAUCARTAMBO"]
[null,null,null,null,null,null,null,null,null,null,null,null,null,null,"000030730","PATRON SANTIAGO","02","02","01","08","0202","000030730 - PATRON SANTIAGO",null,null,null,null,null,"11","02","CAICAY","1102","1102 - CAICAY"]
[null,null,null,null,null,null,null,null,null,null,null,null,null,null,"000034419","MENTAL COMUNITARIO CUSCO","02","02","01","08",{"$f":"CONCATENATE(Q114,R114)","v":"0202"},"000034419 - MENTAL COMUNITARIO CUSCO",null,null,null,null,null,"11","03","CHALLABAMBA",{"$f":"CONCATENATE(AB114,AC114)","v":"1103"},{"$f":"CONCATENATE(AB114,AC114,\" - \",AD114)","v":"1103 - CHALLABAMBA"}]
[null,null,null,null,null,null,null,null,null,null,null,null,null,null,"000000000","(All)","02","03",null,null,"0203","000000000 - (All)",null,null,null,null,null,"11","04","COLQUEPATA","1104","1104 - COLQUEPATA"]
[null,null,null,null,null,null,null,null,null,null,null,null,null,null,"000002326","ANTA                                                                                                ","02","03","03","01","0203","000002326 - ANTA                                                                                                ",null,null,null,null,null,"11","05","HUANCARANI","1105","1105 - HUANCARANI"]
[null,null,null,null,null,null,null,null,null,null,null,null,null,null,"000002327","CHACAN                                                                                              ","02","03","03","01","0203","000002327 - CHACAN                                                                                              ",null,null,null,null,null,"11","06","KOSÑIPATA","1106","1106 - KOSÑIPATA"]
[null,null,null,null,null,null,null,null,null,null,null,null,null,null,"000002328","COMPONE                                                                                             ","02","03","03","01","0203","000002328 - COMPONE                                                                                             ",null,null,null,null,null,"12","00","(All)","1200","1200 - (All)"]
[null,null,null,null,null,null,null,null,null,null,null,null,null,null,"000002329","CONCHACALLA                                                                                         ","02","03","03","01","0203","000002329 - CONCHACALLA                                                                                         ",null,null,null,null,null,"12","01","URCOS","1201","1201 - URCOS"]
[null,null,null,null,null,null,null,null,null,null,null,null,null,null,"000002330","ANCAHUASI                                                                                           ","02","03","03","02","0203","000002330 - ANCAHUASI                                                                                           ",null,null,null,null,null,"12","02","ANDAHUAYLILLAS","1202","1202 - ANDAHUAYLILLAS"]
[null,null,null,null,null,null,null,null,null,null,null,null,null,null,"000002331","CACHIMAYO                                                                                           ","02","03","03","03","0203","000002331 - CACHIMAYO                                                                                           ",null,null,null,null,null,"12","03","CAMANTI","1203","1203 - CAMANTI"]
[null,null,null,null,null,null,null,null,null,null,null,null,null,null,"000002332","CHINCHAYPUJIO                                                                                       ","02","03","03","04","0203","000002332 - CHINCHAYPUJIO                                                                                       ",null,null,null,null,null,"12","04","CCARHUAYO","1204","1204 - CCARHUAYO"]
[null,null,null,null,null,null,null,null,null,null,null,null,null,null,"000002333","HUAROCONDO                                                                                          ","02","03","03","05","0203","000002333 - HUAROCONDO                                                                                          ",null,null,null,null,null,"12","05","CCATCA","1205","1205 - CCATCA"]
[null,null,null,null,null,null,null,null,null,null,null,null,null,null,"000002334","HUAYLLACOCHA                                                                                        ","02","03","03","05","0203","000002334 - HUAYLLACOCHA                                                                                        ",null,null,null,null,null,"12","06","CUSIPATA","1206","1206 - CUSIPATA"]
[null,null,null,null,null,null,null,null,null,null,null,null,null,null,"000002339","PUCYURA ANTA                                                                                        ","02","03","03","08","0203","000002339 - PUCYURA ANTA                                                                                        ",null,null,null,null,null,"12","07","HUARO","1207","1207 - HUARO"]
[null,null,null,null,null,null,null,null,null,null,null,null,null,null,"000002340","ZURITE                                                                                              ","02","03","03","09","0203","000002340 - ZURITE                                                                                              ",null,null,null,null,null,"12","08","LUCRE","1208","1208 - LUCRE"]
[null,null,null,null,null,null,null,null,null,null,null,null,null,null,"000006972","PANTIPATA                                                                                           ","02","03","03","04","0203","000006972 - PANTIPATA                                                                                           ",null,null,null,null,null,"12","09","MARCAPATA","1209","1209 - MARCAPATA"]
[null,null,null,null,null,null,null,null,null,null,null,null,null,null,"000027790","MENTAL COMUNITARIO ANTA","02","03","03","01","0203","000027790 - MENTAL COMUNITARIO ANTA",null,null,null,null,null,"12","10","OCONGATE","1210","1210 - OCONGATE"]
[null,null,null,null,null,null,null,null,null,null,null,null,null,null,"000000000","(All)","02","04",null,null,"0204","000000000 - (All)",null,null,null,null,null,"12","11","OROPESA","1211","1211 - OROPESA"]
[null,null,null,null,null,null,null,null,null,null,null,null,null,null,"000002336","LIMATAMBO                                                                                           ","02","04","03","06","0204","000002336 - LIMATAMBO                                                                                           ",null,null,null,null,null,"12","12","QUIQUIJANA","1212","1212 - QUIQUIJANA"]
[null,null,null,null,null,null,null,null,null,null,null,null,null,null,"000002337","PAMPACONGA                                                                                          ","02","04","03","06","0204","000002337 - PAMPACONGA                                                                                          ",null,null,null,null,null,"13","00","(All)","1300","1300 - (All)"]
[null,null,null,null,null,null,null,null,null,null,null,null,null,null,"000002338","MOLLEPATA                                                                                           ","02","04","03","07","0204","000002338 - MOLLEPATA                                                                                           ",null,null,null,null,null,"13","01","URUBAMBA","1301","1301 - URUBAMBA"]
[null,null,null,null,null,null,null,null,null,null,null,null,null,null,"000010761","URATARI                                                                                             ","02","04","03","06","0204","000010761 - URATARI                                                                                             ",null,null,null,null,null,"13","02","CHINCHERO","1302","1302 - CHINCHERO"]
[null,null,null,null,null,null,null,null,null,null,null,null,null,null,"000021061","HUAMANPATA                                                                                          ","02","04","03","07","0204","000021061 - HUAMANPATA                                                                                          ",null,null,null,null,null,"13","03","HUAYLLABAMBA","1303","1303 - HUAYLLABAMBA"]
[null,null,null,null,null,null,null,null,null,null,null,null,null,null,"000000000","(All)","02","05",null,null,"0205","000000000 - (All)",null,null,null,null,null,"13","04","MACHUPICCHU","1304","1304 - MACHUPICCHU"]
[null,null,null,null,null,null,null,null,null,null,null,null,null,null,"000002343","COYA                                                                                                ","02","05","04","02","0205","000002343 - COYA                                                                                                ",null,null,null,null,null,"13","05","MARAS","1305","1305 - MARAS"]
[null,null,null,null,null,null,null,null,null,null,null,null,null,null,"000002344","LAMAY                                                                                               ","02","05","04","03","0205","000002344 - LAMAY                                                                                               ",null,null,null,null,null,"13","06","OLLANTAYTAMBO","1306","1306 - OLLANTAYTAMBO"]
[null,null,null,null,null,null,null,null,null,null,null,null,null,null,"000002348","PISAC                                                                                               ","02","05","04","05","0205","000002348 - PISAC                                                                                               ",null,null,null,null,null,"13","07","YUCAY","1307","1307 - YUCAY"]
[null,null,null,null,null,null,null,null,null,null,null,null,null,null,"000002349","CUYO CHICO                                                                                          ","02","05","04","05","0205","000002349 - CUYO CHICO                                                                                          ",null,null,null,null,null,"00","00","(All)","0000","0000 - (All)"]
[null,null,null,null,null,null,null,null,null,null,null,null,null,null,"000002350","CUYO GRANDE                                                                                         ","02","05","04","05","0205","000002350 - CUYO GRANDE                                                                                         "]
[null,null,null,null,null,null,null,null,null,null,null,null,null,null,"000002351","QUELLO QUELLO                                                                                       ","02","05","04","05","0205","000002351 - QUELLO QUELLO                                                                                       "]
[null,null,null,null,null,null,null,null,null,null,null,null,null,null,"000002352","SAN SALVADOR                                                                                        ","02","05","04","06","0205","000002352 - SAN SALVADOR                                                                                        "]
[null,null,null,null,null,null,null,null,null,null,null,null,null,null,"000002353","TARAY                                                                                               ","02","05","04","07","0205","000002353 - TARAY                                                                                               "]
[null,null,null,null,null,null,null,null,null,null,null,null,null,null,"000002354","HUANCALLE                                                                                           ","02","05","04","07","0205",{"$f":"CONCATENATE(O144,\" - \",P144)","v":"000002354 - HUANCALLE                                                                                           "}]
[null,null,null,null,null,null,null,null,null,null,null,null,null,null,"000006970","TIRACANCHA                                                                                          ","02","05","04","06",{"$f":"CONCATENATE(Q145,R145)","v":"0205"},"000006970 - TIRACANCHA                                                                                          "]
[null,null,null,null,null,null,null,null,null,null,null,null,null,null,"000006975","SAYLLAFAYA                                                                                          ","02","05","04","03","0205","000006975 - SAYLLAFAYA                                                                                          "]
[null,null,null,null,null,null,null,null,null,null,null,null,null,null,"000007145","HUAMA                                                                                               ","02","05","04","03","0205","000007145 - HUAMA                                                                                               "]
[null,null,null,null,null,null,null,null,null,null,null,null,null,null,"000007146","POQUES                                                                                              ","02","05","04","03","0205","000007146 - POQUES                                                                                              "]
[null,null,null,null,null,null,null,null,null,null,null,null,null,null,"000025368","HUARQUI","02","05","04","03","0205","000025368 - HUARQUI"]
[null,null,null,null,null,null,null,null,null,null,null,null,null,null,"000000000","(All)","02","06",null,null,"0206","000000000 - (All)"]
[null,null,null,null,null,null,null,null,null,null,null,null,null,null,"000002341","CALCA                                                                                               ","02","06","04","01","0206","000002341 - CALCA                                                                                               "]
[null,null,null,null,null,null,null,null,null,null,null,null,null,null,"000002342","AMPARAES                                                                                            ","02","06","04","04","0206","000002342 - AMPARAES                                                                                            "]
[null,null,null,null,null,null,null,null,null,null,null,null,null,null,"000002345","CCACHIN                                                                                             ","02","06","04","04","0206","000002345 - CCACHIN                                                                                             "]
[null,null,null,null,null,null,null,null,null,null,null,null,null,null,"000002346","CHOQUECANCHA                                                                                        ","02","06","04","04","0206","000002346 - CHOQUECANCHA                                                                                        "]
[null,null,null,null,null,null,null,null,null,null,null,null,null,null,"000002347","LARES                                                                                               ","02","06","04","04","0206","000002347 - LARES                                                                                               "]
[null,null,null,null,null,null,null,null,null,null,null,null,null,null,"000002361","SUYO                                                                                                ","02","06","04","04","0206","000002361 - SUYO                                                                                                "]
[null,null,null,null,null,null,null,null,null,null,null,null,null,null,"000002515","PAROBAMBA                                                                                           ","02","06",11,"03","0206","000002515 - PAROBAMBA                                                                                           "]
[null,null,null,null,null,null,null,null,null,null,null,null,null,null,"000007143","OTOCANI                                                                                             ","02","06",11,"03","0206","000007143 - OTOCANI                                                                                             "]
[null,null,null,null,null,null,null,null,null,null,null,null,null,null,"000007144","PATABAMBA                                                                                           ","02","06","04","07","0206","000007144 - PATABAMBA                                                                                           "]
[null,null,null,null,null,null,null,null,null,null,null,null,null,null,"000010069","ESSALUD-CALCA","02","06","04","01","0206","000010069 - ESSALUD-CALCA"]
[null,null,null,null,null,null,null,null,null,null,null,null,null,null,"000010759","HUARAN                                                                                              ","02","06","04","01","0206","000010759 - HUARAN                                                                                              "]
[null,null,null,null,null,null,null,null,null,null,null,null,null,null,"000010762","ACCHA ALTA - PAMPALLACTA                                                                            ","02","06","04","01","0206","000010762 - ACCHA ALTA - PAMPALLACTA                                                                            "]
[null,null,null,null,null,null,null,null,null,null,null,null,null,null,"000026273","MENTAL COMUNITARIO CALCA","02","06","04","01","0206","000026273 - MENTAL COMUNITARIO CALCA"]
[null,null,null,null,null,null,null,null,null,null,null,null,null,null,"000000000","(All)","02","07",null,null,"0207","000000000 - (All)"]
[null,null,null,null,null,null,null,null,null,null,null,null,null,null,"000002540","URUBAMBA                                                                                            ","02","07",13,"01","0207","000002540 - URUBAMBA                                                                                            "]
[null,null,null,null,null,null,null,null,null,null,null,null,null,null,"000002541","YANAHUARA                                                                                           ","02","07",13,"01","0207","000002541 - YANAHUARA                                                                                           "]
[null,null,null,null,null,null,null,null,null,null,null,null,null,null,"000002543","CHINCHERO                                                                                           ","02","07",13,"02","0207","000002543 - CHINCHERO                                                                                           "]
[null,null,null,null,null,null,null,null,null,null,null,null,null,null,"000002544","OCCOTUAN                                                                                            ","02","07",13,"02","0207","000002544 - OCCOTUAN                                                                                            "]
[null,null,null,null,null,null,null,null,null,null,null,null,null,null,"000002545","HUAYLLABAMBA                                                                                        ","02","07",13,"03","0207","000002545 - HUAYLLABAMBA                                                                                        "]
[null,null,null,null,null,null,null,null,null,null,null,null,null,null,"000002546","MACHUPICCHU                                                                                         ","02","07",13,"04","0207","000002546 - MACHUPICCHU                                                                                         "]
[null,null,null,null,null,null,null,null,null,null,null,null,null,null,"000002547","COLLPANI                                                                                            ","02","07",13,"04","0207","000002547 - COLLPANI                                                                                            "]
[null,null,null,null,null,null,null,null,null,null,null,null,null,null,"000002548","MARAS                                                                                               ","02","07",13,"05","0207","000002548 - MARAS                                                                                               "]
[null,null,null,null,null,null,null,null,null,null,null,null,null,null,"000002549","OLLANTAYTAMBO                                                                                       ","02","07",13,"06","0207","000002549 - OLLANTAYTAMBO                                                                                       "]
[null,null,null,null,null,null,null,null,null,null,null,null,null,null,"000002550","CHILLCA                                                                                            ","02","07",13,"06","0207","000002550 - CHILLCA                                                                                            "]
[null,null,null,null,null,null,null,null,null,null,null,null,null,null,"000002551","YUCAY                                                                                               ","02","07",13,"07","0207","000002551 - YUCAY                                                                                               "]
[null,null,null,null,null,null,null,null,null,null,null,null,null,null,"000006974","CAMINO INCA HUAYLLABAMBA                                                                            ","02","07",13,"04","0207","000006974 - CAMINO INCA HUAYLLABAMBA                                                                            "]
[null,null,null,null,null,null,null,null,null,null,null,null,null,null,"000010060","ESSALUD-URUBAMBA","02","07",13,"01","0207","000010060 - ESSALUD-URUBAMBA"]
[null,null,null,null,null,null,null,null,null,null,null,null,null,null,"000010073","ESSALUD-MACHU PICCHU","02","07",13,"04","0207","000010073 - ESSALUD-MACHU PICCHU"]
[null,null,null,null,null,null,null,null,null,null,null,null,null,null,"000010758","CRUZPATA                                                                                            ","02","07",13,"05","0207","000010758 - CRUZPATA                                                                                            "]
[null,null,null,null,null,null,null,null,null,null,null,null,null,null,"000010760","PATACANCHA                                                                                          ","02","07",13,"06","0207","000010760 - PATACANCHA                                                                                          "]
[null,null,null,null,null,null,null,null,null,null,null,null,null,null,"000030666","MENTAL COMUNITARIO URUBAMBA","02","07",13,"01","0207","000030666 - MENTAL COMUNITARIO URUBAMBA"]
[null,null,null,null,null,null,null,null,null,null,null,null,null,null,"000000000","(All)","02","08",null,null,"0208","000000000 - (All)"]
[null,null,null,null,null,null,null,null,null,null,null,null,null,null,"000002355","LA QUEBRADA                                                                                         ","02","08","04","08","0208","000002355 - LA QUEBRADA                                                                                         "]
[null,null,null,null,null,null,null,null,null,null,null,null,null,null,"000002356","CCORIMAYO                                                                                           ","02","08","04","08","0208","000002356 - CCORIMAYO                                                                                           "]
[null,null,null,null,null,null,null,null,null,null,null,null,null,null,"000002357","COLCCA YANATILE                                                                                     ","02","08","04","08","0208","000002357 - COLCCA YANATILE                                                                                     "]
[null,null,null,null,null,null,null,null,null,null,null,null,null,null,"000002358","MUYUPAY                                                                                             ","02","08","04","08","0208","000002358 - MUYUPAY                                                                                             "]
[null,null,null,null,null,null,null,null,null,null,null,null,null,null,"000002359","PUTUCUSI                                                                                            ","02","08","04","08","0208","000002359 - PUTUCUSI                                                                                            "]
[null,null,null,null,null,null,null,null,null,null,null,null,null,null,"000002360","QUESQUENTO                                                                                          ","02","08","04","08","0208","000002360 - QUESQUENTO                                                                                          "]
[null,null,null,null,null,null,null,null,null,null,null,null,null,null,"000002362","HUACHIBAMBA                                                                                         ","02","08","04","08","0208","000002362 - HUACHIBAMBA                                                                                         "]
[null,null,null,null,null,null,null,null,null,null,null,null,null,null,"000002464","VERSALLES                                                                                           ","02","08","09","05","0208","000002464 - VERSALLES                                                                                           "]
[null,null,null,null,null,null,null,null,null,null,null,null,null,null,"000002467","PUENTE SANTIAGO                                                                                     ","02","08","09","06","0208","000002467 - PUENTE SANTIAGO                                                                                     "]
[null,null,null,null,null,null,null,null,null,null,null,null,null,null,"000006971","COMBAPATA YANATILE                                                                                  ","02","08","04","08","0208","000006971 - COMBAPATA YANATILE                                                                                  "]
[null,null,null,null,null,null,null,null,null,null,null,null,null,null,"000006973","BELLAVISTA                                                                                          ","02","08","04","08","0208","000006973 - BELLAVISTA                                                                                          "]
[null,null,null,null,null,null,null,null,null,null,null,null,null,null,"000007142","CHANCAMAYO                                                                                          ","02","08","04","08","0208","000007142 - CHANCAMAYO                                                                                          "]
[null,null,null,null,null,null,null,null,null,null,null,null,null,null,"000000000","(All)","02","09",null,null,"0209","000000000 - (All)"]
[null,null,null,null,null,null,null,null,null,null,null,null,null,null,"000002290","SAN PEDRO CUSCO                                                                                     ","02","09","01","01","0209","000002290 - SAN PEDRO CUSCO                                                                                     "]
[null,null,null,null,null,null,null,null,null,null,null,null,null,null,"000002291","SIETE CUARTONES                                                                                     ","02","09","01","01","0209","000002291 - SIETE CUARTONES                                                                                     "]
[null,null,null,null,null,null,null,null,null,null,null,null,null,null,"000002293","MIRAFLORES                                                                                          ","02","09","01","01","0209","000002293 - MIRAFLORES                                                                                          "]
[null,null,null,null,null,null,null,null,null,null,null,null,null,null,"000002294","PICCHU LA RINCONADA                                                                                 ","02","09","01","01","0209","000002294 - PICCHU LA RINCONADA                                                                                 "]
[null,null,null,null,null,null,null,null,null,null,null,null,null,null,"000002295","BUENA VISTA                                                                                         ","02","09","01","01","0209","000002295 - BUENA VISTA                                                                                         "]
[null,null,null,null,null,null,null,null,null,null,null,null,null,null,"000002299","POROY                                                                                               ","02","09","01","03","0209","000002299 - POROY                                                                                               "]
[null,null,null,null,null,null,null,null,null,null,null,null,null,null,"999999999","(All)","02","99",null,null,"0299","999999999 - (All)"]
[null,null,null,null,null,null,null,null,null,null,null,null,null,null,"000002421","HOSPITAL QUILLABAMBA","03","00","09","01",{"$f":"CONCATENATE(Q203,R203)","v":"0300"},{"$f":"CONCATENATE(O203,\" - \",P203)","v":"000002421 - HOSPITAL QUILLABAMBA"}]
[null,null,null,null,null,null,null,null,null,null,null,null,null,null,"000000000","(All)","03","01",null,null,{"$f":"CONCATENATE(Q204,R204)","v":"0301"},{"$f":"CONCATENATE(O204,\" - \",P204)","v":"000000000 - (All)"}]
[null,null,null,null,null,null,null,null,null,null,null,null,null,null,"000002422","HUAYANAY                                                                                            ","03","01","09","01",{"$f":"CONCATENATE(Q205,R205)","v":"0301"},{"$f":"CONCATENATE(O205,\" - \",P205)","v":"000002422 - HUAYANAY                                                                                            "}]
[null,null,null,null,null,null,null,null,null,null,null,null,null,null,"000002423","IDMA                                                                                                ","03","01","09","01","0301",{"$f":"CONCATENATE(O206,\" - \",P206)","v":"000002423 - IDMA                                                                                                "}]
[null,null,null,null,null,null,null,null,null,null,null,null,null,null,"000002424","POTRERO                                                                                             ","03","01","09","01","0301",{"$f":"CONCATENATE(O207,\" - \",P207)","v":"000002424 - POTRERO                                                                                             "}]
[null,null,null,null,null,null,null,null,null,null,null,null,null,null,"000002425","ECHARATE                                                                                            ","03","01","09","02","0301","000002425 - ECHARATE                                                                                            "]
[null,null,null,null,null,null,null,null,null,null,null,null,null,null,"000002429","CIRIALO                                                                                             ","03","01","09","02","0301","000002429 - CIRIALO                                                                                             "]
[null,null,null,null,null,null,null,null,null,null,null,null,null,null,"000002430","PAMPA CONCEPCION                                                                                    ","03","01","09","02","0301","000002430 - PAMPA CONCEPCION                                                                                    "]
[null,null,null,null,null,null,null,null,null,null,null,null,null,null,"000002433","KORIBENI                                                                                            ","03","01","09","02","0301","000002433 - KORIBENI                                                                                            "]
[null,null,null,null,null,null,null,null,null,null,null,null,null,null,"000002439","PALMA REAL                                                                                          ","03","01","09","02","0301","000002439 - PALMA REAL                                                                                          "]
[null,null,null,null,null,null,null,null,null,null,null,null,null,null,"000002446","CHACCO                                                                                              ","03","01","09","02","0301","000002446 - CHACCO                                                                                              "]
[null,null,null,null,null,null,null,null,null,null,null,null,null,null,"000002449","ICHIQUIATO                                                                                          ","03","01","09","02","0301","000002449 - ICHIQUIATO                                                                                          "]
[null,null,null,null,null,null,null,null,null,null,null,null,null,null,"000002450","SAN ANTONIO                                                                                         ","03","01","09","02","0301","000002450 - SAN ANTONIO                                                                                         "]
[null,null,null,null,null,null,null,null,null,null,null,null,null,null,"000002451","CHAHUARES                                                                                           ","03","01","09","02","0301","000002451 - CHAHUARES                                                                                           "]
[null,null,null,null,null,null,null,null,null,null,null,null,null,null,"000008910","SANTA ANA                                                                                           ","03","01","09","01","0301","000008910 - SANTA ANA                                                                                           "]
[null,null,null,null,null,null,null,null,null,null,null,null,null,null,"000010062","ESSALUD-QUILLABAMBA","03","01","09","01","0301","000010062 - ESSALUD-QUILLABAMBA"]
[null,null,null,null,null,null,null,null,null,null,null,null,null,null,"000011744","SANIDAD-QUILLABAMBA PNP","03","01","09","01","0301","000011744 - SANIDAD-QUILLABAMBA PNP"]
[null,null,null,null,null,null,null,null,null,null,null,null,null,null,"000015842","PAVAYOC                                                                                             ","03","01","09","01","0301","000015842 - PAVAYOC                                                                                             "]
[null,null,null,null,null,null,null,null,null,null,null,null,null,null,"000023721","EJERCITO-PERUANO","03","01","09","01","0301","000023721 - EJERCITO-PERUANO"]
[null,null,null,null,null,null,null,null,null,null,null,null,null,null,"000026386","MENTAL QUILLABAMBA","03","01","09","01","0301","000026386 - MENTAL QUILLABAMBA"]
[null,null,null,null,null,null,null,null,null,null,null,null,null,null,"000033273","SAN ISIDRO LABRADOR - ECHARATI","03","01","09","02",{"$f":"CONCATENATE(Q223,R223)","v":"0301"},{"$f":"CONCATENATE(O223,\" - \",P223)","v":"000033273 - SAN ISIDRO LABRADOR - ECHARATI"}]
[null,null,null,null,null,null,null,null,null,null,null,null,null,null,"000000000","(All)","03","02",null,null,{"$f":"CONCATENATE(Q224,R224)","v":"0302"},{"$f":"CONCATENATE(O224,\" - \",P224)","v":"000000000 - (All)"}]
[null,null,null,null,null,null,null,null,null,null,null,null,null,null,"000002453","HUYRO                                                                                               ","03","02","09","03","0302","000002453 - HUYRO                                                                                               "]
[null,null,null,null,null,null,null,null,null,null,null,null,null,null,"000002454","ALFAMAYO                                                                                            ","03","02","09","03","0302","000002454 - ALFAMAYO                                                                                            "]
[null,null,null,null,null,null,null,null,null,null,null,null,null,null,"000002455","HUAYOPATA                                                                                           ","03","02","09","03","0302","000002455 - HUAYOPATA                                                                                           "]
[null,null,null,null,null,null,null,null,null,null,null,null,null,null,"000002456","AMAYBAMBA                                                                                           ","03","02","09","03","0302","000002456 - AMAYBAMBA                                                                                           "]
[null,null,null,null,null,null,null,null,null,null,null,null,null,null,"000002457","SAN PABLO HUAYOPATA                                                                                 ","03","02","09","03","0302","000002457 - SAN PABLO HUAYOPATA                                                                                 "]
[null,null,null,null,null,null,null,null,null,null,null,null,null,null,"000002458","MARANURA                                                                                            ","03","02","09","04","0302","000002458 - MARANURA                                                                                            "]
[null,null,null,null,null,null,null,null,null,null,null,null,null,null,"000002460","SANTA MARIA                                                                                         ","03","02","09","04","0302","000002460 - SANTA MARIA                                                                                         "]
[null,null,null,null,null,null,null,null,null,null,null,null,null,null,"000002461","UCHUMAYO                                                                                            ","03","02","09","04","0302","000002461 - UCHUMAYO                                                                                            "]
[null,null,null,null,null,null,null,null,null,null,null,null,null,null,"000002476","SANTA TERESA                                                                                        ","03","02","09","08","0302","000002476 - SANTA TERESA                                                                                        "]
[null,null,null,null,null,null,null,null,null,null,null,null,null,null,"000002477","SULLUCUYOC                                                                                          ","03","02","09","08","0302","000002477 - SULLUCUYOC                                                                                          "]
[null,null,null,null,null,null,null,null,null,null,null,null,null,null,"000002478","TOTORA                                                                                              ","03","02","09","08","0302","000002478 - TOTORA                                                                                              "]
[null,null,null,null,null,null,null,null,null,null,null,null,null,null,"000010075","ESSALUD-HUYRO","03","02","09","03","0302","000010075 - ESSALUD-HUYRO"]
[null,null,null,null,null,null,null,null,null,null,null,null,null,null,"000000000","(All)","03","03",null,null,"0303",{"$f":"CONCATENATE(O237,\" - \",P237)","v":"000000000 - (All)"}]
[null,null,null,null,null,null,null,null,null,null,null,null,null,null,"000002363","TUPAC AMARU QUELLOUNO                                                                               ","03","03","04","08","0303","000002363 - TUPAC AMARU QUELLOUNO                                                                               "]
[null,null,null,null,null,null,null,null,null,null,null,null,null,null,"000002462","OCCOBAMBA LACONVENCION                                                                              ","03","03","09","05",{"$f":"CONCATENATE(Q239,R239)","v":"0303"},"000002462 - OCCOBAMBA LACONVENCION                                                                              "]
[null,null,null,null,null,null,null,null,null,null,null,null,null,null,"000002463","CHINGANILLA                                                                                         ","03","03","09","05","0303","000002463 - CHINGANILLA                                                                                         "]
[null,null,null,null,null,null,null,null,null,null,null,null,null,null,"000002465","QUELLOUNO                                                                                           ","03","03","09","06","0303","000002465 - QUELLOUNO                                                                                           "]
[null,null,null,null,null,null,null,null,null,null,null,null,null,null,"000002466","HUILLCAPAMPA                                                                                        ","03","03","09","06","0303","000002466 - HUILLCAPAMPA                                                                                        "]
[null,null,null,null,null,null,null,null,null,null,null,null,null,null,"000002468","SAN MARTIN                                                                                          ","03","03","09","06","0303","000002468 - SAN MARTIN                                                                                          "]
[null,null,null,null,null,null,null,null,null,null,null,null,null,null,"000008906","ESTRELLA                                                                                            ","03","03","09","06","0303","000008906 - ESTRELLA                                                                                            "]
[null,null,null,null,null,null,null,null,null,null,null,null,null,null,"000008907","MATORIATO                                                                                           ","03","03","09","06","0303","000008907 - MATORIATO                                                                                           "]
[null,null,null,null,null,null,null,null,null,null,null,null,null,null,"000008908","CHIRUMBIA                                                                                           ","03","03","09","06","0303","000008908 - CHIRUMBIA                                                                                           "]
[null,null,null,null,null,null,null,null,null,null,null,null,null,null,"000008909","CHAPO BOYERO                                                                                        ","03","03","09","06","0303","000008909 - CHAPO BOYERO                                                                                        "]
[null,null,null,null,null,null,null,null,null,null,null,null,null,null,"000000000","(All)","03","04",null,null,"0304","000000000 - (All)"]
[null,null,null,null,null,null,null,null,null,null,null,null,null,null,"000002427","KITENI                                                                                              ","03","04","09","02","0304","000002427 - KITENI                                                                                              "]
[null,null,null,null,null,null,null,null,null,null,null,null,null,null,"000002431","IVOCHOTE                                                                                            ","03","04","09","02","0304","000002431 - IVOCHOTE                                                                                            "]
[null,null,null,null,null,null,null,null,null,null,null,null,null,null,"000002432","KEPASHIATO                                                                                          ","03","04","09","15","0304","000002432 - KEPASHIATO                                                                                          "]
[null,null,null,null,null,null,null,null,null,null,null,null,null,null,"000002434","MATERIATO                                                                                           ","03","04","09","15","0304","000002434 - MATERIATO                                                                                           "]
[null,null,null,null,null,null,null,null,null,null,null,null,null,null,"000002438","PACHIRI                                                                                             ","03","04","09","02","0304","000002438 - PACHIRI                                                                                             "]
[null,null,null,null,null,null,null,null,null,null,null,null,null,null,"000002440","PANGOA                                                                                              ","03","04","09","02","0304","000002440 - PANGOA                                                                                              "]
[null,null,null,null,null,null,null,null,null,null,null,null,null,null,"000002443","SANIRIATO                                                                                           ","03","04","09","02",{"$f":"CONCATENATE(Q255,R255)","v":"0304"},{"$f":"CONCATENATE(O255,\" - \",P255)","v":"000002443 - SANIRIATO                                                                                           "}]
[null,null,null,null,null,null,null,null,null,null,null,null,null,null,"000002447","KAMANQUIRIATO                                                                                       ","03","04","09","02",{"$f":"CONCATENATE(Q256,R256)","v":"0304"},{"$f":"CONCATENATE(O256,\" - \",P256)","v":"000002447 - KAMANQUIRIATO                                                                                       "}]
[null,null,null,null,null,null,null,null,null,null,null,null,null,null,"000002489","YUVENI                                                                                              ","03","04","09","09",{"$f":"CONCATENATE(Q257,R257)","v":"0304"},{"$f":"CONCATENATE(O257,\" - \",P257)","v":"000002489 - YUVENI                                                                                              "}]
[null,null,null,null,null,null,null,null,null,null,null,null,null,null,"000002493","SELVA ALEGRE                                                                                        ","03","04","09","09",{"$f":"CONCATENATE(Q258,R258)","v":"0304"},{"$f":"CONCATENATE(O258,\" - \",P258)","v":"000002493 - SELVA ALEGRE                                                                                        "}]
[null,null,null,null,null,null,null,null,null,null,null,null,null,null,"000006976","CHONTABAMBA                                                                                         ","03","04","09","09",{"$f":"CONCATENATE(Q259,R259)","v":"0304"},{"$f":"CONCATENATE(O259,\" - \",P259)","v":"000006976 - CHONTABAMBA                                                                                         "}]
[null,null,null,null,null,null,null,null,null,null,null,null,null,null,"000013068","TRIO RIO                                                                                            ","03","04","09","15",{"$f":"CONCATENATE(Q260,R260)","v":"0304"},{"$f":"CONCATENATE(O260,\" - \",P260)","v":"000013068 - TRIO RIO                                                                                            "}]
[null,null,null,null,null,null,null,null,null,null,null,null,null,null,"000013069","PUGUIENTIMARI                                                                                       ","03","04","09","15",{"$f":"CONCATENATE(Q261,R261)","v":"0304"},{"$f":"CONCATENATE(O261,\" - \",P261)","v":"000013069 - PUGUIENTIMARI                                                                                       "}]
[null,null,null,null,null,null,null,null,null,null,null,null,null,null,"000014531","ESSALUD-ECHARATE/KITENI","03","04","09","02",{"$f":"CONCATENATE(Q262,R262)","v":"0304"},{"$f":"CONCATENATE(O262,\" - \",P262)","v":"000014531 - ESSALUD-ECHARATE/KITENI"}]
[null,null,null,null,null,null,null,null,null,null,null,null,null,null,"000024583","EJERCITO-KEPASHIATO 314","03","04","09","02",{"$f":"CONCATENATE(Q263,R263)","v":"0304"},{"$f":"CONCATENATE(O263,\" - \",P263)","v":"000024583 - EJERCITO-KEPASHIATO 314"}]
[null,null,null,null,null,null,null,null,null,null,null,null,null,null,"000024296","EJERCITO-MIARIA 334","03","04","09","02",{"$f":"CONCATENATE(Q264,R264)","v":"0304"},{"$f":"CONCATENATE(O264,\" - \",P264)","v":"000024296 - EJERCITO-MIARIA 334"}]
[null,null,null,null,null,null,null,null,null,null,null,null,null,null,"000000000","(All)","03","05",null,null,{"$f":"CONCATENATE(Q265,R265)","v":"0305"},{"$f":"CONCATENATE(O265,\" - \",P265)","v":"000000000 - (All)"}]
[null,null,null,null,null,null,null,null,null,null,null,null,null,null,"000002426","KIRIGUETI                                                                                           ","03","05","09","14",{"$f":"CONCATENATE(Q266,R266)","v":"0305"},{"$f":"CONCATENATE(O266,\" - \",P266)","v":"000002426 - KIRIGUETI                                                                                           "}]
[null,null,null,null,null,null,null,null,null,null,null,null,null,null,"000002428","CHOCORIARI                                                                                          ","03","05","09","14",{"$f":"CONCATENATE(Q267,R267)","v":"0305"},{"$f":"CONCATENATE(O267,\" - \",P267)","v":"000002428 - CHOCORIARI                                                                                          "}]
[null,null,null,null,null,null,null,null,null,null,null,null,null,null,"000002435","MIARIA                                                                                              ","03","05","09","14",{"$f":"CONCATENATE(Q268,R268)","v":"0305"},{"$f":"CONCATENATE(O268,\" - \",P268)","v":"000002435 - MIARIA                                                                                              "}]
[null,null,null,null,null,null,null,null,null,null,null,null,null,null,"000002436","NUEVA LUZ                                                                                           ","03","05","09","14",{"$f":"CONCATENATE(Q269,R269)","v":"0305"},{"$f":"CONCATENATE(O269,\" - \",P269)","v":"000002436 - NUEVA LUZ                                                                                           "}]
[null,null,null,null,null,null,null,null,null,null,null,null,null,null,"000002437","NUEVO MUNDO                                                                                         ","03","05","09","14",{"$f":"CONCATENATE(Q270,R270)","v":"0305"},{"$f":"CONCATENATE(O270,\" - \",P270)","v":"000002437 - NUEVO MUNDO                                                                                         "}]
[null,null,null,null,null,null,null,null,null,null,null,null,null,null,"000002441","PUERTO HUALLANA                                                                                     ","03","05","09","14",{"$f":"CONCATENATE(Q271,R271)","v":"0305"},{"$f":"CONCATENATE(O271,\" - \",P271)","v":"000002441 - PUERTO HUALLANA                                                                                     "}]
[null,null,null,null,null,null,null,null,null,null,null,null,null,null,"000002442","PUERTO RICO                                                                                         ","03","05","09","14",{"$f":"CONCATENATE(Q272,R272)","v":"0305"},{"$f":"CONCATENATE(O272,\" - \",P272)","v":"000002442 - PUERTO RICO                                                                                         "}]
[null,null,null,null,null,null,null,null,null,null,null,null,null,null,"000002444","SENSA                                                                                               ","03","05","09","14",{"$f":"CONCATENATE(Q273,R273)","v":"0305"},{"$f":"CONCATENATE(O273,\" - \",P273)","v":"000002444 - SENSA                                                                                               "}]
[null,null,null,null,null,null,null,null,null,null,null,null,null,null,"000002445","TIMPIA                                                                                              ","03","05","09","14",{"$f":"CONCATENATE(Q274,R274)","v":"0305"},{"$f":"CONCATENATE(O274,\" - \",P274)","v":"000002445 - TIMPIA                                                                                              "}]
[null,null,null,null,null,null,null,null,null,null,null,null,null,null,"000002448","KAMISEA                                                                                             ","03","05","09","14",{"$f":"CONCATENATE(Q275,R275)","v":"0305"},{"$f":"CONCATENATE(O275,\" - \",P275)","v":"000002448 - KAMISEA                                                                                             "}]
[null,null,null,null,null,null,null,null,null,null,null,null,null,null,"000002452","SHIVANKORENI                                                                                        ","03","05","09","14",{"$f":"CONCATENATE(Q276,R276)","v":"0305"},{"$f":"CONCATENATE(O276,\" - \",P276)","v":"000002452 - SHIVANKORENI                                                                                        "}]
[null,null,null,null,null,null,null,null,null,null,null,null,null,null,"000013066","MONTETONI                                                                                           ","03","05","09","14",{"$f":"CONCATENATE(Q277,R277)","v":"0305"},{"$f":"CONCATENATE(O277,\" - \",P277)","v":"000013066 - MONTETONI                                                                                           "}]
[null,null,null,null,null,null,null,null,null,null,null,null,null,null,"000013067","TANGOSHIARI                                                                                         ","03","05","09","14",{"$f":"CONCATENATE(Q278,R278)","v":"0305"},{"$f":"CONCATENATE(O278,\" - \",P278)","v":"000013067 - TANGOSHIARI                                                                                         "}]
[null,null,null,null,null,null,null,null,null,null,null,null,null,null,"000015235","NUEVA VIDA                                                                                          ","03","05","09","14",{"$f":"CONCATENATE(Q279,R279)","v":"0305"},{"$f":"CONCATENATE(O279,\" - \",P279)","v":"000015235 - NUEVA VIDA                                                                                          "}]
[null,null,null,null,null,null,null,null,null,null,null,null,null,null,"000015843","CASHIRIARI                                                                                          ","03","05","09","14",{"$f":"CONCATENATE(Q280,R280)","v":"0305"},{"$f":"CONCATENATE(O280,\" - \",P280)","v":"000015843 - CASHIRIARI                                                                                          "}]
[null,null,null,null,null,null,null,null,null,null,null,null,null,null,"000015844","CAMANA                                                                                              ","03","05","09","14",{"$f":"CONCATENATE(Q281,R281)","v":"0305"},{"$f":"CONCATENATE(O281,\" - \",P281)","v":"000015844 - CAMANA                                                                                              "}]
[null,null,null,null,null,null,null,null,null,null,null,null,null,null,"000000000","(All)","03","06",null,null,{"$f":"CONCATENATE(Q282,R282)","v":"0306"},{"$f":"CONCATENATE(O282,\" - \",P282)","v":"000000000 - (All)"}]
[null,null,null,null,null,null,null,null,null,null,null,null,null,null,"000002480","PUCYURA                                                                                             ","03","06","09","09",{"$f":"CONCATENATE(Q283,R283)","v":"0306"},{"$f":"CONCATENATE(O283,\" - \",P283)","v":"000002480 - PUCYURA                                                                                             "}]
[null,null,null,null,null,null,null,null,null,null,null,null,null,null,"000002481","CCARCCO                                                                                             ","03","06","09",11,{"$f":"CONCATENATE(Q284,R284)","v":"0306"},{"$f":"CONCATENATE(O284,\" - \",P284)","v":"000002481 - CCARCCO                                                                                             "}]
[null,null,null,null,null,null,null,null,null,null,null,null,null,null,"000002482","INCAHUASI                                                                                           ","03","06","09",11,{"$f":"CONCATENATE(Q285,R285)","v":"0306"},{"$f":"CONCATENATE(O285,\" - \",P285)","v":"000002482 - INCAHUASI                                                                                           "}]
[null,null,null,null,null,null,null,null,null,null,null,null,null,null,"000002484","OYARA                                                                                               ","03","06","09","09",{"$f":"CONCATENATE(Q286,R286)","v":"0306"},{"$f":"CONCATENATE(O286,\" - \",P286)","v":"000002484 - OYARA                                                                                               "}]
[null,null,null,null,null,null,null,null,null,null,null,null,null,null,"000002485","PACCAYBAMBA                                                                                         ","03","06","09",11,{"$f":"CONCATENATE(Q287,R287)","v":"0306"},{"$f":"CONCATENATE(O287,\" - \",P287)","v":"000002485 - PACCAYBAMBA                                                                                         "}]
[null,null,null,null,null,null,null,null,null,null,null,null,null,null,"000002486","PAMPACONAS                                                                                          ","03","06","09","09",{"$f":"CONCATENATE(Q288,R288)","v":"0306"},{"$f":"CONCATENATE(O288,\" - \",P288)","v":"000002486 - PAMPACONAS                                                                                          "}]
[null,null,null,null,null,null,null,null,null,null,null,null,null,null,"000002487","CHOQUETIRA                                                                                          ","03","06","09",11,{"$f":"CONCATENATE(Q289,R289)","v":"0306"},{"$f":"CONCATENATE(O289,\" - \",P289)","v":"000002487 - CHOQUETIRA                                                                                          "}]
[null,null,null,null,null,null,null,null,null,null,null,null,null,null,"000002490","ARMA                                                                                                ","03","06","09","09",{"$f":"CONCATENATE(Q290,R290)","v":"0306"},{"$f":"CONCATENATE(O290,\" - \",P290)","v":"000002490 - ARMA                                                                                                "}]
[null,null,null,null,null,null,null,null,null,null,null,null,null,null,"000002491","LUCMAHUAYCO                                                                                         ","03","06","09",11,{"$f":"CONCATENATE(Q291,R291)","v":"0306"},{"$f":"CONCATENATE(O291,\" - \",P291)","v":"000002491 - LUCMAHUAYCO                                                                                         "}]
[null,null,null,null,null,null,null,null,null,null,null,null,null,null,"000002492","PALTAYBAMBA                                                                                         ","03","06","09","09",{"$f":"CONCATENATE(Q292,R292)","v":"0306"},{"$f":"CONCATENATE(O292,\" - \",P292)","v":"000002492 - PALTAYBAMBA                                                                                         "}]
[null,null,null,null,null,null,null,null,null,null,null,null,null,null,"000013070","CHANCAVINE                                                                                          ","03","06","09",12,{"$f":"CONCATENATE(Q293,R293)","v":"0306"},{"$f":"CONCATENATE(O293,\" - \",P293)","v":"000013070 - CHANCAVINE                                                                                          "}]
[null,null,null,null,null,null,null,null,null,null,null,null,null,null,"000024637","EJERCITO-INCAHUASI 331                                                                                       ","03","06","09",11,{"$f":"CONCATENATE(Q294,R294)","v":"0306"},{"$f":"CONCATENATE(O294,\" - \",P294)","v":"000024637 - EJERCITO-INCAHUASI 331                                                                                       "}]
[null,null,null,null,null,null,null,null,null,null,null,null,null,null,"999999999","(All)","03","99",null,null,{"$f":"CONCATENATE(Q295,R295)","v":"0399"},{"$f":"CONCATENATE(O295,\" - \",P295)","v":"999999999 - (All)"}]
[null,null,null,null,null,null,null,null,null,null,null,null,null,null,"000002378","HOSPITAL SICUANI","04","00","06","01",{"$f":"CONCATENATE(Q296,R296)","v":"0400"},{"$f":"CONCATENATE(O296,\" - \",P296)","v":"000002378 - HOSPITAL SICUANI"}]
[null,null,null,null,null,null,null,null,null,null,null,null,null,null,"000007135","HOSPITAL ESPINAR","04","00","08","01",{"$f":"CONCATENATE(Q297,R297)","v":"0400"},{"$f":"CONCATENATE(O297,\" - \",P297)","v":"000007135 - HOSPITAL ESPINAR"}]
[null,null,null,null,null,null,null,null,null,null,null,null,null,null,"000000000","(All)","04","01",null,null,{"$f":"CONCATENATE(Q298,R298)","v":"0401"},{"$f":"CONCATENATE(O298,\" - \",P298)","v":"000000000 - (All)"}]
[null,null,null,null,null,null,null,null,null,null,null,null,null,null,"000002364","YANAOCA                                                                                             ","04","01","05","01",{"$f":"CONCATENATE(Q299,R299)","v":"0401"},{"$f":"CONCATENATE(O299,\" - \",P299)","v":"000002364 - YANAOCA                                                                                             "}]
[null,null,null,null,null,null,null,null,null,null,null,null,null,null,"000002365","PONGOÑA                                                                                             ","04","01","05","01",{"$f":"CONCATENATE(Q300,R300)","v":"0401"},{"$f":"CONCATENATE(O300,\" - \",P300)","v":"000002365 - PONGOÑA                                                                                             "}]
[null,null,null,null,null,null,null,null,null,null,null,null,null,null,"000002372","PAMPAMARCA                                                                                          ","04","01","05","06",{"$f":"CONCATENATE(Q301,R301)","v":"0401"},{"$f":"CONCATENATE(O301,\" - \",P301)","v":"000002372 - PAMPAMARCA                                                                                          "}]
[null,null,null,null,null,null,null,null,null,null,null,null,null,null,"000002373","QUEHUE                                                                                              ","04","01","05","07",{"$f":"CONCATENATE(Q302,R302)","v":"0401"},{"$f":"CONCATENATE(O302,\" - \",P302)","v":"000002373 - QUEHUE                                                                                              "}]
[null,null,null,null,null,null,null,null,null,null,null,null,null,null,"000002374","HUINCHIRI                                                                                           ","04","01","05","07",{"$f":"CONCATENATE(Q303,R303)","v":"0401"},{"$f":"CONCATENATE(O303,\" - \",P303)","v":"000002374 - HUINCHIRI                                                                                           "}]
[null,null,null,null,null,null,null,null,null,null,null,null,null,null,"000002375","SURIMANA                                                                                            ","04","01","05","08",{"$f":"CONCATENATE(Q304,R304)","v":"0401"},{"$f":"CONCATENATE(O304,\" - \",P304)","v":"000002375 - SURIMANA                                                                                            "}]
[null,null,null,null,null,null,null,null,null,null,null,null,null,null,"000002376","TUNGASUCA                                                                                           ","04","01","05","08",{"$f":"CONCATENATE(Q305,R305)","v":"0401"},{"$f":"CONCATENATE(O305,\" - \",P305)","v":"000002376 - TUNGASUCA                                                                                           "}]
[null,null,null,null,null,null,null,null,null,null,null,null,null,null,"000002377","TOCCOCCORI                                                                                          ","04","01","05","08",{"$f":"CONCATENATE(Q306,R306)","v":"0401"},{"$f":"CONCATENATE(O306,\" - \",P306)","v":"000002377 - TOCCOCCORI                                                                                          "}]
[null,null,null,null,null,null,null,null,null,null,null,null,null,null,"000018241","HAMPATURA                                                                                           ","04","01","05","01",{"$f":"CONCATENATE(Q307,R307)","v":"0401"},{"$f":"CONCATENATE(O307,\" - \",P307)","v":"000018241 - HAMPATURA                                                                                           "}]
[null,null,null,null,null,null,null,null,null,null,null,null,null,null,"000032339","CCOCHAPATA                                                                                     ","04","01","05","08",{"$f":"CONCATENATE(Q308,R308)","v":"0401"},{"$f":"CONCATENATE(O308,\" - \",P308)","v":"000032339 - CCOCHAPATA                                                                                     "}]
[null,null,null,null,null,null,null,null,null,null,null,null,null,null,"000034449","CHAUPIBANDA","04","01","05","08",{"$f":"CONCATENATE(Q309,R309)","v":"0401"},"000034449 - CHAUPIBANDA"]
[null,null,null,null,null,null,null,null,null,null,null,null,null,null,"000000000","(All)","04","02",null,null,{"$f":"CONCATENATE(Q310,R310)","v":"0402"},{"$f":"CONCATENATE(O310,\" - \",P310)","v":"000000000 - (All)"}]
[null,null,null,null,null,null,null,null,null,null,null,null,null,null,"000002366","CHECCA                                                                                              ","04","02","05","02",{"$f":"CONCATENATE(Q311,R311)","v":"0402"},{"$f":"CONCATENATE(O311,\" - \",P311)","v":"000002366 - CHECCA                                                                                              "}]
[null,null,null,null,null,null,null,null,null,null,null,null,null,null,"000002367","CHITIBAMBA                                                                                          ","04","02","05","02",{"$f":"CONCATENATE(Q312,R312)","v":"0402"},{"$f":"CONCATENATE(O312,\" - \",P312)","v":"000002367 - CHITIBAMBA                                                                                          "}]
[null,null,null,null,null,null,null,null,null,null,null,null,null,null,"000007700","EL DESCANSO                                                                                         ","04","02","05","03",{"$f":"CONCATENATE(Q313,R313)","v":"0402"},{"$f":"CONCATENATE(O313,\" - \",P313)","v":"000007700 - EL DESCANSO                                                                                         "}]
[null,null,null,null,null,null,null,null,null,null,null,null,null,null,"000000000","(All)","04","03",null,null,{"$f":"CONCATENATE(Q314,R314)","v":"0403"},{"$f":"CONCATENATE(O314,\" - \",P314)","v":"000000000 - (All)"}]
[null,null,null,null,null,null,null,null,null,null,null,null,null,null,"000002320","MOSOCLLACTA                                                                                         ","04","03","02","04",{"$f":"CONCATENATE(Q315,R315)","v":"0403"},{"$f":"CONCATENATE(O315,\" - \",P315)","v":"000002320 - MOSOCLLACTA                                                                                         "}]
[null,null,null,null,null,null,null,null,null,null,null,null,null,null,"000002385","CHECACUPE                                                                                           ","04","03","06","02",{"$f":"CONCATENATE(Q316,R316)","v":"0403"},{"$f":"CONCATENATE(O316,\" - \",P316)","v":"000002385 - CHECACUPE                                                                                           "}]
[null,null,null,null,null,null,null,null,null,null,null,null,null,null,"000002386","COMBAPATA CANCHIS                                                                                   ","04","03","06","03",{"$f":"CONCATENATE(Q317,R317)","v":"0403"},{"$f":"CONCATENATE(O317,\" - \",P317)","v":"000002386 - COMBAPATA CANCHIS                                                                                   "}]
[null,null,null,null,null,null,null,null,null,null,null,null,null,null,"000002387","CHIARA                                                                                              ","04","03","06","03",{"$f":"CONCATENATE(Q318,R318)","v":"0403"},{"$f":"CONCATENATE(O318,\" - \",P318)","v":"000002387 - CHIARA                                                                                              "}]
[null,null,null,null,null,null,null,null,null,null,null,null,null,null,"000002392","PITUMARCA                                                                                           ","04","03","06","05",{"$f":"CONCATENATE(Q319,R319)","v":"0403"},{"$f":"CONCATENATE(O319,\" - \",P319)","v":"000002392 - PITUMARCA                                                                                           "}]
[null,null,null,null,null,null,null,null,null,null,null,null,null,null,"000002397","TINTA                                                                                               ","04","03","06","08",{"$f":"CONCATENATE(Q320,R320)","v":"0403"},{"$f":"CONCATENATE(O320,\" - \",P320)","v":"000002397 - TINTA                                                                                               "}]
[null,null,null,null,null,null,null,null,null,null,null,null,null,null,"000000000","(All)","04","04",null,null,{"$f":"CONCATENATE(Q321,R321)","v":"0404"},{"$f":"CONCATENATE(O321,\" - \",P321)","v":"000000000 - (All)"}]
[null,null,null,null,null,null,null,null,null,null,null,null,null,null,"000002369","LANGUI                                                                                              ","04","04","05","04",{"$f":"CONCATENATE(Q322,R322)","v":"0404"},{"$f":"CONCATENATE(O322,\" - \",P322)","v":"000002369 - LANGUI                                                                                              "}]
[null,null,null,null,null,null,null,null,null,null,null,null,null,null,"000002370","CONDEVILUYO                                                                                         ","04","04","05","04",{"$f":"CONCATENATE(Q323,R323)","v":"0404"},{"$f":"CONCATENATE(O323,\" - \",P323)","v":"000002370 - CONDEVILUYO                                                                                         "}]
[null,null,null,null,null,null,null,null,null,null,null,null,null,null,"000002371","LAYO                                                                                                ","04","04","05","05",{"$f":"CONCATENATE(Q324,R324)","v":"0404"},{"$f":"CONCATENATE(O324,\" - \",P324)","v":"000002371 - LAYO                                                                                                "}]
[null,null,null,null,null,null,null,null,null,null,null,null,null,null,"000002379","HERCCA                                                                                              ","04","04","06","01",{"$f":"CONCATENATE(Q325,R325)","v":"0404"},{"$f":"CONCATENATE(O325,\" - \",P325)","v":"000002379 - HERCCA                                                                                              "}]
[null,null,null,null,null,null,null,null,null,null,null,null,null,null,"000002380","TECHO OBRERO                                                                                        ","04","04","06","01",{"$f":"CONCATENATE(Q326,R326)","v":"0404"},{"$f":"CONCATENATE(O326,\" - \",P326)","v":"000002380 - TECHO OBRERO                                                                                        "}]
[null,null,null,null,null,null,null,null,null,null,null,null,null,null,"000002388","MARANGANI                                                                                           ","04","04","06","04",{"$f":"CONCATENATE(Q327,R327)","v":"0404"},{"$f":"CONCATENATE(O327,\" - \",P327)","v":"000002388 - MARANGANI                                                                                           "}]
[null,null,null,null,null,null,null,null,null,null,null,null,null,null,"000002389","CHECTUYOC                                                                                           ","04","04","06","04",{"$f":"CONCATENATE(Q328,R328)","v":"0404"},{"$f":"CONCATENATE(O328,\" - \",P328)","v":"000002389 - CHECTUYOC                                                                                           "}]
[null,null,null,null,null,null,null,null,null,null,null,null,null,null,"000002390","CCUYO                                                                                               ","04","04","06","04",{"$f":"CONCATENATE(Q329,R329)","v":"0404"},{"$f":"CONCATENATE(O329,\" - \",P329)","v":"000002390 - CCUYO                                                                                               "}]
[null,null,null,null,null,null,null,null,null,null,null,null,null,null,"000002391","OCCOBAMBA MARANGANI                                                                                 ","04","04","06","04",{"$f":"CONCATENATE(Q330,R330)","v":"0404"},{"$f":"CONCATENATE(O330,\" - \",P330)","v":"000002391 - OCCOBAMBA MARANGANI                                                                                 "}]
[null,null,null,null,null,null,null,null,null,null,null,null,null,null,"000010063","ESSALUD-SICUANI","04","04","06","01",{"$f":"CONCATENATE(Q331,R331)","v":"0404"},{"$f":"CONCATENATE(O331,\" - \",P331)","v":"000010063 - ESSALUD-SICUANI"}]
[null,null,null,null,null,null,null,null,null,null,null,null,null,null,"000024663","SANIDAD-SICUANI PNP","04","04","06","01",{"$f":"CONCATENATE(Q332,R332)","v":"0404"},{"$f":"CONCATENATE(O332,\" - \",P332)","v":"000024663 - SANIDAD-SICUANI PNP"}]
[null,null,null,null,null,null,null,null,null,null,null,null,null,null,"000000000","(All)","04","05",null,null,{"$f":"CONCATENATE(Q333,R333)","v":"0405"},{"$f":"CONCATENATE(O333,\" - \",P333)","v":"000000000 - (All)"}]
[null,null,null,null,null,null,null,null,null,null,null,null,null,null,"000002381","QUEHUAR                                                                                             ","04","05","06","01",{"$f":"CONCATENATE(Q334,R334)","v":"0405"},{"$f":"CONCATENATE(O334,\" - \",P334)","v":"000002381 - QUEHUAR                                                                                             "}]
[null,null,null,null,null,null,null,null,null,null,null,null,null,null,"000002382","UZCUPATA                                                                                            ","04","05","06","01",{"$f":"CONCATENATE(Q335,R335)","v":"0405"},{"$f":"CONCATENATE(O335,\" - \",P335)","v":"000002382 - UZCUPATA                                                                                            "}]
[null,null,null,null,null,null,null,null,null,null,null,null,null,null,"000002383","LA FLORIDA                                                                                          ","04","05","06","01",{"$f":"CONCATENATE(Q336,R336)","v":"0405"},{"$f":"CONCATENATE(O336,\" - \",P336)","v":"000002383 - LA FLORIDA                                                                                          "}]
[null,null,null,null,null,null,null,null,null,null,null,null,null,null,"000002384","PAMPAPHALLA                                                                                         ","04","05","06","01",{"$f":"CONCATENATE(Q337,R337)","v":"0405"},{"$f":"CONCATENATE(O337,\" - \",P337)","v":"000002384 - PAMPAPHALLA                                                                                         "}]
[null,null,null,null,null,null,null,null,null,null,null,null,null,null,"000002393","PHINAYA                                                                                             ","04","05","06","05",{"$f":"CONCATENATE(Q338,R338)","v":"0405"},{"$f":"CONCATENATE(O338,\" - \",P338)","v":"000002393 - PHINAYA                                                                                             "}]
[null,null,null,null,null,null,null,null,null,null,null,null,null,null,"000002394","SAN PABLO CANCHIS                                                                                   ","04","05","06","06",{"$f":"CONCATENATE(Q339,R339)","v":"0405"},{"$f":"CONCATENATE(O339,\" - \",P339)","v":"000002394 - SAN PABLO CANCHIS                                                                                   "}]
[null,null,null,null,null,null,null,null,null,null,null,null,null,null,"000002395","SANTA BARBARA                                                                                       ","04","05","06","06",{"$f":"CONCATENATE(Q340,R340)","v":"0405"},{"$f":"CONCATENATE(O340,\" - \",P340)","v":"000002395 - SANTA BARBARA                                                                                       "}]
[null,null,null,null,null,null,null,null,null,null,null,null,null,null,"000002396","SAN PEDRO CANCHIS                                                                                   ","04","05","06","07",{"$f":"CONCATENATE(Q341,R341)","v":"0405"},{"$f":"CONCATENATE(O341,\" - \",P341)","v":"000002396 - SAN PEDRO CANCHIS                                                                                   "}]
[null,null,null,null,null,null,null,null,null,null,null,null,null,null,"000026387","MENTAL COMUNITARIO SICUANI","04","05","06","01",{"$f":"CONCATENATE(Q342,R342)","v":"0405"},{"$f":"CONCATENATE(O342,\" - \",P342)","v":"000026387 - MENTAL COMUNITARIO SICUANI"}]
[null,null,null,null,null,null,null,null,null,null,null,null,null,null,"000000000","(All)","04","06",null,null,{"$f":"CONCATENATE(Q343,R343)","v":"0406"},{"$f":"CONCATENATE(O343,\" - \",P343)","v":"000000000 - (All)"}]
[null,null,null,null,null,null,null,null,null,null,null,null,null,null,"000002410","YAURI                                                                                               ","04","06","08","01",{"$f":"CONCATENATE(Q344,R344)","v":"0406"},{"$f":"CONCATENATE(O344,\" - \",P344)","v":"000002410 - YAURI                                                                                               "}]
[null,null,null,null,null,null,null,null,null,null,null,null,null,null,"000002411","CONDOROMA                                                                                           ","04","06","08","02",{"$f":"CONCATENATE(Q345,R345)","v":"0406"},{"$f":"CONCATENATE(O345,\" - \",P345)","v":"000002411 - CONDOROMA                                                                                           "}]
[null,null,null,null,null,null,null,null,null,null,null,null,null,null,"000002412","COPORAQUE                                                                                           ","04","06","08","03",{"$f":"CONCATENATE(Q346,R346)","v":"0406"},{"$f":"CONCATENATE(O346,\" - \",P346)","v":"000002412 - COPORAQUE                                                                                           "}]
[null,null,null,null,null,null,null,null,null,null,null,null,null,null,"000002413","URINSAYA                                                                                            ","04","06","08","03",{"$f":"CONCATENATE(Q347,R347)","v":"0406"},{"$f":"CONCATENATE(O347,\" - \",P347)","v":"000002413 - URINSAYA                                                                                            "}]
[null,null,null,null,null,null,null,null,null,null,null,null,null,null,"000002414","HUAYHUAHUASI                                                                                        ","04","06","08","03",{"$f":"CONCATENATE(Q348,R348)","v":"0406"},{"$f":"CONCATENATE(O348,\" - \",P348)","v":"000002414 - HUAYHUAHUASI                                                                                        "}]
[null,null,null,null,null,null,null,null,null,null,null,null,null,null,"000002415","OCCORURO                                                                                            ","04","06","08","04",{"$f":"CONCATENATE(Q349,R349)","v":"0406"},{"$f":"CONCATENATE(O349,\" - \",P349)","v":"000002415 - OCCORURO                                                                                            "}]
[null,null,null,null,null,null,null,null,null,null,null,null,null,null,"000002416","PALLPATA                                                                                            ","04","06","08","05",{"$f":"CONCATENATE(Q350,R350)","v":"0406"},{"$f":"CONCATENATE(O350,\" - \",P350)","v":"000002416 - PALLPATA                                                                                            "}]
[null,null,null,null,null,null,null,null,null,null,null,null,null,null,"000002417","PICHIGUA ESPINAR                                                                                    ","04","06","08","06",{"$f":"CONCATENATE(Q351,R351)","v":"0406"},{"$f":"CONCATENATE(O351,\" - \",P351)","v":"000002417 - PICHIGUA ESPINAR                                                                                    "}]
[null,null,null,null,null,null,null,null,null,null,null,null,null,null,"000002418","SAN MIGUEL                                                                                          ","04","06","08","06",{"$f":"CONCATENATE(Q352,R352)","v":"0406"},{"$f":"CONCATENATE(O352,\" - \",P352)","v":"000002418 - SAN MIGUEL                                                                                          "}]
[null,null,null,null,null,null,null,null,null,null,null,null,null,null,"000002419","SUYKUTAMBO                                                                                          ","04","06","08","07",{"$f":"CONCATENATE(Q353,R353)","v":"0406"},{"$f":"CONCATENATE(O353,\" - \",P353)","v":"000002419 - SUYKUTAMBO                                                                                          "}]
[null,null,null,null,null,null,null,null,null,null,null,null,null,null,"000002420","ACCOCUNCA                                                                                           ","04","06","08","08",{"$f":"CONCATENATE(Q354,R354)","v":"0406"},{"$f":"CONCATENATE(O354,\" - \",P354)","v":"000002420 - ACCOCUNCA                                                                                           "}]
[null,null,null,null,null,null,null,null,null,null,null,null,null,null,"000006745","TINTAYA MARQUIRI                                                                                    ","04","06","08","01",{"$f":"CONCATENATE(Q355,R355)","v":"0406"},{"$f":"CONCATENATE(O355,\" - \",P355)","v":"000006745 - TINTAYA MARQUIRI                                                                                    "}]
[null,null,null,null,null,null,null,null,null,null,null,null,null,null,"000010061","ESSALUD-ESPINAR","04","06","08","01",{"$f":"CONCATENATE(Q356,R356)","v":"0406"},{"$f":"CONCATENATE(O356,\" - \",P356)","v":"000010061 - ESSALUD-ESPINAR"}]
[null,null,null,null,null,null,null,null,null,null,null,null,null,null,"000030366","MENTAL COMUNITARIO ESPINAR","04","06","08","01",{"$f":"CONCATENATE(Q357,R357)","v":"0406"},{"$f":"CONCATENATE(O357,\" - \",P357)","v":"000030366 - MENTAL COMUNITARIO ESPINAR"}]
[null,null,null,null,null,null,null,null,null,null,null,null,null,null,"999999999","(All)","04","99",null,null,{"$f":"CONCATENATE(Q358,R358)","v":"0499"},{"$f":"CONCATENATE(O358,\" - \",P358)","v":"999999999 - (All)"}]
[null,null,null,null,null,null,null,null,null,null,null,null,null,null,"000002469","SAN JUAN DE KIMBIRI-VRAEM                                                                           ","05","00","09","07",{"$f":"CONCATENATE(Q359,R359)","v":"0500"},{"$f":"CONCATENATE(O359,\" - \",P359)","v":"000002469 - SAN JUAN DE KIMBIRI-VRAEM                                                                           "}]
[null,null,null,null,null,null,null,null,null,null,null,null,null,null,"000000000","(All)","05","01",null,null,{"$f":"CONCATENATE(Q360,R360)","v":"0501"},{"$f":"CONCATENATE(O360,\" - \",P360)","v":"000000000 - (All)"}]
[null,null,null,null,null,null,null,null,null,null,null,null,null,null,"000002470","CHIRUMPIARI                                                                                         ","05","01","09","16",{"$f":"CONCATENATE(Q361,R361)","v":"0501"},{"$f":"CONCATENATE(O361,\" - \",P361)","v":"000002470 - CHIRUMPIARI                                                                                         "}]
[null,null,null,null,null,null,null,null,null,null,null,null,null,null,"000002471","LOBO TAHUANTINSUYO                                                                                  ","05","01","09","17",{"$f":"CONCATENATE(Q362,R362)","v":"0501"},{"$f":"CONCATENATE(O362,\" - \",P362)","v":"000002471 - LOBO TAHUANTINSUYO                                                                                  "}]
[null,null,null,null,null,null,null,null,null,null,null,null,null,null,"000002472","MAPITUNARI                                                                                          ","05","01","09","07",{"$f":"CONCATENATE(Q363,R363)","v":"0501"},{"$f":"CONCATENATE(O363,\" - \",P363)","v":"000002472 - MAPITUNARI                                                                                          "}]
[null,null,null,null,null,null,null,null,null,null,null,null,null,null,"000002473","UNION ROSALES                                                                                       ","05","01","09","17",{"$f":"CONCATENATE(Q364,R364)","v":"0501"},{"$f":"CONCATENATE(O364,\" - \",P364)","v":"000002473 - UNION ROSALES                                                                                       "}]
[null,null,null,null,null,null,null,null,null,null,null,null,null,null,"000002474","SAMANIATO                                                                                           ","05","01","09","07",{"$f":"CONCATENATE(Q365,R365)","v":"0501"},{"$f":"CONCATENATE(O365,\" - \",P365)","v":"000002474 - SAMANIATO                                                                                           "}]
[null,null,null,null,null,null,null,null,null,null,null,null,null,null,"000002475","KIMBIRI ALTO                                                                                        ","05","01","09","07",{"$f":"CONCATENATE(Q366,R366)","v":"0501"},{"$f":"CONCATENATE(O366,\" - \",P366)","v":"000002475 - KIMBIRI ALTO                                                                                        "}]
[null,null,null,null,null,null,null,null,null,null,null,null,null,null,"000002479","VILLA VIRGEN                                                                                        ","05","01","09",12,{"$f":"CONCATENATE(Q367,R367)","v":"0501"},{"$f":"CONCATENATE(O367,\" - \",P367)","v":"000002479 - VILLA VIRGEN                                                                                        "}]
[null,null,null,null,null,null,null,null,null,null,null,null,null,null,"000002488","VILLA QUINTIARINA                                                                                   ","05","01","09",13,{"$f":"CONCATENATE(Q368,R368)","v":"0501"},{"$f":"CONCATENATE(O368,\" - \",P368)","v":"000002488 - VILLA QUINTIARINA                                                                                   "}]
[null,null,null,null,null,null,null,null,null,null,null,null,null,null,"000008283","PUEBLO LIBRE                                                                                        ","05","01","09","07",{"$f":"CONCATENATE(Q369,R369)","v":"0501"},{"$f":"CONCATENATE(O369,\" - \",P369)","v":"000008283 - PUEBLO LIBRE                                                                                        "}]
[null,null,null,null,null,null,null,null,null,null,null,null,null,null,"000008284","MANITEA ALTA                                                                                        ","05","01","09","17",{"$f":"CONCATENATE(Q370,R370)","v":"0501"},{"$f":"CONCATENATE(O370,\" - \",P370)","v":"000008284 - MANITEA ALTA                                                                                        "}]
[null,null,null,null,null,null,null,null,null,null,null,null,null,null,"000008285","ANGELES                                                                                             ","05","01","09","07",{"$f":"CONCATENATE(Q371,R371)","v":"0501"},{"$f":"CONCATENATE(O371,\" - \",P371)","v":"000008285 - ANGELES                                                                                             "}]
[null,null,null,null,null,null,null,null,null,null,null,null,null,null,"000024957","EJERCITO-LA OROYA 34                                                                                 ","05","01","09",12,{"$f":"CONCATENATE(Q372,R372)","v":"0501"},{"$f":"CONCATENATE(O372,\" - \",P372)","v":"000024957 - EJERCITO-LA OROYA 34                                                                                 "}]
[null,null,null,null,null,null,null,null,null,null,null,null,null,null,"000000000","(All)","05","02",null,null,{"$f":"CONCATENATE(Q373,R373)","v":"0502"},{"$f":"CONCATENATE(O373,\" - \",P373)","v":"000000000 - (All)"}]
[null,null,null,null,null,null,null,null,null,null,null,null,null,null,"000002494","PICHARI                                                                                             ","05","02","09","10",{"$f":"CONCATENATE(Q374,R374)","v":"0502"},{"$f":"CONCATENATE(O374,\" - \",P374)","v":"000002494 - PICHARI                                                                                             "}]
[null,null,null,null,null,null,null,null,null,null,null,null,null,null,"000002495","MANTARO                                                                                             ","05","02","09","18","0502","000002495 - MANTARO                                                                                             "]
[null,null,null,null,null,null,null,null,null,null,null,null,null,null,"000002496","OMAYA                                                                                               ","05","02","09","10","0502","000002496 - OMAYA                                                                                               "]
[null,null,null,null,null,null,null,null,null,null,null,null,null,null,"000002497","OTARI                                                                                               ","05","02","09","10","0502","000002497 - OTARI                                                                                               "]
[null,null,null,null,null,null,null,null,null,null,null,null,null,null,"000002498","PUERTO MAYO                                                                                         ","05","02","09","10","0502","000002498 - PUERTO MAYO                                                                                         "]
[null,null,null,null,null,null,null,null,null,null,null,null,null,null,"000007113","NATIVIDAD                                                                                           ","05","02","09","10","0502","000007113 - NATIVIDAD                                                                                           "]
[null,null,null,null,null,null,null,null,null,null,null,null,null,null,"000007114","QUISTO CENTRAL                                                                                      ","05","02","09","10","0502","000007114 - QUISTO CENTRAL                                                                                      "]
[null,null,null,null,null,null,null,null,null,null,null,null,null,null,"000015104","TAMBO DEL ENE                                                                                       ","05","02","09","10","0502","000015104 - TAMBO DEL ENE                                                                                       "]
[null,null,null,null,null,null,null,null,null,null,null,null,null,null,"000015169","PITIRINQUINI                                                                                        ","05","02","09","10","0502","000015169 - PITIRINQUINI                                                                                        "]
[null,null,null,null,null,null,null,null,null,null,null,null,null,null,"000015170","PICHARI BAJA                                                                                        ","05","02","09","10","0502","000015170 - PICHARI BAJA                                                                                        "]
[null,null,null,null,null,null,null,null,null,null,null,null,null,null,"000024638","EJERCITO-MILITAR PICHARI                                                                    ","05","02","09","10","0502","000024638 - EJERCITO-MILITAR PICHARI                                                                    "]
[null,null,null,null,null,null,null,null,null,null,null,null,null,null,"000027230","SANIDAD-PICHARI PNP                                                                            ","05","02","09","10","0502","000027230 - SANIDAD-PICHARI PNP                                                                            "]
[null,null,null,null,null,null,null,null,null,null,null,null,null,null,"000027948","ESSALUD-PICHARI                                                                       ","05","02","09","10","0502","000027948 - ESSALUD-PICHARI                                                                       "]
[null,null,null,null,null,null,null,null,null,null,null,null,null,null,"000032211","NUEVO PROGRESO                                                          ","05","02","09","10","0502","000032211 - NUEVO PROGRESO                                                          "]
[null,null,null,null,null,null,null,null,null,null,null,null,null,null,"000033988","MENTAL COMUNITARIO PICHARI","05","02","09","10",{"$f":"CONCATENATE(Q388,R388)","v":"0502"},{"$f":"CONCATENATE(O388,\" - \",P388)","v":"000033988 - MENTAL COMUNITARIO PICHARI"}]
[null,null,null,null,null,null,null,null,null,null,null,null,null,null,"999999999","(All)","05","99",null,null,{"$f":"CONCATENATE(Q389,R389)","v":"0599"},{"$f":"CONCATENATE(O389,\" - \",P389)","v":"999999999 - (All)"}]
[null,null,null,null,null,null,null,null,null,null,null,null,null,null,"000002398","HOSPITAL SANTO TOMAS","06","00","07","01","0600","000002398 - HOSPITAL SANTO TOMAS"]
[null,null,null,null,null,null,null,null,null,null,null,null,null,null,"000000000","(All)","06","09",null,null,"0609","000000000 - (All)"]
[null,null,null,null,null,null,null,null,null,null,null,null,null,null,"000002399","PULPERA                                                                                             ","06","09","07","01","0609","000002399 - PULPERA                                                                                             "]
[null,null,null,null,null,null,null,null,null,null,null,null,null,null,"000002400","ALHUACCHULLO                                                                                        ","06","09","07","01","0609","000002400 - ALHUACCHULLO                                                                                        "]
[null,null,null,null,null,null,null,null,null,null,null,null,null,null,"000002401","CCAPACMARCA                                                                                         ","06","09","07","02","0609","000002401 - CCAPACMARCA                                                                                         "]
[null,null,null,null,null,null,null,null,null,null,null,null,null,null,"000002404","COLQUEMARCA                                                                                         ","06","09","07","04","0609","000002404 - COLQUEMARCA                                                                                         "]
[null,null,null,null,null,null,null,null,null,null,null,null,null,null,"000002405","CHARAMURAY                                                                                          ","06","09","07","04","0609","000002405 - CHARAMURAY                                                                                          "]
[null,null,null,null,null,null,null,null,null,null,null,null,null,null,"000002407","LLUSCO                                                                                              ","06","09","07","06","0609","000002407 - LLUSCO                                                                                              "]
[null,null,null,null,null,null,null,null,null,null,null,null,null,null,"000002408","QUIÑOTA                                                                                             ","06","09","07","07","0609","000002408 - QUIÑOTA                                                                                             "]
[null,null,null,null,null,null,null,null,null,null,null,null,null,null,"000002409","VELILLE                                                                                             ","06","09","07","08","0609","000002409 - VELILLE                                                                                             "]
[null,null,null,null,null,null,null,null,null,null,null,null,null,null,"000006746","LLIQUE                                                                                              ","06","09","07","01","0609","000006746 - LLIQUE                                                                                              "]
[null,null,null,null,null,null,null,null,null,null,null,null,null,null,"000006747","LUTTO                                                                                               ","06","09","07","06","0609","000006747 - LUTTO                                                                                               "]
[null,null,null,null,null,null,null,null,null,null,null,null,null,null,"000006748","COLLPA                                                                                              ","06","09","07","06","0609","000006748 - COLLPA                                                                                              "]
[null,null,null,null,null,null,null,null,null,null,null,null,null,null,"000006981","CCOYO                                                                                               ","06","09","07","01","0609","000006981 - CCOYO                                                                                               "]
[null,null,null,null,null,null,null,null,null,null,null,null,null,null,"000006982","MELLOTOTORA                                                                                         ","06","09","07","01","0609","000006982 - MELLOTOTORA                                                                                         "]
[null,null,null,null,null,null,null,null,null,null,null,null,null,null,"000006983","ORCCOMA                                                                                             ","06","09","07","01","0609","000006983 - ORCCOMA                                                                                             "]
[null,null,null,null,null,null,null,null,null,null,null,null,null,null,"000006984","CCOLLANA                                                                                            ","06","09","07","07","0609","000006984 - CCOLLANA                                                                                            "]
[null,null,null,null,null,null,null,null,null,null,null,null,null,null,"000006985","TOTORAPALLCA                                                                                        ","06","09","07","06","0609","000006985 - TOTORAPALLCA                                                                                        "]
[null,null,null,null,null,null,null,null,null,null,null,null,null,null,"000007111","YAVINA                                                                                              ","06","09","07","01","0609","000007111 - YAVINA                                                                                              "]
[null,null,null,null,null,null,null,null,null,null,null,null,null,null,"000007112","YORENCCA                                                                                            ","06","09","07","07","0609","000007112 - YORENCCA                                                                                            "]
[null,null,null,null,null,null,null,null,null,null,null,null,null,null,"000008912","ALCCA VICTORIA                                                                                      ","06","09","07","08","0609","000008912 - ALCCA VICTORIA                                                                                      "]
[null,null,null,null,null,null,null,null,null,null,null,null,null,null,"000008913","HUARACO                                                                                             ","06","09","07","04","0609","000008913 - HUARACO                                                                                             "]
[null,null,null,null,null,null,null,null,null,null,null,null,null,null,"000008914","HUAYLLANI                                                                                           ","06","09","07","04","0609","000008914 - HUAYLLANI                                                                                           "]
[null,null,null,null,null,null,null,null,null,null,null,null,null,null,"000008915","PFULLPURI CONDEPAMPA                                                                                ","06","09","07","01","0609","000008915 - PFULLPURI CONDEPAMPA                                                                                "]
[null,null,null,null,null,null,null,null,null,null,null,null,null,null,"000009963","CANCAHUANI                                                                                          ","06","09","07","02","0609","000009963 - CANCAHUANI                                                                                          "]
[null,null,null,null,null,null,null,null,null,null,null,null,null,null,"000012932","YANQUE                                                                                              ","06","09","07","04","0609","000012932 - YANQUE                                                                                              "]
[null,null,null,null,null,null,null,null,null,null,null,null,null,null,"000013185","ESSALUD-SANTO TOMAS","06","09","07","01","0609","000013185 - ESSALUD-SANTO TOMAS"]
[null,null,null,null,null,null,null,null,null,null,null,null,null,null,"000025369","PUMALLACTA","06","09","07","07","0609","000025369 - PUMALLACTA"]
[null,null,null,null,null,null,null,null,null,null,null,null,null,null,"000025371","TUNTUMA","06","09","07","08","0609","000025371 - TUNTUMA"]
[null,null,null,null,null,null,null,null,null,null,null,null,null,null,"000027008","ANTUYO","06","09","07","06","0609","000027008 - ANTUYO"]
[null,null,null,null,null,null,null,null,null,null,null,null,null,null,"000027009","TAHUAY","06","09","07","02","0609","000027009 - TAHUAY"]
[null,null,null,null,null,null,null,null,null,null,null,null,null,null,"000027011","AYACCASI","06","09","07","08","0609","000027011 - AYACCASI"]
[null,null,null,null,null,null,null,null,null,null,null,null,null,null,"000027016","HUAYCUÑUTA - URCURUTA","06","09","07","08","0609","000027016 - HUAYCUÑUTA - URCURUTA"]
[null,null,null,null,null,null,null,null,null,null,null,null,null,null,"000030940","ARCANGEL SAN MIGUEL DE ESQUINA CONGUNYA","06","09","07","01","0609","000030940 - ARCANGEL SAN MIGUEL DE ESQUINA CONGUNYA"]
[null,null,null,null,null,null,null,null,null,null,null,null,null,null,"000000000","(All)","06","01",null,null,"0601","000000000 - (All)"]
[null,null,null,null,null,null,null,null,null,null,null,null,null,null,"000002402","CHAMACA                                                                                             ","06","01","07","03","0601","000002402 - CHAMACA                                                                                             "]
[null,null,null,null,null,null,null,null,null,null,null,null,null,null,"000002403","AÑAHUICHI                                                                                           ","06","01","07","03","0601","000002403 - AÑAHUICHI                                                                                           "]
[null,null,null,null,null,null,null,null,null,null,null,null,null,null,"000002406","LIVITACA                                                                                            ","06","01","07","05","0601","000002406 - LIVITACA                                                                                            "]
[null,null,null,null,null,null,null,null,null,null,null,null,null,null,"000016325","CHILLOROYA - LIVITACA                                                                               ","06","01","07","05","0601","000016325 - CHILLOROYA - LIVITACA                                                                               "]
[null,null,null,null,null,null,null,null,null,null,null,null,null,null,"000016327","AUSANTA                                                                                             ","06","01","07","05","0601","000016327 - AUSANTA                                                                                             "]
[null,null,null,null,null,null,null,null,null,null,null,null,null,null,"000016328","UCCHUCCARCCO                                                                                        ","06","01","07","03","0601","000016328 - UCCHUCCARCCO                                                                                        "]
[null,null,null,null,null,null,null,null,null,null,null,null,null,null,"000016329","INGATA                                                                                              ","06","01","07","03","0601","000016329 - INGATA                                                                                              "]
[null,null,null,null,null,null,null,null,null,null,null,null,null,null,"000016330","CCONCHACCOLLO                                                                                       ","06","01","07","03","0601","000016330 - CCONCHACCOLLO                                                                                       "]
[null,null,null,null,null,null,null,null,null,null,null,null,null,null,"000016332","PATAQUEÑA - LIVITACA","06","01","07","05","0601","000016332 - PATAQUEÑA - LIVITACA"]
[null,null,null,null,null,null,null,null,null,null,null,null,null,null,"000016334","KISIO                                                                                               ","06","01","07","05","0601","000016334 - KISIO                                                                                               "]
[null,null,null,null,null,null,null,null,null,null,null,null,null,null,"000025739","PISQUICOCHA","06","01","07","05","0601","000025739 - PISQUICOCHA"]
[null,null,null,null,null,null,null,null,null,null,null,null,null,null,"000025740","TOTORA - REYNA DE LOS ANGELES","06","01","07","05","0601","000025740 - TOTORA - REYNA DE LOS ANGELES"]
[null,null,null,null,null,null,null,null,null,null,null,null,null,null,"999999999","(All)","06","99",null,null,"0699",{"$f":"CONCATENATE(O437,\" - \",P437)","v":"999999999 - (All)"}]
[null,null,null,null,null,null,null,null,null,null,null,null,null,null,"999999999","(All)","99","99",null,null,"9999",{"$f":"CONCATENATE(O438,\" - \",P438)","v":"999999999 - (All)"}]

{"sheet":"TD","index":1,"n_rows":314,"n_cols":256,"rows_kept":314,"cut":false,"hidden":true,"merged":[[1,1,1,3]]}
[]
[null,"Datos",null,null,null,"Tabla",{"$f":"IF(F3=\"(Todas)\",\"CUSCO \",\"\")","v":""}]
[null,"RED","03 - LA CONVENCION",null,null,{"$f":"TRIM(MID(C3,5,90))","v":"LA CONVENCION"},{"$f":"IF(F3=\"(All)\",\" \",F3)","v":"LA CONVENCION"}]
[null,"Micro Red","0399 - (All)",null,null,{"$f":"TRIM(MID(C4,7,90))","v":"(All)"}," "]
[null,"Establecimiento","999999999 - (All)",null,null,{"$f":"TRIM(MID(C5,12,90))","v":"(All)"}," "]
[null,"Provincia","00 - (All)",null,null,{"$f":"TRIM(MID(C6,6,90))","v":"(All)"}," "]
[null,"Distrito","0000 - (All)",null,null,{"$f":"TRIM(MID(C7,8,90))","v":"(All)"}," "]
[null,"UE","7777 - (All)",null,null,{"$f":"TRIM(MID(C8,8,90))","v":"(All)"}," "]
[]
[null,"AÑO","2024"]
[null,"MESES",1,2,3,4,5,6,7,8,9,10,11,0]
[null,"Mes_desc",{"$f":"IF(C11=1,\"ENERO\",\"\")","v":"ENERO"},{"$f":"IF(D11=2,\"FEBRERO\",\"\")","v":"FEBRERO"},{"$f":"IF(E11=3,\"MARZO\",\"\")","v":"MARZO"},{"$f":"IF(F11=4,\"ABRIL\",\"\")","v":"ABRIL"},{"$f":"IF(G11=5,\"MAYO\",\"\")","v":"MAYO"},{"$f":"IF(H11=6,\"JUNIO\",\"\")","v":"JUNIO"},{"$f":"IF(I11=7,\"JULIO\",\"\")","v":"JULIO"},{"$f":"IF(J11=8,\"AGOSTO\",\"\")","v":"AGOSTO"},{"$f":"IF(K11=9,\"SETIEMBRE\",\"\")","v":"SETIEMBRE"},{"$f":"IF(L11=10,\"OCTUBRE\",\"\")","v":"OCTUBRE"},{"$f":"IF(M11=11,\"NOVIEMBRE\",\"\")","v":"NOVIEMBRE"},{"$f":"IF(N11=12,\"DICIEMBRE\",\"\")","v":""},{"$f":"IF(C11=1,C12,IF(D11=2,D12,IF(E11=3,E12,IF(F11=4,F12,IF(G11=5,G12,IF(H11=6,H12,IF(I11=7,I12,IF(J11=8,J12,IF(K11=9,K12,IF(L11=10,L12,IF(M11=11,M12,IF(N11=12,N12,\"\"))))))))))))","v":"ENERO"}]
[]
[null,"ACUMULADO",20,22,24,26,28,30,32,34,36,38,40,null,{"$f":"MIN(C14:N14)","v":20},{"$f":"MAX(C14:N14)","v":40}]
[null,"Mes_desc_Acu",{"$f":"IF(C14=20,\"ENERO\",\"\")","v":"ENERO"},{"$f":"IF(D14=22,\"FEBRERO\",\"\")","v":"FEBRERO"},{"$f":"IF(E14=24,\"MARZO\",\"\")","v":"MARZO"},{"$f":"IF(F14=26,\"ABRIL\",\"\")","v":"ABRIL"},{"$f":"IF(G14=28,\"MAYO\",\"\")","v":"MAYO"},{"$f":"IF(H14=30,\"JUNIO\",\"\")","v":"JUNIO"},{"$f":"IF(I14=32,\"JULIO\",\"\")","v":"JULIO"},{"$f":"IF(J14=34,\"AGOSTO\",\"\")","v":"AGOSTO"},{"$f":"IF(K14=36,\"SETIEMBRE\",\"\")","v":"SETIEMBRE"},{"$f":"IF(L14=38,\"OCTUBRE\",\"\")","v":"OCTUBRE"},{"$f":"IF(M14=40,\"NOVIEMBRE\",\"\")","v":"NOVIEMBRE"},{"$f":"IF(N14=42,\"DICIEMBRE\",\"\")","v":""},{"$f":"IF(O14=C14,C15,IF(O14=D14,D15,IF(O14=E14,E15,IF(O14=F14,F15,IF(O14=G14,G15,IF(O14=H14,H15,IF(O14=I14,I15,IF(O14=J14,J15,IF(O14=K14,K15,IF(O14=L14,L15,IF(O14=M14,M15,IF(O14=N14,N15,\"\"))))))))))))","v":"ENERO"},{"$f":"IF(P14=D14,D15,IF(P14=E14,E15,IF(P14=F14,F15,IF(P14=G14,G15,IF(P14=H14,H15,IF(P14=I14,I15,IF(P14=J14,J15,IF(P14=K14,K15,IF(P14=L14,L15,IF(P14=M14,M15,IF(P14=N14,N15,IF(P14=O14,O15,\"\"))))))))))))","v":"NOVIEMBRE"}]
[null,null,null,null,null,null,null,null,null,null,null,null,null,null,{"$f":"CONCATENATE(O15,\" - \",P15)","v":"ENERO - NOVIEMBRE"}]
[null,null,null,null,null,null,null,null,null,null,null,null,null,null,{"$f":"IF(O14=P14,O12,O16)","v":"ENERO - NOVIEMBRE"}]
[]
[]
[]
[]
[]
[]
[]
[]
[]
[]
["Salud Mental 1"]
[]
["Anio",2024]
["UE","(Todas)"]
["Red","LA CONVENCION"]
["MicroRed","(Todas)"]
["EESS","(Todas)"]
["Provincia","(Todas)"]
["Distrito","(Todas)"]
[]
["Etiquetas de fila"," CSMental_Reunion_1"," CSMental_Reunion_2"," CSMental_Reunion_3"," CSMental_Reunion_4"," CSMental_Reunion_5"," CSMental_Reunion_6"," CSMental_Reunion_7"," CSMental_Reunion_8"," CSMental_Reunion_9"," CSMental_Reunion_10"," CSMental_Participa_1"," CSMental_Participa_2"," CSMental_Participa_3"," CSMental_Participa_4"," CSMental_Participa_5"," CSMental_Participa_6"," CSMental_Participa_7"," CSMental_Participa_8"," CSMental_Participa_9"," CSMental_Participa_10"," MedicoPsiq_Reunion_1"," MedicoPsiq_Reunion_2"," MedicoPsiq_Reunion_3"," MedicoPsiq_Reunion_4"," MedicoPsiq_Reunion_5"," MedicoPsiq_Reunion_6"," MedicoPsiq_Reunion_7"," MedicoPsiq_Reunion_8"," MedicoPsiq_Reunion_9"," MedicoPsiq_Reunion_10"," Psicol_Reunion_1"," Psicol_Reunion_2"," Psicol_Reunion_3"," Psicol_Reunion_4"," Psicol_Reunion_5"," Psicol_Reunion_6"," Psicol_Reunion_7"," Psicol_Reunion_8"," Psicol_Reunion_9"," Psicol_Reunion_10"," Enferm_Reunion_1"," Enferm_Reunion_2"," Enferm_Reunion_3"," Enferm_Reunion_4"," Enferm_Reunion_5"," Enferm_Reunion_6"," Enferm_Reunion_7"," Enferm_Reunion_8"," Enferm_Reunion_9"," Enferm_Reunion_10"," TSocial_Reunion_1"," TSocial_Reunion_2"," TSocial_Reunion_3"," TSocial_Reunion_4"," TSocial_Reunion_5"," TSocial_Reunion_6"," TSocial_Reunion_7"," TSocial_Reunion_8"," TSocial_Reunion_9"," TSocial_Reunion_10"," MedicoFam_Reunion_1"," MedicoFam_Reunion_2"," MedicoFam_Reunion_3"," MedicoFam_Reunion_4"," MedicoFam_Reunion_5"," MedicoFam_Reunion_6"," MedicoFam_Reunion_7"," MedicoFam_Reunion_8"," MedicoFam_Reunion_9"," MedicoFam_Reunion_10"," Otro_Reunion_1"," Otro_Reunion_2"," Otro_Reunion_3"," Otro_Reunion_4"," Otro_Reunion_5"," Otro_Reunion_6"," Otro_Reunion_7"," Otro_Reunion_8"," Otro_Reunion_9"," Otro_Reunion_10"," Tam_VIF_0_2F"," Tam_VIF_0_2M"," Tam_VIF_3_5F"," Tam_VIF_3_5M"," Tam_VIF_6_9F"," Tam_VIF_6_9M"," Tam_VIF_10_11F"," Tam_VIF_10_11M"," Tam_VIF_12_14F"," Tam_VIF_12_14M"," Tam_VIF_15_17F"," Tam_VIF_15_17M"," Tam_VIF_18_24F"," Tam_VIF_18_24M"," Tam_VIF_25_29F"," Tam_VIF_25_29M"," Tam_VIF_30_39F"," Tam_VIF_30_39M"," Tam_VIF_40_59F"," Tam_VIF_40_59M"," Tam_VIF_60_79F"," Tam_VIF_60_79M"," Tam_VIF_80F"," Tam_VIF_80M"," Tam_VIF_TOTAL"," Tam_VIF_g_10_11F"," Tam_VIF_g_12_14F"," Tam_VIF_g_15_17F"," Tam_VIF_g_18_24F"," Tam_VIF_g_25_29F"," Tam_VIF_g_30_39F"," Tam_VIF_g_40_59F"," Tam_TD_10_11F"," Tam_TD_10_11M"," Tam_TD_12_14F"," Tam_TD_12_14M"," Tam_TD_15_17F"," Tam_TD_15_17M"," Tam_TD_18_24F"," Tam_TD_18_24M"," Tam_TD_25_29F"," Tam_TD_25_29M"," Tam_TD_30_39F"," Tam_TD_30_39M"," Tam_TD_40_59F"," Tam_TD_40_59M"," Tam_TD_60_79F"," Tam_TD_60_79M"," Tam_TD_80F"," Tam_TD_80M"," Tam_TD_TOTAL"," Tam_TD_g_10_11F"," Tam_TD_g_12_14F"," Tam_TD_g_15_17F"," Tam_TD_g_18_24F"," Tam_TD_g_25_29F"," Tam_TD_g_30_39F"," Tam_TD_g_40_59F"," Tam_AD_6_9F"," Tam_AD_6_9M"," Tam_AD_10_11F"," Tam_AD_10_11M"," Tam_AD_12_14F"," Tam_AD_12_14M"," Tam_AD_15_17F"," Tam_AD_15_17M"," Tam_AD_18_24F"," Tam_AD_18_24M"," Tam_AD_25_29F"," Tam_AD_25_29M"," Tam_AD_30_39F"," Tam_AD_30_39M"," Tam_AD_40_59F"," Tam_AD_40_59M"," Tam_AD_60_79F"," Tam_AD_60_79M"," Tam_AD_80F"," Tam_AD_80M"," Tam_AD_TOTAL"," Tam_EP_12_14F"," Tam_EP_12_14M"," Tam_EP_15_17F"," Tam_EP_15_17M"," Tam_EP_18_24F"," Tam_EP_18_24M"," Tam_EP_25_29F"," Tam_EP_25_29M"," Tam_EP_30_39F"," Tam_EP_30_39M"," Tam_EP_40_59F"," Tam_EP_40_59M"," Tam_EP_60_79F"," Tam_EP_60_79M"," Tam_EP_80F"," Tam_EP_80M"," Tam_EP_TOTAL"," Tam_PND_0_2F"," Tam_PND_0_2M"," Tam_PND_TOTAL"," Tam_DCognitivo_60_79F"," Tam_DCognitivo_60_79M"," Tam_DCognitivo_80F"," Tam_DCognitivo_80M"," Tam_DCognitivo_TOTAL"," Tam_TMentalComp_3_5F"," Tam_TMentalComp_3_5M"," Tam_TMentalComp_6_9F"," Tam_TMentalComp_6_9M"," Tam_TMentalComp_10_11F"," Tam_TMentalComp_10_11M"," Tam_TMentalComp_12_14F"," Tam_TMentalComp_12_14M"," Tam_TMentalComp_15_17F"," Tam_TMentalComp_15_17M","Suma de Tam_TMentalComp_TOTAL"," Tam_VIFPOS_0_2F"," Tam_VIFPOS_0_2M"," Tam_VIFPOS_3_5F"," Tam_VIFPOS_3_5M"," Tam_VIFPOS_6_9F"," Tam_VIFPOS_6_9M"," Tam_VIFPOS_10_11F"," Tam_VIFPOS_10_11M"," Tam_VIFPOS_12_14F"," Tam_VIFPOS_12_14M"," Tam_VIFPOS_15_17F"," Tam_VIFPOS_15_17M"," Tam_VIFPOS_18_24F"," Tam_VIFPOS_18_24M"," Tam_VIFPOS_25_29F"," Tam_VIFPOS_25_29M"," Tam_VIFPOS_30_39F"," Tam_VIFPOS_30_39M"," Tam_VIFPOS_40_59F"," Tam_VIFPOS_40_59M"," Tam_VIFPOS_60_79F"," Tam_VIFPOS_60_79M"," Tam_VIFPOS_80F"," Tam_VIFPOS_80M"," Tam_VIFPOS_TOTAL"," Tam_VIFPOS_g_10_11F"," Tam_VIFPOS_g_12_14F"," Tam_VIFPOS_g_15_17F"," Tam_VIFPOS_g_18_24F"," Tam_VIFPOS_g_25_29F"," Tam_VIFPOS_g_30_39F"," Tam_VIFPOS_g_40_59F"," Tam_VIFPOS_g_Total"," Tam_TDPOS_10_11F"," Tam_TDPOS_10_11M"," Tam_TDPOS_12_14F"," Tam_TDPOS_12_14M"," Tam_TDPOS_15_17F"," Tam_TDPOS_15_17M"," Tam_TDPOS_18_24F"," Tam_TDPOS_18_24M"," Tam_TDPOS_25_29F"," Tam_TDPOS_25_29M"," Tam_TDPOS_30_39F"," Tam_TDPOS_30_39M"," Tam_TDPOS_40_59F"," Tam_TDPOS_40_59M"," Tam_TDPOS_60_79F"," Tam_TDPOS_60_79M"," Tam_TDPOS_80F"," Tam_TDPOS_80M"," Tam_TDPOS_TOTAL"]
[1,0,0,0,0,0,0,0,0,0,0,0,0,0,0,0,0,0,0,0,0,0,0,0,0,0,0,0,0,0,0,0,0,0,0,0,0,0,0,0,0,0,0,0,0,0,0,0,0,0,0,0,0,0,0,0,0,0,0,0,0,0,0,0,0,0,0,0,0,0,0,0,0,0,0,0,0,0,0,0,0,659,676,383,406,37,51,10,10,26,15,85,21,450,32,377,19,825,48,510,92,80,67,9,9,4897,0,3,14,51,25,53,6,0,0,4,2,6,3,29,29,15,3,46,7,59,32,35,21,4,5,300,0,0,0,2,1,5,1,0,0,0,0,1,0,4,2,43,32,8,8,28,19,35,25,20,14,1,1,241,0,0,9,0,13,4,11,1,29,3,17,13,15,6,0,1,122,5,5,10,23,17,2,8,50,4,3,9,13,6,3,6,10,6,4,64,0,0,0,3,3,4,2,0,7,1,2,2,7,1,11,0,21,3,16,3,1,0,0,0,87,0,0,0,0,1,0,0,1,0,0,1,0,2,1,10,6,3,2,10,2,17,11,10,4,1,1,81]
[2,0,0,0,0,0,0,0,0,0,0,0,0,0,0,0,0,0,0,0,0,0,0,0,0,0,0,0,0,0,0,0,0,0,0,0,0,0,0,0,0,0,0,0,0,0,0,0,0,0,0,0,0,0,0,0,0,0,0,0,0,0,0,0,0,0,0,0,0,0,0,0,0,0,0,0,0,0,0,0,0,572,624,353,347,63,58,36,26,37,12,98,15,414,42,368,18,717,42,497,94,68,61,8,8,4578,0,1,17,38,24,34,4,0,1,7,4,8,4,39,21,26,6,52,11,71,33,36,35,7,5,366,0,0,0,4,4,7,0,0,0,0,0,5,3,8,3,21,21,13,9,27,10,37,39,27,23,2,0,248,2,1,3,3,20,34,8,3,23,3,24,14,19,18,3,1,179,4,3,7,30,23,9,13,75,5,6,12,25,7,8,5,8,1,1,78,0,0,0,0,3,2,1,3,3,2,3,1,9,0,10,1,19,1,16,1,2,2,2,0,81,0,0,0,1,0,0,0,1,0,0,0,1,3,2,9,1,8,2,15,4,13,4,7,3,0,0,72]
[3,4,0,0,0,0,0,0,0,0,0,25,0,0,0,0,0,0,0,0,0,1,0,0,0,0,0,0,0,0,0,4,0,0,0,0,0,0,0,0,0,4,0,0,0,0,0,0,0,0,0,0,0,0,0,0,0,0,0,0,0,0,0,0,0,0,0,0,0,0,0,3,0,0,0,0,0,0,0,0,0,544,662,338,355,41,47,16,10,47,20,88,10,360,19,327,20,659,33,411,75,66,50,7,3,4208,0,3,7,57,31,46,10,2,1,6,3,12,2,62,19,30,5,77,17,66,37,47,44,6,8,444,0,0,2,7,3,6,1,0,0,1,0,4,5,5,3,37,19,17,10,63,23,52,51,30,35,2,2,359,4,3,3,2,20,14,12,4,38,9,31,11,20,19,2,2,194,1,4,5,40,36,12,5,93,6,7,8,14,9,1,5,8,6,1,65,0,1,0,2,4,3,3,1,6,1,2,2,10,2,6,1,21,5,13,1,3,0,1,0,88,0,0,0,0,0,0,0,0,0,0,0,0,5,0,10,2,6,0,16,4,15,4,12,7,1,3,85]
[4,0,4,0,0,0,0,0,0,0,0,0,34,0,0,0,0,0,0,0,0,0,3,0,0,0,0,0,0,0,0,0,4,0,0,0,0,0,0,0,0,0,4,0,0,0,0,0,0,0,0,0,0,0,0,0,0,0,0,0,0,0,0,0,0,0,0,0,0,0,0,0,1,0,0,0,0,0,0,0,0,604,670,358,378,146,167,100,87,147,120,129,61,260,22,246,11,455,31,291,55,72,50,9,19,4488,0,2,14,47,43,62,10,1,1,92,89,36,35,36,12,40,7,57,11,78,24,48,50,11,9,637,0,0,3,5,8,10,2,0,1,0,1,35,37,24,30,35,20,37,8,72,27,85,44,31,43,7,7,544,58,42,30,34,8,10,9,2,15,4,22,6,18,14,2,3,277,0,1,1,21,20,3,5,49,2,8,9,12,6,4,44,37,28,25,175,1,0,1,1,0,3,2,4,4,2,5,2,9,2,8,0,15,3,19,2,2,1,0,1,87,0,0,0,0,0,1,0,1,0,0,4,1,4,2,10,5,7,5,13,2,18,2,14,8,3,4,102]
[5,0,0,4,0,0,0,0,0,0,0,0,0,29,0,0,0,0,0,0,0,0,0,2,0,0,0,0,0,0,0,0,0,4,0,0,0,0,0,0,0,0,0,4,0,0,0,0,0,0,0,0,0,0,0,0,0,0,0,0,0,0,0,0,0,0,0,0,0,0,0,0,0,2,0,0,0,0,0,0,0,580,662,408,376,71,77,14,15,225,98,202,73,198,9,167,9,259,27,186,49,35,37,3,4,3784,0,1,13,52,24,48,6,0,2,23,17,9,4,22,11,27,6,54,17,61,26,39,34,7,4,363,0,0,0,6,5,8,1,2,0,0,0,51,6,18,3,35,6,34,3,55,19,54,35,10,15,2,3,351,17,15,2,1,2,0,2,1,3,0,8,1,3,2,0,0,57,1,3,4,6,6,3,2,17,0,2,2,5,2,5,3,3,9,8,39,0,0,1,4,3,3,1,2,4,0,4,4,6,1,9,0,10,0,11,1,2,0,0,0,66,0,0,0,0,0,0,0,0,0,0,1,1,5,0,8,2,10,2,14,4,20,5,12,8,3,2,97]
[6,0,0,0,4,0,0,0,0,0,0,0,0,0,34,0,0,0,0,0,0,0,0,0,3,0,0,0,0,0,0,0,0,0,4,0,0,0,0,0,0,0,0,0,4,0,0,0,0,0,0,0,0,0,0,0,0,0,0,0,0,0,0,0,0,0,0,0,0,0,0,0,0,0,0,0,0,0,0,0,0,596,639,335,364,62,62,18,34,144,156,256,237,216,23,147,18,290,25,145,36,39,18,3,0,3863,0,0,14,44,30,72,7,2,0,35,19,40,31,24,6,26,5,43,16,53,28,29,16,3,6,382,0,0,2,2,1,1,0,1,0,1,0,88,86,111,107,29,7,30,7,69,9,45,30,13,16,1,4,654,22,19,25,32,2,0,1,1,4,4,11,6,3,5,2,2,139,0,2,2,16,18,3,2,39,0,2,4,9,2,1,1,4,1,4,28,0,0,0,1,2,3,1,0,4,4,7,2,6,0,3,0,21,2,10,0,4,1,0,0,71,0,0,0,1,0,2,0,3,1,0,6,0,6,0,8,1,7,3,16,5,9,10,6,1,0,0,79]
[7,0,0,0,0,4,0,0,0,0,0,0,0,0,0,35,0,0,0,0,0,0,0,0,0,2,0,0,0,0,0,0,0,0,0,4,0,0,0,0,0,0,0,0,0,4,0,0,0,0,0,0,0,0,0,0,0,0,0,0,0,0,0,0,0,0,0,0,0,0,0,0,0,0,0,0,0,0,0,0,0,630,639,344,360,33,44,14,13,108,92,230,174,167,19,127,6,262,18,120,39,33,36,7,4,3519,0,1,9,51,36,65,6,1,0,11,10,16,8,32,8,31,6,45,12,56,33,30,17,1,1,318,0,0,0,3,2,1,1,0,0,0,0,35,24,21,19,20,11,23,4,41,16,53,29,17,23,4,0,340,5,3,5,4,1,1,4,0,4,3,10,9,3,6,0,1,59,0,0,0,13,19,4,3,39,7,16,9,6,1,1,4,3,3,1,51,1,0,2,0,0,2,1,0,3,2,6,3,10,0,8,0,18,3,18,5,1,0,0,0,83,0,0,1,0,0,0,0,1,0,0,2,2,5,0,8,1,7,1,9,4,12,5,6,2,0,0,64]
[8,0,0,0,0,0,4,0,0,0,0,0,0,0,0,0,32,0,0,0,0,0,0,0,0,0,1,0,0,0,0,0,0,0,0,0,4,0,0,0,0,0,0,0,0,0,4,0,0,0,0,0,0,0,0,0,0,0,0,0,0,0,0,0,0,0,0,0,0,0,0,0,0,0,0,0,0,0,0,0,0,563,606,371,351,26,19,3,10,51,32,98,41,143,18,129,11,250,38,153,42,34,24,9,5,3027,0,5,13,37,32,58,6,0,0,9,5,7,14,33,6,31,7,67,15,64,15,21,20,4,8,326,0,0,0,5,2,3,0,0,0,0,0,19,8,17,14,27,3,30,9,54,17,66,23,20,19,1,7,334,7,6,5,8,1,1,1,0,4,0,5,6,5,7,0,1,57,0,1,1,18,19,5,8,50,1,6,8,12,2,5,4,5,3,0,46,0,0,2,3,1,2,0,1,5,3,5,1,3,0,5,0,20,1,21,5,3,0,0,0,81,0,0,0,1,0,0,1,2,0,0,1,1,1,1,6,0,6,3,9,4,11,0,5,0,0,0,48]
[9,0,0,0,0,0,0,4,0,0,0,0,0,0,0,0,0,34,0,0,0,0,0,0,0,0,0,1,0,0,0,0,0,0,0,0,0,4,0,0,0,0,0,0,0,0,0,4,0,0,0,0,0,0,0,0,0,0,0,0,0,0,0,0,0,0,0,0,0,0,0,0,0,0,0,0,0,3,0,0,0,604,606,347,397,19,19,7,7,196,164,150,127,148,13,123,14,226,22,148,42,31,26,1,2,3439,0,3,13,41,34,42,9,0,1,49,26,54,41,41,14,51,7,116,23,96,32,39,27,9,11,637,0,0,2,6,4,6,2,1,0,0,0,76,55,79,72,34,12,33,12,86,30,62,57,19,32,3,3,666,51,39,57,55,3,3,5,1,12,4,13,12,4,5,0,1,265,1,1,2,13,17,3,6,39,2,6,13,10,2,3,3,2,3,5,49,0,0,0,0,0,3,2,0,2,1,4,1,11,1,9,0,21,2,20,3,1,0,0,0,81,0,0,1,0,0,1,0,2,0,1,2,0,6,1,17,3,7,0,18,1,17,3,7,2,0,2,87]
[10,0,0,0,0,0,0,0,3,0,0,0,0,0,0,0,0,0,20,0,0,0,0,0,0,0,0,0,2,0,0,0,0,0,0,0,0,0,4,0,0,0,0,0,0,0,0,0,3,0,0,0,0,0,0,0,0,0,0,0,0,0,0,0,0,0,0,0,0,0,0,0,0,0,0,0,0,0,2,0,0,596,620,394,395,27,28,6,11,106,76,112,86,170,15,148,5,239,15,159,37,39,29,2,7,3322,0,1,11,40,46,42,7,0,0,19,22,11,17,35,8,47,2,82,13,97,39,47,29,6,7,481,0,0,1,3,3,4,1,0,0,0,1,65,80,38,42,20,20,22,12,64,25,70,43,31,42,1,7,583,22,34,22,38,16,6,12,4,17,3,37,4,18,13,2,2,250,4,3,7,20,25,3,2,50,3,12,7,7,4,9,21,29,10,22,124,0,0,1,0,3,0,1,3,2,2,3,1,8,0,4,0,15,0,13,3,0,0,0,0,59,0,0,0,1,0,0,0,1,0,0,2,0,0,3,8,0,2,0,9,1,13,0,8,0,1,1,48]
[11,0,0,0,0,0,0,0,0,4,0,0,0,0,0,0,0,0,0,40,0,0,0,0,0,0,0,0,0,2,0,0,0,0,0,0,0,0,0,4,0,0,0,0,0,0,0,0,0,4,0,0,0,0,0,0,0,0,0,0,0,0,0,0,0,0,0,0,0,0,0,0,0,0,0,0,0,0,0,2,0,483,599,341,338,32,36,19,24,157,137,206,193,122,15,109,12,202,19,147,43,50,27,9,5,3325,0,0,10,36,24,43,2,2,0,35,35,31,35,55,15,38,7,51,13,78,31,26,29,2,1,484,0,0,1,4,2,5,0,0,0,0,0,67,44,71,54,20,6,24,3,38,26,62,42,12,18,1,2,490,17,14,19,8,15,2,16,3,35,13,23,10,14,19,3,2,213,0,3,3,6,7,3,2,18,2,5,8,18,7,16,3,8,4,2,73,0,0,1,0,1,3,0,0,4,0,4,1,10,0,11,2,12,1,9,1,0,0,0,0,60,0,0,0,0,0,0,0,0,1,0,1,2,0,1,10,0,6,3,6,0,16,2,5,3,0,0,56]
["Total general",4,4,4,4,4,4,4,3,4,0,25,34,29,34,35,32,34,20,40,0,1,3,2,3,2,1,1,2,2,0,4,4,4,4,4,4,4,4,4,0,4,4,4,4,4,4,4,3,4,0,0,0,0,0,0,0,0,0,0,0,0,0,0,0,0,0,0,0,0,0,3,1,2,0,0,0,3,2,2,0,6431,7003,3972,4067,557,608,243,247,1244,922,1654,1038,2648,227,2268,143,4384,318,2767,604,547,425,67,66,42450,0,20,135,494,349,565,73,8,6,290,232,230,194,408,149,362,61,690,155,779,330,397,322,60,65,4738,0,0,11,47,35,56,9,4,1,2,2,446,348,396,349,321,157,271,85,597,221,621,418,230,280,25,36,4810,205,176,180,185,101,75,81,20,184,46,201,92,122,114,14,16,1812,16,26,42,206,207,50,56,519,32,73,89,131,48,56,99,117,74,73,792,2,1,8,14,20,28,14,14,44,18,45,20,89,7,84,4,193,21,166,25,19,4,3,1,844,0,0,2,4,1,4,1,12,2,1,20,8,37,11,104,21,69,21,135,31,161,46,92,38,9,13,819]
[]
[]
["Salud Mental 2"]
["Anio",2024]
["UE","(Todas)"]
["Red","LA CONVENCION"]
["MicroRed","(Todas)"]
["EESS","(Todas)"]
["Provincia","(Todas)"]
["Distrito","(Todas)"]
[]
["Etiquetas de fila"," Tam_TDPOS_g_10_11F"," Tam_TDPOS_g_12_14F"," Tam_TDPOS_g_15_17F"," Tam_TDPOS_g_18_24F"," Tam_TDPOS_g_25_29F"," Tam_TDPOS_g_30_39F"," Tam_TDPOS_g_40_59F"," Tam_TDPOS_g_TOTAL"," Tam_TCAPOS_10_11F"," Tam_TCAPOS_10_11M"," Tam_TCAPOS_12_14F"," Tam_TCAPOS_12_14M"," Tam_TCAPOS_15_17F"," Tam_TCAPOS_15_17M"," Tam_TCAPOS_18_24F"," Tam_TCAPOS_18_24M"," Tam_TCAPOS_25_29F"," Tam_TCAPOS_25_29M"," Tam_TCAPOS_30_39F"," Tam_TCAPOS_30_39M"," Tam_TCAPOS_40_59F"," Tam_TCAPOS_40_59M"," Tam_TCAPOS_60_79F"," Tam_TCAPOS_60_79M"," Tam_TCAPOS_80F"," Tam_TCAPOS_80M"," Tam_TCAPOS_TOTAL"," Tam_TCTPOS_10_11F"," Tam_TCTPOS_10_11M"," Tam_TCTPOS_12_14F"," Tam_TCTPOS_12_14M"," Tam_TCTPOS_15_17F"," Tam_TCTPOS_15_17M"," Tam_TCTPOS_18_24F"," Tam_TCTPOS_18_24M"," Tam_TCTPOS_25_29F"," Tam_TCTPOS_25_29M"," Tam_TCTPOS_30_39F"," Tam_TCTPOS_30_39M"," Tam_TCTPOS_40_59F"," Tam_TCTPOS_40_59M"," Tam_TCTPOS_60_79F"," Tam_TCTPOS_60_79M"," Tam_TCTPOS_80F"," Tam_TCTPOS_80M"," Tam_TCTPOS_TOTAL"," Tam_TCDPOS_10_11F"," Tam_TCDPOS_10_11M"," Tam_TCDPOS_12_14F"," Tam_TCDPOS_12_14M"," Tam_TCDPOS_15_17F"," Tam_TCDPOS_15_17M"," Tam_TCDPOS_18_24F"," Tam_TCDPOS_18_24M"," Tam_TCDPOS_25_29F"," Tam_TCDPOS_25_29M"," Tam_TCDPOS_30_39F"," Tam_TCDPOS_30_39M"," Tam_TCDPOS_40_59F"," Tam_TCDPOS_40_59M"," Tam_TCDPOS_60_79F"," Tam_TCDPOS_60_79M"," Tam_TCDPOS_80F"," Tam_TCDPOS_80M"," Tam_TCDPOS_TOTAL"," Tam_EPPOS_12_14F"," Tam_EPPOS_12_14M"," Tam_EPPOS_15_17F"," Tam_EPPOS_15_17M"," Tam_EPPOS_18_24F"," Tam_EPPOS_18_24M"," Tam_EPPOS_25_29F"," Tam_EPPOS_25_29M"," Tam_EPPOS_30_39F"," Tam_EPPOS_30_39M"," Tam_EPPOS_40_59F"," Tam_EPPOS_40_59M"," Tam_EPPOS_60_79F"," Tam_EPPOS_60_79M"," Tam_EPPOS_80F"," Tam_EPPOS_80M"," Tam_EPPOS_TOTAL"," Tam_PND_POS_0_2F"," Tam_PND_POS_0_2M"," Tam_PND_POS_TOTAL"," Tam_DCognitivo_POS_60_79F"," Tam_DCognitivo_POS_60_79M"," Tam_DCognitivo_POS_80F"," Tam_DCognitivo_POS_80M"," Tam_DCognitivo_POS_TOTAL"," Tam_TMentalComp_POS_3_5F"," Tam_TMentalComp_POS_3_5M"," Tam_TMentalComp_POS_6_9F"," Tam_TMentalComp_POS_6_9M"," Tam_TMentalComp_POS_10_11F"," Tam_TMentalComp_POS_10_11M"," Tam_TMentalComp_POS_12_14F"," Tam_TMentalComp_POS_12_14M"," Tam_TMentalComp_POS_15_17F"," Tam_TMentalComp_POS_15_17M"," Tam_TMentalComp_POS_TOTAL"," Tam_AVP_VIF_F"," Tam_AVP_VIF_M"," Tam_AVP_TD_F"," Tam_AVP_TD_M"," Tam_AVP_AD_F"," Tam_AVP_AD_M"," Tam_AVP_EP_F"," Tam_AVP_EP_M"," Tam_AVP_PND_F"," Tam_AVP_PND_M"," Tam_AVP_DCognitivo_F"," Tam_AVP_DCognitivo_M"," Tam_AVP_TMentalComp_F"," Tam_AVP_TMentalComp_M"," Tam_AVP_VIFPOS_F"," Tam_AVP_VIFPOS_M"," Tam_AVP_TDPOS_F"," Tam_AVP_TDPOS_M"," Tam_AVP_ALCOHOLPOS_F"," Tam_AVP_ALCOHOLPOS_M"," Tam_AVP_TABACOPOS_F"," Tam_AVP_TABACOPOS_M"," Tam_AVP_DROGAPOS_F"," Tam_AVP_DROGAPOS_M"," Tam_AVP_EPPOS_F"," Tam_AVP_EPPOS_M"," Tam_AVP_PNDPOS_F"," Tam_AVP_PNDPOS_M"," Tam_AVP_DCognitivoPOS_F"," Tam_AVP_DCognitivoPOS_M"," Tam_AVP_TMentalCompPOS_F"," Tam_AVP_TMentalCompPOS_M"," Tam_TrasMental_PE_3_11F"," Tam_TrasMental_PE_3_11M"," Tam_TrasMental_PE_12_17F"," Tam_TrasMental_PE_12_17M"," Tam_TrasMental_PA_3_11F"," Tam_TrasMental_PA_3_11M"," Tam_TrasMental_PA_12_17F"," Tam_TrasMental_PA_12_17M"," Tam_TrasMental_PC_3_11F"," Tam_TrasMental_PC_3_11M"," Tam_TrasMental_PC_12_17F"," Tam_TrasMental_PC_12_17M"," Atd_acogida_csm_0_2F"," Atd_acogida_csm_0_2M"," Atd_acogida_csm_3_5F"," Atd_acogida_csm_3_5M"," Atd_acogida_csm_6_9F"," Atd_acogida_csm_6_9M"," Atd_acogida_csm_10_11F"," Atd_acogida_csm_10_11M"," Atd_acogida_csm_12_14F"," Atd_acogida_csm_12_14M"," Atd_acogida_csm_15_17F"," Atd_acogida_csm_15_17M"," Atd_acogida_csm_18_24F"," Atd_acogida_csm_18_24M"," Atd_acogida_csm_25_29F"," Atd_acogida_csm_25_29M"," Atd_acogida_csm_30_39F"," Atd_acogida_csm_30_39M"," Atd_acogida_csm_40_59F"," Atd_acogida_csm_40_59M"," Atd_acogida_csm_60_79F"," Atd_acogida_csm_60_79M"," Atd_acogida_csm_80F"," Atd_acogida_csm_80M"," Atd_acogida_csm_TotalF"," Atd_acogida_csm_TotalM"," Atd_VIF_0_2F"," Atd_VIF_0_2M"," Atd_VIF_3_5F"," Atd_VIF_3_5M"," Atd_VIF_6_9F"," Atd_VIF_6_9M"," Atd_VIF_10_11F"," Atd_VIF_10_11M"," Atd_VIF_12_14F"," Atd_VIF_12_14M"," Atd_VIF_15_17F"," Atd_VIF_15_17M"," Atd_VIF_18_24F"," Atd_VIF_18_24M"," Atd_VIF_25_29F"," Atd_VIF_25_29M"," Atd_VIF_30_39F"," Atd_VIF_30_39M"," Atd_VIF_40_59F"," Atd_VIF_40_59M"," Atd_VIF_60_79F"," Atd_VIF_60_79M"," Atd_VIF_80F"," Atd_VIF_80M"," Atd_VIF_TOTALF"," Atd_VIF_TOTALM"," Atc_VIF_TOTALF"," Atc_VIF_TOTALM"," Atd_VIF_g_10_11F"," Atd_VIF_g_12_14F"," Atd_VIF_g_15_17F"," Atd_VIF_g_18_24F"," Atd_VIF_g_25_29F"," Atd_VIF_g_30_39F"," Atd_VIF_g_40_59F"," Atd_VIF_g_Total"," Atc_VIF_g_TOTALF"," Atd_AbusoS_0_2F"," Atd_AbusoS_0_2M"," Atd_AbusoS_3_5F"," Atd_AbusoS_3_5M"," Atd_AbusoS_6_9F"," Atd_AbusoS_6_9M"," Atd_AbusoS_10_11F"," Atd_AbusoS_10_11M"," Atd_AbusoS_12_14F"," Atd_AbusoS_12_14M"," Atd_AbusoS_15_17F"," Atd_AbusoS_15_17M"," Atd_AbusoS_18_24F"," Atd_AbusoS_18_24M"," Atd_AbusoS_25_29F"," Atd_AbusoS_25_29M"," Atd_AbusoS_30_39F"," Atd_AbusoS_30_39M"," Atd_AbusoS_40_59F"," Atd_AbusoS_40_59M"," Atd_AbusoS_60_79F"," Atd_AbusoS_60_79M"," Atd_AbusoS_80F"," Atd_AbusoS_80M"," Atd_AbusoS_TOTALF"," Atd_AbusoS_TOTALM"," Atc_AbusoS_TOTALF"," Atc_AbusoS_TOTALM"," Atd_AbusoS_g_10_11F"," Atd_AbusoS_g_12_14F"," Atd_AbusoS_g_15_17F"," Atd_AbusoS_g_18_24F"," Atd_AbusoS_g_25_29F"," Atd_AbusoS_g_30_39F"," Atd_AbusoS_g_40_59F"," Atd_AbusoS_g_Total"," Atc_AbusoS_g_TOTALF"," Tam_AVP_VIF_g_F"," Tam_AVP_TD_g_F"," Tam_AVP_VIFPOS_g_F"," Tam_AVP_TDPOS_g_F"]
[1,0,0,0,1,0,0,0,1,0,0,1,0,0,1,0,2,0,2,0,7,0,7,0,0,0,0,20,0,0,0,0,0,0,0,0,0,0,0,0,0,0,0,0,0,0,0,0,0,0,0,0,1,0,0,0,0,0,0,0,0,0,0,0,0,1,0,0,1,0,1,1,1,0,1,0,1,2,4,1,0,0,13,0,0,0,2,1,0,1,4,1,3,5,7,3,3,2,6,4,2,36,4,0,3,20,0,0,0,0,0,0,3,0,0,0,3,0,3,2,0,0,0,0,0,0,0,0,0,0,0,0,0,0,3,3,3,6,1,4,0,1,4,2,2,1,1,2,1,8,3,4,0,4,1,4,1,1,8,7,3,8,7,8,11,9,0,4,0,0,36,59,1,0,0,1,3,4,0,0,5,1,4,2,8,1,8,0,15,4,11,1,2,0,0,0,57,14,156,38,0,0,0,0,0,0,0,0,0,0,0,0,0,1,0,2,1,1,0,2,0,0,0,1,0,1,0,0,0,0,0,0,0,8,1,33,3,0,0,0,0,0,0,0,0,0,0,0,0,0]
[2,0,0,0,0,0,0,0,0,0,0,0,0,0,0,0,2,0,2,0,2,0,3,0,0,0,0,9,0,0,0,0,0,0,0,0,0,0,0,0,0,0,0,0,0,0,0,0,0,0,0,0,0,0,1,0,0,0,0,0,0,0,0,0,0,1,0,0,0,0,0,0,0,0,7,2,4,0,2,0,0,0,15,0,0,0,2,0,2,1,5,3,1,4,12,1,4,2,1,1,1,30,13,26,13,16,8,13,8,31,0,0,1,1,0,1,4,3,2,4,0,0,0,0,0,0,0,0,0,0,0,0,0,1,3,4,1,1,0,6,0,0,3,3,0,0,0,0,3,3,2,3,0,2,1,4,3,2,8,3,2,3,9,2,4,9,2,2,0,0,34,33,0,0,0,1,4,1,0,3,4,2,3,0,13,0,12,1,13,0,17,0,3,0,1,0,70,8,170,31,0,0,0,0,0,0,0,0,0,0,0,0,0,0,0,1,0,1,0,4,0,0,0,0,0,1,0,0,0,0,0,0,0,7,0,27,1,0,0,0,0,0,0,0,0,0,0,0,0,0]
[3,0,0,0,0,0,1,0,1,0,0,0,0,0,0,0,0,0,1,0,5,1,7,1,2,0,0,17,0,0,0,0,0,0,0,0,0,0,0,0,0,0,0,0,0,0,0,0,0,0,0,0,0,0,0,0,0,0,0,0,0,0,0,0,0,0,0,0,0,0,1,3,1,1,6,2,4,0,7,3,0,0,28,0,0,0,7,2,1,0,10,4,3,5,8,4,0,3,6,3,1,37,7,0,15,6,0,0,8,7,0,0,1,0,0,0,5,0,7,3,0,0,0,0,0,0,0,0,0,0,0,0,0,0,3,3,1,2,2,2,1,2,6,1,0,0,0,0,4,3,2,2,0,0,4,1,3,1,2,1,6,6,4,7,6,14,2,1,0,0,33,36,0,1,1,1,1,1,2,1,6,0,3,1,14,2,5,0,18,3,18,1,4,0,1,0,73,11,169,39,0,0,0,0,0,0,0,0,0,0,0,0,0,1,0,0,0,5,0,2,0,0,0,3,0,0,1,1,0,0,0,0,0,12,1,38,1,0,0,0,0,0,0,0,0,0,0,0,0,0]
[4,0,0,1,1,1,1,0,4,0,0,0,0,0,0,0,0,0,3,0,5,1,10,0,2,0,0,21,0,0,0,0,0,0,0,0,0,0,0,0,0,0,0,0,0,0,0,0,0,0,0,0,0,1,0,0,0,0,0,0,0,0,0,0,0,1,0,0,0,2,2,0,0,2,2,1,1,1,1,2,0,1,15,0,0,0,1,2,0,2,5,0,5,6,10,5,2,5,6,6,2,47,22,16,10,10,0,0,5,11,0,0,0,0,0,0,4,2,2,3,0,0,0,0,0,0,0,0,0,0,0,0,0,0,5,3,9,5,2,2,1,1,2,10,0,0,1,1,2,5,7,5,2,1,6,1,3,4,12,7,5,0,8,7,9,8,1,3,1,2,57,44,1,0,2,1,3,4,2,4,3,1,4,1,11,1,10,1,14,3,17,1,2,0,0,1,69,18,151,37,0,0,0,0,0,0,0,0,0,0,0,0,0,0,0,1,0,3,0,1,0,3,0,0,0,0,0,0,0,0,0,0,0,8,0,35,1,0,0,0,0,0,0,0,0,0,0,1,0,0]
[5,0,0,0,0,1,0,0,1,0,0,1,0,0,0,0,5,0,0,0,3,1,2,0,2,0,0,14,0,0,0,0,0,0,0,0,0,0,0,0,0,0,0,0,0,0,0,0,0,0,0,0,0,0,0,0,0,0,0,0,0,0,0,0,0,0,0,0,0,0,1,0,0,0,0,0,1,0,0,0,0,0,2,0,0,0,1,2,0,0,3,0,0,0,3,1,2,1,2,3,2,14,0,0,29,21,0,0,15,15,0,0,0,1,0,0,0,0,14,5,0,0,0,0,0,0,0,0,0,0,0,0,0,0,1,2,2,2,0,0,0,0,0,2,1,1,0,2,2,3,1,3,2,1,2,3,1,1,2,3,3,5,6,7,8,11,3,6,0,1,30,46,0,0,2,3,5,2,1,3,4,0,2,4,9,0,12,0,21,2,18,1,1,0,0,0,75,15,160,52,0,0,0,0,0,0,0,0,0,0,0,1,0,0,0,1,0,2,0,0,0,1,0,2,0,0,0,1,0,0,0,0,0,8,0,32,0,0,0,0,0,0,0,0,0,0,0,0,0,0]
[6,0,0,0,1,0,0,0,1,0,0,0,0,1,1,0,0,0,0,1,0,0,1,0,1,0,0,5,0,0,0,0,0,1,0,0,0,0,0,0,0,0,0,0,0,0,1,0,0,0,0,0,0,0,0,0,0,0,0,0,0,0,0,0,0,0,0,0,0,0,0,0,0,0,0,1,1,0,0,0,0,0,2,0,1,1,1,0,0,0,1,0,0,2,4,0,1,1,2,1,2,13,1,0,7,3,0,0,0,0,0,0,0,0,0,0,1,0,4,3,0,0,0,0,0,0,0,0,0,0,0,0,0,0,1,1,0,0,0,1,0,2,1,2,0,1,0,2,4,4,0,6,1,1,2,3,2,2,3,3,3,5,9,5,6,7,2,4,0,0,32,42,0,0,0,1,2,3,2,0,3,4,1,1,7,1,5,0,22,3,14,2,2,1,0,0,58,16,180,54,0,0,0,0,0,0,0,0,0,0,0,0,0,1,0,0,0,3,0,0,0,0,0,0,0,4,0,1,0,0,0,0,0,9,0,35,1,0,0,0,0,0,0,0,0,0,0,0,0,0]
[7,0,0,0,0,1,0,0,1,0,0,1,0,1,2,0,2,0,0,0,1,0,3,0,2,0,0,12,0,0,0,0,0,0,0,0,0,0,0,0,0,0,0,0,0,0,0,0,0,0,0,0,0,0,0,0,0,0,0,0,0,0,0,0,0,0,0,0,0,0,0,0,0,0,0,0,0,0,0,0,0,0,0,0,0,0,3,1,1,0,5,0,4,3,2,0,1,2,2,2,0,16,5,2,9,3,1,2,0,0,0,0,1,0,0,0,5,2,6,3,0,1,0,0,0,0,0,0,0,0,0,0,0,0,1,0,3,0,0,0,0,1,1,2,0,0,0,0,2,2,1,3,2,1,3,1,6,2,2,6,1,2,5,5,1,5,1,2,0,0,24,29,1,0,2,0,0,3,2,2,2,1,7,4,10,0,9,0,21,5,22,5,2,0,0,0,78,20,175,43,0,0,0,0,0,0,0,0,0,0,0,0,0,0,0,1,0,2,2,4,0,0,0,0,0,0,0,0,0,0,0,0,0,7,2,34,2,0,0,0,0,0,0,0,0,0,0,0,0,0]
[8,0,0,0,0,0,0,0,0,0,0,0,0,0,0,0,1,0,0,0,1,0,1,0,2,0,0,5,0,0,0,0,0,0,0,0,0,0,0,0,0,0,0,0,0,0,0,0,0,0,0,0,0,0,0,0,0,0,0,0,0,0,0,0,0,0,1,4,0,1,0,0,0,0,0,0,0,0,0,1,0,0,7,0,0,0,1,1,1,1,4,0,4,2,8,2,3,1,2,2,0,24,4,1,16,2,0,0,0,0,0,0,1,2,0,0,1,1,2,0,0,0,0,0,0,0,0,0,0,0,0,0,0,0,2,7,1,0,0,5,0,1,2,2,0,0,0,1,0,5,2,4,0,2,3,1,3,0,6,4,4,3,7,5,3,11,0,0,0,1,28,37,0,0,2,3,2,5,1,4,8,4,8,2,7,2,7,0,30,1,21,5,5,0,0,0,91,26,193,48,0,0,0,0,0,0,0,0,0,0,0,0,0,0,0,1,0,2,1,5,0,1,0,0,0,1,0,0,0,0,0,0,0,10,1,39,2,0,0,0,0,0,0,0,0,0,0,0,0,0]
[9,0,0,0,1,0,0,0,1,0,0,0,0,2,1,0,4,1,2,3,4,0,4,0,0,0,0,21,0,0,0,0,0,0,0,0,0,0,0,0,0,0,0,0,0,0,0,0,0,0,0,0,0,0,0,0,0,0,0,0,0,0,0,0,0,0,0,0,2,1,0,0,0,0,0,0,0,0,0,0,0,0,3,0,0,0,1,1,0,2,4,0,3,5,6,0,1,3,1,2,1,22,0,1,5,6,0,0,0,0,0,0,0,0,0,0,0,1,5,0,0,0,0,0,0,0,0,0,0,0,0,0,0,0,1,4,2,0,1,1,0,1,2,3,1,0,0,0,0,5,1,2,1,1,3,6,4,1,6,0,4,4,6,2,10,11,1,3,0,0,36,35,0,0,1,2,4,6,5,4,7,3,9,1,16,2,13,0,29,5,25,3,0,0,0,0,109,26,204,59,0,0,0,0,0,0,0,0,0,0,0,0,0,1,0,2,0,4,0,2,0,1,0,0,0,2,0,1,0,0,0,0,0,13,0,46,5,0,0,0,0,0,0,0,0,0,0,0,0,0]
[10,0,0,0,0,0,0,0,0,0,0,0,0,0,0,0,2,0,0,1,2,0,4,0,1,0,0,10,0,0,0,0,0,2,0,0,0,0,0,0,0,0,0,0,0,0,2,0,0,0,0,0,0,0,0,0,0,0,0,0,0,0,0,0,0,0,0,1,0,0,0,0,0,0,0,0,0,0,1,1,0,0,3,0,1,1,0,3,0,0,3,1,3,3,4,2,2,4,2,0,3,24,4,0,2,5,0,0,0,0,0,0,0,0,0,0,3,0,2,2,0,0,0,0,0,0,0,0,0,0,0,0,0,0,1,0,4,3,3,3,0,0,2,1,0,0,0,1,2,4,1,2,1,1,8,2,1,2,3,5,2,4,9,7,10,5,3,0,0,0,40,33,0,1,1,3,7,0,2,6,3,4,3,1,14,1,11,0,18,2,17,3,0,0,0,0,76,21,184,57,0,0,0,0,0,0,0,0,0,0,0,0,0,0,0,1,0,3,1,2,0,1,0,0,0,1,0,1,0,0,0,0,0,9,1,33,4,0,0,0,0,0,0,0,0,0,0,0,0,0]
[11,0,0,0,0,0,0,0,0,0,0,0,0,1,2,1,0,1,0,1,4,0,9,0,0,0,0,19,0,0,0,0,0,0,0,0,0,0,0,0,0,0,0,0,0,0,0,0,0,0,0,0,0,1,1,0,0,0,0,0,0,0,0,0,0,2,0,0,0,0,0,0,0,0,0,2,2,1,0,0,0,0,5,0,1,1,0,1,0,0,1,1,3,2,7,1,1,0,4,0,1,20,0,0,0,0,0,0,0,0,0,0,0,0,0,0,0,0,0,0,0,0,0,0,0,0,0,0,0,0,0,0,0,0,1,2,0,4,1,2,0,0,1,2,0,0,1,1,1,3,3,2,2,2,10,1,4,2,6,3,5,0,12,5,7,8,3,1,0,0,54,28,0,0,1,2,6,3,1,3,9,5,4,1,16,0,14,2,18,1,10,0,1,0,1,0,81,17,186,52,0,0,0,0,0,0,0,0,0,0,0,0,0,0,0,1,0,4,0,1,1,1,0,0,0,0,0,0,0,0,0,0,0,7,1,39,3,0,0,0,0,0,0,0,0,0,0,0,0,0]
["Total general",0,0,1,4,3,2,0,10,0,0,3,0,5,7,1,18,2,10,6,34,3,51,1,12,0,0,153,0,0,0,0,0,3,0,0,0,0,0,0,0,0,0,0,0,0,3,0,0,0,0,0,1,2,2,0,0,0,0,0,0,0,0,0,0,5,1,5,3,4,5,4,2,3,16,8,14,4,15,8,0,1,93,0,3,3,19,14,5,7,45,10,29,37,71,19,20,24,34,24,15,283,60,46,109,92,9,15,36,64,0,0,7,4,0,1,26,9,47,25,0,1,0,0,0,0,0,0,0,0,0,0,0,1,22,29,26,23,10,26,2,9,24,30,4,3,3,10,21,45,23,36,11,16,43,27,31,18,58,42,38,40,82,60,75,98,18,26,1,4,404,422,3,2,12,18,37,32,18,30,54,25,48,18,125,10,106,4,219,29,190,22,22,1,3,1,837,192,1928,510,0,0,0,0,0,0,0,0,0,0,0,1,0,4,0,11,1,30,4,23,1,8,0,6,0,10,1,5,0,0,0,0,0,98,7,391,23,0,0,0,0,0,0,0,0,0,0,1,0,0]
[]
[]
["Salud Mental 3"]
["Anio",2024]
["UE","(Todas)"]
["Red","LA CONVENCION"]
["MicroRed","(Todas)"]
["EESS","(Todas)"]
["Provincia","(Todas)"]
["Distrito","(Todas)"]
[]
["Etiquetas de fila"," Atd_EAutista_0_2F"," Atd_EAutista_0_2M"," Atd_EAutista_3_5F"," Atd_EAutista_3_5M"," Atd_EAutista_6_9F"," Atd_EAutista_6_9M"," Atd_EAutista_10_11F"," Atd_EAutista_10_11M"," Atd_EAutista_12_14F"," Atd_EAutista_12_14M"," Atd_EAutista_15_17F"," Atd_EAutista_15_17M"," Atd_EAutista_18_24F"," Atd_EAutista_18_24M"," Atd_EAutista_25_29F"," Atd_EAutista_25_29M"," Atd_EAutista_30_39F"," Atd_EAutista_30_39M"," Atd_EAutista_40_59F"," Atd_EAutista_40_59M"," Atd_EAutista_60_79F"," Atd_EAutista_60_79M"," Atd_EAutista_80F"," Atd_EAutista_80M"," Atd_EAutista_TOTALF"," Atd_EAutista_TOTALM"," Atc_EAutista_TOTALF"," Atc_EAutista_TOTALM"," Atd_TmentalC_0_2F"," Atd_TmentalC_0_2M"," Atd_TmentalC_3_5F"," Atd_TmentalC_3_5M"," Atd_TmentalC_6_9F"," Atd_TmentalC_6_9M"," Atd_TmentalC_10_11F"," Atd_TmentalC_10_11M"," Atd_TmentalC_12_14F"," Atd_TmentalC_12_14M"," Atd_TmentalC_15_17F"," Atd_TmentalC_15_17M"," Atd_TmentalC_TOTALF"," Atd_TmentalC_TOTALM"," Atc_TmentalC_TOTALF"," Atc_TmentalC_TOTALM"," Atd_TD_0_2F"," Atd_TD_0_2M"," Atd_TD_3_5F"," Atd_TD_3_5M"," Atd_TD_6_9F"," Atd_TD_6_9M"," Atd_TD_10_11F"," Atd_TD_10_11M"," Atd_TD_12_14F"," Atd_TD_12_14M"," Atd_TD_15_17F"," Atd_TD_15_17M"," Atd_TD_18_24F"," Atd_TD_18_24M"," Atd_TD_25_29F"," Atd_TD_25_29M"," Atd_TD_30_39F"," Atd_TD_30_39M"," Atd_TD_40_59F"," Atd_TD_40_59M"," Atd_TD_60_79F"," Atd_TD_60_79M"," Atd_TD_80F"," Atd_TD_80M"," Atd_TD_TOTALF"," Atd_TD_TOTALM"," Atc_TD_TOTALF"," Atc_TD_TOTALM"," Atd_TD_g_10_11F"," Atd_TD_g_12_14F"," Atd_TD_g_15_17F"," Atd_TD_g_18_24F"," Atd_TD_g_25_29F"," Atd_TD_g_30_39F"," Atd_TD_g_40_59F"," Atd_TD_g_totalF"," Atc_TD_g_totalF"," Atd_TAN_0_2F"," Atd_TAN_0_2M"," Atd_TAN_3_5F"," Atd_TAN_3_5M"," Atd_TAN_6_9F"," Atd_TAN_6_9M"," Atd_TAN_10_11F"," Atd_TAN_10_11M"," Atd_TAN_12_14F"," Atd_TAN_12_14M"," Atd_TAN_15_17F"," Atd_TAN_15_17M"," Atd_TAN_18_24F"," Atd_TAN_18_24M"," Atd_TAN_25_29F"," Atd_TAN_25_29M"," Atd_TAN_30_39F"," Atd_TAN_30_39M"," Atd_TAN_40_59F"," Atd_TAN_40_59M"," Atd_TAN_60_79F"," Atd_TAN_60_79M"," Atd_TAN_80F"," Atd_TAN_80M"," Atd_TAN_TOTALF"," Atd_TAN_TOTALM"," Atc_TAN_TOTALF"," Atc_TAN_TOTALM"," Atd_Csuicida_3_5F"," Atd_Csuicida_3_5M"," Atd_Csuicida_6_9F"," Atd_Csuicida_6_9M"," Atd_Csuicida_10_11F"," Atd_Csuicida_10_11M"," Atd_Csuicida_12_14F"," Atd_TCsuicida_12_14M"," Atd_Csuicida_15_17F"," Atd_Csuicida_15_17M"," Atd_Csuicida_18_24F"," Atd_Csuicida_18_24M"," Atd_Csuicida_25_29F"," Atd_Csuicida_25_29M"," Atd_Csuicida_30_39F"," Atd_Csuicida_30_39M"," Atd_Csuicida_40_59F"," Atd_Csuicida_40_59M"," Atd_Csuicida_60_79F"," Atd_Csuicida_60_79M"," Atd_Csuicida_80F"," Atd_Csuicida_80M"," Atd_Csuicida_TOTALF"," Atd_Csuicida_TOTALM"," Atc_Csuicida_TOTALF"," Atc_Csuicida_TOTALM"," Atd_TCA_0_2F"," Atd_TCA_0_2M"," Atd_TCA_3_5F"," Atd_TCA_3_5M"," Atd_TCA_6_9F"," Atd_TCA_6_9M"," Atd_TCA_10_11F"," Atd_TCA_10_11M"," Atd_TCA_12_14F"," Atd_TCA_12_14M"," Atd_TCA_15_17F"," Atd_TCA_15_17M"," Atd_TCA_18_24F"," Atd_TCA_18_24M"," Atd_TCA_25_29F"," Atd_TCA_25_29M"," Atd_TCA_30_39F"," Atd_TCA_30_39M"," Atd_TCA_40_59F"," Atd_TCA_40_59M"," Atd_TCA_60_79F"," Atd_TCA_60_79M"," Atd_TCA_80F"," Atd_TCA_80M"," Atd_TCA_TOTALF"," Atd_TCA_TOTALM"," Atc_TCA_TOTALF"," Atc_TCA_TOTALM"," Atd_DAOD_0_2F"," Atd_DAOD_0_2M"," Atd_DAOD_3_5F"," Atd_DAOD_3_5M"," Atd_DAOD_6_9F"," Atd_DAOD_6_9M"," Atd_DAOD_10_11F"," Atd_DAOD_10_11M"," Atd_DAOD_12_14F"," Atd_DAOD_12_14M"," Atd_DAOD_15_17F"," Atd_DAOD_15_17M"," Atd_DAOD_18_24F"," Atd_DAOD_18_24M"," Atd_DAOD_25_29F"," Atd_DAOD_25_29M"," Atd_DAOD_30_39F"," Atd_DAOD_30_39M"," Atd_DAOD_40_59F"," Atd_DAOD_40_59M"," Atd_DAOD_60_79F"," Atd_DAOD_60_79M"," Atd_DAOD_80F"," Atd_DAOD_80M"," Atd_DAOD_TOTALF"," Atd_DAOD_TOTALM"," Atc_DAOD_TOTALF"," Atc_DAOD_TOTALM"," Atd_TPS_0_2F"," Atd_TPS_0_2M"," Atd_TPS_3_5F"," Atd_TPS_3_5M"," Atd_TPS_6_9F"," Atd_TPS_6_9M"," Atd_TPS_10_11F"," Atd_TPS_10_11M"," Atd_TPS_12_14F"," Atd_TPS_12_14M"," Atd_TPS_15_17F"," Atd_TPS_15_17M"," Atd_TPS_18_24F"," Atd_TPS_18_24M"," Atd_TPS_25_29F"," Atd_TPS_25_29M"," Atd_TPS_30_39F"," Atd_TPS_30_39M"," Atd_TPS_40_59F"," Atd_TPS_40_59M"," Atd_TPS_60_79F"," Atd_TPS_60_79M"," Atd_TPS_80F"," Atd_TPS_80M"," Atd_TPS_TOTALF"," Atd_TPS_TOTALM"," Atc_TPS_TOTALF"," Atc_TPS_TOTALM"," Atd_TPS1_0_2F"," Atd_TPS1_0_2M"," Atd_TPS1_3_5F"," Atd_TPS1_3_5M"," Atd_TPS1_6_9F"," Atd_TPS1_6_9M"," Atd_TPS1_10_11F"," Atd_TPS1_10_11M"," Atd_TPS1_12_14F"," Atd_TPS1_12_14M"," Atd_TPS1_15_17F"," Atd_TPS1_15_17M"," Atd_TPS1_18_24F"," Atd_TPS1_18_24M"," Atd_TPS1_25_29F"," Atd_TPS1_25_29M"," Atd_TPS1_30_39F"," Atd_TPS1_30_39M"," Atd_TPS1_40_59F"," Atd_TPS1_40_59M"," Atd_TPS1_60_79F"," Atd_TPS1_60_79M"," Atd_TPS1_80F"," Atd_TPS1_80M"," Atd_TPS1_TOTALF"," Atd_TPS1_TOTALM"," Atc_TPS1_TOTALF"," Atc_TPS1_TOTALM"]
[1,0,0,0,3,0,0,0,0,0,0,1,0,0,1,0,0,0,0,0,0,0,0,0,0,1,4,11,37,4,1,2,11,11,7,6,6,10,8,3,1,36,34,67,131,0,0,0,0,1,0,0,0,5,0,7,2,22,6,6,2,18,4,10,7,5,2,0,0,74,23,191,52,0,0,0,0,0,0,0,0,0,0,0,0,0,0,0,1,0,3,2,3,0,3,7,3,3,5,3,7,4,3,3,0,1,28,23,101,55,0,0,0,0,0,0,0,1,0,0,1,0,0,0,0,0,0,0,0,0,0,0,1,1,1,1,0,0,0,0,0,0,0,0,0,0,0,2,0,1,0,0,0,2,0,0,0,0,0,0,0,5,1,16,0,0,0,0,0,0,0,0,0,0,0,0,0,1,0,0,0,1,0,2,0,1,0,0,0,5,5,30,0,0,0,0,0,0,0,0,0,0,0,0,2,1,0,2,3,1,2,3,0,0,0,0,7,7,49,79,0,0,0,0,0,0,0,0,0,0,0,0,0,0,0,0,0,0,0,0,0,0,0,0,0,0,0,0]
[2,0,0,1,1,1,0,0,1,0,0,1,0,1,0,0,0,0,0,0,0,0,0,0,0,4,2,9,31,1,0,3,4,7,7,5,3,9,3,1,3,26,20,58,77,0,0,0,0,1,0,0,1,3,2,11,4,23,6,5,2,21,5,14,5,6,6,1,0,85,31,190,51,0,0,0,0,0,0,0,0,0,0,0,0,0,0,0,0,0,1,0,3,1,6,4,7,3,12,6,11,6,2,5,1,0,43,25,104,56,0,0,0,0,0,0,0,0,0,0,0,0,1,0,0,0,0,0,0,0,0,0,1,0,1,2,0,0,0,0,0,0,0,0,0,0,0,0,0,2,0,3,0,2,0,5,0,0,0,0,0,12,2,25,0,0,0,0,0,0,0,0,0,0,0,0,0,0,1,1,1,1,1,3,0,1,0,0,3,6,9,25,0,0,0,0,0,0,0,0,0,1,0,0,3,3,1,2,3,8,1,5,0,1,0,0,8,20,48,73,0,0,0,0,0,0,0,0,0,0,0,0,0,0,0,0,0,0,0,0,0,0,0,0,0,0,0,0]
[3,0,1,0,2,0,1,0,1,0,1,0,1,0,1,0,0,0,0,0,0,0,0,0,0,0,8,11,38,0,0,6,5,3,11,6,1,4,9,2,2,21,28,53,98,0,0,0,0,0,0,0,1,2,0,6,3,14,3,10,0,10,6,27,5,8,4,1,1,78,23,189,55,0,0,0,0,0,0,0,0,0,0,0,0,0,1,0,0,0,1,2,3,1,7,7,7,5,14,4,14,5,9,3,1,0,57,27,136,65,0,0,0,0,0,0,0,0,0,0,0,0,0,0,0,0,0,0,0,0,0,0,0,0,0,0,0,0,0,0,0,0,0,0,0,0,0,0,0,0,0,1,0,2,0,6,0,1,0,0,0,10,3,37,0,0,0,0,0,0,0,0,0,0,0,0,1,1,1,1,0,1,1,4,0,0,0,0,3,7,8,21,0,0,0,0,0,0,0,0,0,1,1,2,0,3,3,5,2,5,4,5,0,3,0,0,10,24,47,89,0,0,0,0,0,0,0,0,0,0,0,0,0,0,0,0,0,0,0,0,0,0,0,0,0,0,0,0]
[4,0,1,0,3,1,0,0,0,0,1,0,0,0,1,0,0,0,0,0,0,0,0,0,0,1,6,10,41,0,1,5,4,4,17,6,5,6,9,3,2,24,38,67,114,0,0,0,0,0,0,0,0,6,3,9,2,17,10,15,4,20,6,23,7,10,6,1,2,101,40,210,70,0,0,0,0,0,0,0,0,0,0,0,0,0,0,0,0,0,1,2,3,0,6,9,11,5,8,3,12,7,8,3,1,1,50,30,118,57,0,0,0,0,0,0,0,0,1,1,0,0,0,0,0,0,0,0,0,0,0,0,1,1,2,1,0,0,0,0,0,0,0,0,0,0,0,1,1,1,1,1,0,1,0,9,0,1,0,0,2,14,5,37,0,0,0,0,0,0,0,0,0,0,0,0,1,0,1,1,0,1,1,8,0,0,0,0,3,10,7,32,0,0,0,0,0,0,0,0,0,0,0,2,1,1,0,3,2,3,1,5,3,2,0,0,7,16,45,88,0,0,0,0,0,0,0,0,0,0,0,0,0,0,0,0,0,0,0,0,0,0,0,0,0,0,0,0]
[5,0,1,0,2,1,0,0,0,0,0,0,0,1,1,0,0,0,1,0,0,0,0,0,0,2,5,13,37,0,2,4,6,9,15,7,5,4,9,3,1,27,38,61,123,0,0,0,0,0,0,1,0,2,1,5,2,15,2,8,1,18,5,22,9,9,8,1,0,81,28,196,65,0,0,0,0,0,0,0,0,0,0,0,0,0,0,0,1,0,1,3,3,2,2,3,1,2,5,5,8,7,7,2,0,1,28,25,101,56,0,0,0,0,0,0,0,0,0,0,0,0,0,0,0,0,0,0,0,0,0,0,0,0,0,1,0,0,0,0,0,0,0,0,1,0,0,1,2,0,0,2,0,8,0,0,0,0,0,0,3,11,6,32,0,0,0,0,0,0,0,0,0,0,0,0,0,1,0,0,0,2,0,5,0,2,0,0,0,10,4,36,0,0,0,0,0,0,0,0,0,0,0,2,0,2,0,3,0,2,0,1,0,0,0,0,0,10,43,82,0,0,0,0,0,0,0,0,0,0,0,0,0,0,0,0,0,0,0,0,0,0,0,0,0,0,0,0]
[6,0,1,1,1,0,2,0,0,0,0,0,0,0,2,0,0,0,1,0,0,0,0,0,0,1,7,15,41,0,2,2,11,7,17,8,2,6,11,4,6,27,49,70,135,0,0,0,0,0,0,1,0,8,1,10,1,11,1,9,2,18,8,20,8,6,5,1,0,84,26,215,71,0,0,0,0,0,0,0,0,0,0,0,0,0,0,0,1,0,0,1,3,1,8,4,7,2,6,4,9,8,5,5,0,1,39,26,109,62,0,0,0,0,0,0,0,0,0,0,0,0,0,0,0,0,0,0,0,0,0,0,0,0,0,0,0,0,0,0,0,0,0,0,0,0,1,2,0,1,1,0,1,1,0,1,0,0,0,0,3,5,9,30,0,0,0,0,0,0,0,0,0,0,0,0,0,0,1,0,0,0,0,3,0,1,0,0,1,4,2,30,0,0,0,0,0,0,0,0,0,0,0,1,0,2,2,1,4,4,2,3,0,1,0,0,8,12,46,68,0,0,0,0,0,0,0,0,0,0,0,0,0,0,0,0,0,0,0,0,0,0,0,0,0,0,0,0]
[7,0,2,1,1,0,0,0,0,0,1,0,0,0,1,0,0,0,1,0,0,0,0,0,0,1,6,13,40,0,1,3,9,11,15,4,5,8,11,2,5,28,46,71,130,0,0,0,0,0,0,1,0,3,1,11,1,16,2,9,1,22,6,30,11,10,2,0,0,102,24,260,62,0,0,0,0,0,0,0,0,0,0,0,0,0,0,0,0,0,1,1,2,1,8,5,7,5,8,8,7,8,3,2,0,1,36,31,103,59,0,0,0,0,0,0,0,0,0,0,1,0,1,0,0,0,0,1,0,0,0,0,2,1,2,1,0,0,0,0,0,0,0,0,1,0,1,3,0,0,0,0,0,2,2,4,0,2,0,0,4,11,11,46,0,0,0,0,0,0,0,0,0,0,0,0,0,0,0,1,0,4,0,0,0,0,0,0,0,5,3,31,0,0,0,0,0,0,0,0,0,0,3,0,0,1,1,2,1,1,2,2,0,0,0,0,7,6,41,69,0,0,0,0,0,0,0,0,0,0,0,0,0,0,0,0,0,0,0,0,0,0,0,0,0,0,0,0]
[8,0,1,0,5,1,0,0,0,0,0,0,0,0,0,0,0,0,0,0,0,0,0,0,0,1,6,10,42,0,3,5,11,6,13,4,4,7,10,5,4,27,45,58,136,0,0,0,0,0,0,1,0,4,1,5,1,10,6,10,1,16,10,20,8,7,2,0,0,73,29,213,63,0,0,0,0,0,0,0,0,0,0,0,0,0,0,2,1,0,1,1,5,0,4,5,6,4,4,5,11,7,5,2,1,1,38,27,94,55,0,0,0,0,0,0,1,0,0,0,0,0,0,0,0,0,0,0,0,0,0,0,1,0,2,1,0,0,0,0,0,0,0,0,0,0,0,0,0,0,0,0,0,1,0,6,0,1,0,0,0,8,4,29,0,0,0,0,0,0,0,0,0,0,0,0,0,0,0,4,0,2,1,4,0,1,0,0,1,11,2,29,0,0,0,0,0,1,0,0,1,0,1,0,0,3,0,1,1,1,3,0,1,2,0,0,7,8,43,67,0,0,0,0,0,0,0,0,0,0,0,0,0,0,0,0,0,0,0,0,0,0,0,0,0,0,0,0]
[9,0,1,0,3,0,1,0,0,0,0,0,0,0,0,0,0,0,0,0,0,0,1,0,0,0,6,12,44,0,4,5,15,9,20,1,5,6,13,1,6,22,63,59,150,0,0,0,0,0,0,0,0,5,0,9,2,19,10,10,2,19,8,20,11,8,2,0,1,90,36,217,67,0,0,0,0,0,0,0,0,0,0,0,0,0,1,0,1,0,1,0,2,1,10,4,8,1,10,7,11,5,3,2,0,0,47,20,102,48,0,0,0,0,0,0,0,1,0,0,2,0,0,0,0,0,1,0,0,0,0,0,3,1,4,3,0,0,0,0,0,0,0,0,0,0,1,0,1,5,0,1,0,3,0,2,0,0,0,0,2,11,4,45,0,0,0,0,0,0,0,0,0,0,0,0,2,0,0,0,0,3,0,6,0,2,0,0,2,11,7,35,0,0,0,0,0,0,0,0,0,0,0,1,0,2,0,0,2,1,2,1,0,1,0,0,4,6,53,70,0,0,0,0,0,0,0,0,0,0,0,0,0,0,0,0,0,0,0,0,0,0,0,0,0,0,0,0]
[10,0,0,0,3,1,0,0,0,1,0,0,0,0,1,0,0,0,1,0,0,0,0,0,0,2,5,13,35,1,5,3,12,9,17,0,6,3,7,2,2,18,49,53,137,0,0,0,0,0,0,0,0,5,0,7,1,7,9,4,1,12,8,24,4,9,3,1,0,69,26,202,58,0,0,0,0,0,0,0,0,0,0,0,0,0,0,1,1,1,0,1,2,1,11,2,5,4,8,3,9,1,7,3,0,0,43,17,101,41,0,0,0,0,0,0,0,0,0,0,0,0,0,0,0,1,0,0,0,0,0,0,0,1,1,1,0,0,0,0,0,0,0,0,0,0,0,1,0,4,0,1,1,1,0,3,0,1,0,0,1,11,3,41,0,0,0,0,0,0,0,0,0,0,0,0,1,0,0,0,1,0,0,7,0,1,0,0,2,8,6,26,0,0,0,0,0,0,0,0,0,1,0,0,2,1,0,1,3,1,1,0,1,0,0,0,7,4,50,59,0,0,0,0,0,0,0,0,0,0,0,0,0,0,0,0,0,0,0,0,0,0,0,0,0,0,0,0]
[11,0,1,0,2,2,0,0,0,0,1,0,0,0,0,0,0,0,1,0,0,0,0,0,0,2,5,13,33,0,2,1,10,6,14,0,5,11,15,3,5,21,51,59,150,0,0,0,0,0,0,1,0,5,0,7,2,11,5,5,6,10,5,14,3,6,2,1,0,60,23,208,53,0,0,0,0,0,0,0,0,0,0,0,1,0,0,0,1,0,1,1,0,1,6,3,9,5,3,5,9,4,2,1,0,0,32,20,81,42,0,0,0,0,0,0,0,0,0,0,0,0,0,0,1,0,0,0,0,0,0,0,1,0,2,0,0,0,0,0,0,0,0,0,0,0,0,2,0,2,0,2,1,1,0,13,0,0,0,0,1,20,6,39,0,0,0,0,0,0,0,0,0,0,0,0,1,0,0,0,1,0,1,5,0,0,0,0,3,5,8,20,0,0,0,0,0,0,0,0,1,1,1,1,0,1,0,1,3,2,4,2,0,1,0,0,9,9,47,70,0,0,0,0,0,0,0,0,0,0,0,0,0,0,0,0,0,0,0,0,0,0,0,0,0,0,0,0]
["Total general",0,9,3,26,7,4,0,2,1,4,2,1,2,8,0,0,0,5,0,0,0,1,0,0,15,60,130,419,6,21,39,98,82,153,47,47,74,105,29,37,277,461,676,1381,0,0,0,0,2,0,5,2,48,9,87,21,165,60,91,22,184,71,224,78,84,42,7,4,897,309,2291,667,0,0,0,0,0,0,0,0,0,0,0,1,0,2,3,7,1,11,14,29,9,71,53,71,39,83,53,108,62,54,31,4,6,441,271,1150,596,0,0,0,0,0,0,1,2,1,1,4,0,2,0,1,1,1,1,0,0,0,0,10,5,15,11,0,0,0,0,0,0,0,0,2,0,3,12,4,16,2,11,3,24,2,49,0,6,0,0,16,118,54,377,0,0,0,0,0,0,0,0,0,0,0,0,6,3,4,8,3,15,5,47,0,9,0,0,18,82,61,315,0,0,0,0,0,1,0,0,2,4,6,9,8,20,7,21,24,29,22,27,5,11,0,0,74,122,512,814,0,0,0,0,0,0,0,0,0,0,0,0,0,0,0,0,0,0,0,0,0,0,0,0,0,0,0,0]
[]
[]
["Salud Mental 4"]
["Anio",2024]
["UE","(Todas)"]
["Red","LA CONVENCION"]
["MicroRed","(Todas)"]
["EESS","(Todas)"]
["Provincia","(Todas)"]
["Distrito","(Todas)"]
[]
["Etiquetas de fila"," Atc_BUL_TOTALF"," Atc_BUL_TOTALM"," Atc_DCog_TOTALF"," Atc_DCog_TOTALM"," Atc_Gestante_TOTALF"," Atc_Judi_TOTALF"," Atc_Judi_TOTALM"," Atc_Pauxi_TOTALF"," Atc_Pauxi_TOTALM"," Atc_Tperso_TOTALF"," Atc_Tperso_TOTALM"," Atc_TPS_Grav_TOTALF"," Atc_TPS_Grav_TOTALM"," Atc_ViolenciaP_TOTALF"," Atc_ViolenciaP_TOTALM"," Atd_BUL_0_2F"," Atd_BUL_0_2M"," Atd_BUL_10_11F"," Atd_BUL_10_11M"," Atd_BUL_12_14F"," Atd_BUL_12_14M"," Atd_BUL_15_17F"," Atd_BUL_15_17M"," Atd_BUL_18_24F"," Atd_BUL_18_24M"," Atd_BUL_25_29F"," Atd_BUL_25_29M"," Atd_BUL_3_5F"," Atd_BUL_3_5M"," Atd_BUL_30_39F"," Atd_BUL_30_39M"," Atd_BUL_40_59F"," Atd_BUL_40_59M"," Atd_BUL_6_9F"," Atd_BUL_6_9M"," Atd_BUL_60_79F"," Atd_BUL_60_79M"," Atd_BUL_80F"," Atd_BUL_80M"," Atd_BUL_TOTALF"," Atd_BUL_TOTALM"," Atd_DCog_0_2F"," Atd_DCog_0_2M"," Atd_DCog_10_11F"," Atd_DCog_10_11M"," Atd_DCog_12_14F"," Atd_DCog_12_14M"," Atd_DCog_15_17F"," Atd_DCog_15_17M"," Atd_DCog_18_24F"," Atd_DCog_18_24M"," Atd_DCog_25_29F"," Atd_DCog_25_29M"," Atd_DCog_3_5F"," Atd_DCog_3_5M"," Atd_DCog_30_39F"," Atd_DCog_30_39M"," Atd_DCog_40_59F"," Atd_DCog_40_59M"," Atd_DCog_6_9F"," Atd_DCog_6_9M"," Atd_DCog_60_79F"," Atd_DCog_60_79M"," Atd_DCog_80F"," Atd_DCog_80M"," Atd_DCog_TOTALF"," Atd_DCog_TOTALM"," Atd_Gestante_10_11F"," Atd_Gestante_12_14F"," Atd_Gestante_15_17F"," Atd_Gestante_18_24F"," Atd_Gestante_25_29F"," Atd_Gestante_30_39F"," Atd_Gestante_40_59F"," Atd_Gestante_TOTALF"," Atd_Judi_0_2F"," Atd_Judi_0_2M"," Atd_Judi_10_11F"," Atd_Judi_10_11M"," Atd_Judi_12_14F"," Atd_Judi_12_14M"," Atd_Judi_15_17F"," Atd_Judi_15_17M"," Atd_Judi_18_24F"," Atd_Judi_18_24M"," Atd_Judi_25_29F"," Atd_Judi_25_29M"," Atd_Judi_3_5F"," Atd_Judi_3_5M"," Atd_Judi_30_39F"," Atd_Judi_30_39M"," Atd_Judi_40_59F"," Atd_Judi_40_59M"," Atd_Judi_6_9F"," Atd_Judi_6_9M"," Atd_Judi_60_79F"," Atd_Judi_60_79M"," Atd_Judi_80F"," Atd_Judi_80M"," Atd_Judi_TOTALF"," Atd_Judi_TOTALM"," Atd_PapoyoFam_Total"," Atd_PapoyoFam_TotalF"," Atd_PapoyoFam_TotalM"," Atd_PausenciaFam_Total"," Atd_PausenciaFam_TotalF"," Atd_PausenciaFam_TotalM"," Atd_Pauxi_0_2F"," Atd_Pauxi_0_2M"," Atd_Pauxi_10_11F"," Atd_Pauxi_10_11M"," Atd_Pauxi_12_14F"," Atd_Pauxi_12_14M"," Atd_Pauxi_15_17F"," Atd_Pauxi_15_17M"," Atd_Pauxi_18_24F"," Atd_Pauxi_18_24M"," Atd_Pauxi_25_29F"," Atd_Pauxi_25_29M"," Atd_Pauxi_3_5F"," Atd_Pauxi_3_5M"," Atd_Pauxi_30_39F"," Atd_Pauxi_30_39M"," Atd_Pauxi_40_59F"," Atd_Pauxi_40_59M"," Atd_Pauxi_6_9F"," Atd_Pauxi_6_9M"," Atd_Pauxi_60_79F"," Atd_Pauxi_60_79M"," Atd_Pauxi_80F"," Atd_Pauxi_80M"," Atd_Pauxi_TOTALF"," Atd_Pauxi_TOTALM"," Atd_PdesapareceFam_Total"," Atd_PdesapareceFam_TotalF"," Atd_PdesapareceFam_TotalM"," Atd_PfamiliarDepende_Total"," Atd_PfamiliarDepende_TotalF"," Atd_PfamiliarDepende_TotalM"," Atd_PpadresFam_Total"," Atd_PpadresFam_TotalF"," Atd_PpadresFam_TotalM"," Atd_Ppareja_Total"," Atd_Ppareja_TotalF"," Atd_Ppareja_TotalM"," Atd_PrupturaFam_Total"," Atd_PrupturaFam_TotalF"," Atd_PrupturaFam_TotalM"," Atd_PVictimaCrimen_Total"," Atd_PVictimaCrimen_TotalF"," Atd_PVictimaCrimen_TotalM"," Atd_Tperso_0_2F"," Atd_Tperso_0_2M"," Atd_Tperso_10_11F"," Atd_Tperso_10_11M"," Atd_Tperso_12_14F"," Atd_Tperso_12_14M"," Atd_Tperso_15_17F"," Atd_Tperso_15_17M"," Atd_Tperso_18_24F"," Atd_Tperso_18_24M"," Atd_Tperso_25_29F"," Atd_Tperso_25_29M"," Atd_Tperso_3_5F"," Atd_Tperso_3_5M"," Atd_Tperso_30_39F"," Atd_Tperso_30_39M"," Atd_Tperso_40_59F"," Atd_Tperso_40_59M"," Atd_Tperso_6_9F"," Atd_Tperso_6_9M"," Atd_Tperso_60_79F"," Atd_Tperso_60_79M"," Atd_Tperso_80F"," Atd_Tperso_80M"," Atd_Tperso_TOTALF"," Atd_Tperso_TOTALM"," Atd_TPS_Grav_0_2F"," Atd_TPS_Grav_0_2M"," Atd_TPS_Grav_10_11F"," Atd_TPS_Grav_10_11M"," Atd_TPS_Grav_12_14F"," Atd_TPS_Grav_12_14M"," Atd_TPS_Grav_15_17F"," Atd_TPS_Grav_15_17M"," Atd_TPS_Grav_18_24F"," Atd_TPS_Grav_18_24M"," Atd_TPS_Grav_25_29F"," Atd_TPS_Grav_25_29M"," Atd_TPS_Grav_3_5F"," Atd_TPS_Grav_3_5M"," Atd_TPS_Grav_30_39F"," Atd_TPS_Grav_30_39M"," Atd_TPS_Grav_40_59F"," Atd_TPS_Grav_40_59M"," Atd_TPS_Grav_6_9F"," Atd_TPS_Grav_6_9M"," Atd_TPS_Grav_60_79F"," Atd_TPS_Grav_60_79M"," Atd_TPS_Grav_80F"," Atd_TPS_Grav_80M"," Atd_TPS_Grav_TOTALF"," Atd_TPS_Grav_TOTALM"," Atd_ViolenciaP_12_14F"," Atd_ViolenciaP_12_14M"," Atd_ViolenciaP_15_17F"," Atd_ViolenciaP_15_17M"," Atd_ViolenciaP_18_24F"," Atd_ViolenciaP_18_24M"," Atd_ViolenciaP_25_29F"," Atd_ViolenciaP_25_29M"," Atd_ViolenciaP_30_39F"," Atd_ViolenciaP_30_39M"," Atd_ViolenciaP_40_59F"," Atd_ViolenciaP_40_59M"," Atd_ViolenciaP_60_79F"," Atd_ViolenciaP_60_79M"," Atd_ViolenciaP_80F"," Atd_ViolenciaP_80M"," Atd_ViolenciaP_TOTALF"," Atd_ViolenciaP_TOTALM"," Atd_VRiesgo_0_2F"," Atd_VRiesgo_0_2M"," Atd_VRiesgo_10_11F"," Atd_VRiesgo_10_11M"," Atd_VRiesgo_12_14F"," Atd_VRiesgo_12_14M"," Atd_VRiesgo_15_17F"," Atd_VRiesgo_15_17M"," Atd_VRiesgo_18_24F"," Atd_VRiesgo_18_24M"," Atd_VRiesgo_25_29F"," Atd_VRiesgo_25_29M"," Atd_VRiesgo_3_5F"," Atd_VRiesgo_3_5M"," Atd_VRiesgo_30_39F"," Atd_VRiesgo_30_39M"," Atd_VRiesgo_40_59F"," Atd_VRiesgo_40_59M"," Atd_VRiesgo_6_9F"," Atd_VRiesgo_6_9M"," Atd_VRiesgo_60_79F"," Atd_VRiesgo_60_79M"," Atd_VRiesgo_80F"," Atd_VRiesgo_80M"," Atd_VRiesgo_TOTALF"," Atd_VRiesgo_TOTALM"]
[1,1,0,18,19,12,73,15,8,4,0,0,16,33,9,6,0,0,0,0,0,0,0,0,0,0,0,0,0,0,0,0,0,0,0,0,0,0,0,0,0,0,0,0,0,0,0,0,1,0,0,0,1,1,0,0,0,0,0,0,0,0,3,3,2,2,7,6,0,1,1,0,2,2,0,6,0,0,0,0,3,0,2,0,2,0,0,0,0,0,8,2,4,1,1,0,0,0,0,0,20,3,1,1,0,0,0,0,0,0,0,0,1,0,0,0,2,0,0,0,0,1,2,1,2,1,1,1,0,0,0,0,8,4,0,0,0,0,0,0,0,0,0,3,3,0,0,0,0,0,0,0,0,0,0,0,0,0,0,0,0,0,0,0,0,0,0,0,0,0,0,0,0,0,0,0,0,0,0,0,0,0,0,0,0,0,0,0,0,0,0,0,0,0,0,0,0,0,0,0,0,0,0,0,0,0,0,0,0,0,0,0,1,0,0,0,0,0,0,0,1,0,0,0,0,0,3,0,2,0,5,0,8,0,0,1,12,1,6,0,1,0,2,0,0,0,39,2]
[2,0,1,15,20,14,70,21,10,3,0,0,8,22,12,7,0,0,0,1,0,0,0,0,0,0,0,0,0,0,0,0,0,0,0,0,0,0,0,0,0,1,0,0,0,0,1,0,0,0,1,0,0,0,0,0,0,1,0,1,0,0,1,2,4,3,7,7,0,1,1,3,1,1,0,7,0,0,0,0,0,0,3,0,3,3,4,3,0,0,2,0,4,4,1,0,0,2,0,0,17,12,2,2,0,0,0,0,0,0,0,0,0,0,2,0,2,0,0,1,0,0,1,1,3,1,0,0,1,0,0,0,9,3,0,0,0,0,0,0,0,0,0,4,4,0,0,0,0,0,0,0,0,0,0,0,0,0,0,0,0,0,0,0,0,0,0,0,0,0,0,0,0,0,0,0,0,0,0,0,0,0,0,0,0,0,0,0,1,0,0,0,0,3,0,1,0,0,0,0,0,0,1,4,0,1,2,1,0,0,0,0,2,0,3,1,0,1,0,0,7,4,0,0,0,0,2,0,3,0,5,0,7,0,0,0,9,0,9,0,1,0,1,0,0,0,37,0]
[3,0,1,19,17,11,68,11,9,1,0,0,13,15,9,5,0,0,0,0,0,0,0,0,0,0,0,0,0,0,0,0,0,0,0,0,0,0,0,0,0,0,0,0,0,0,0,0,0,0,0,0,1,0,0,0,0,0,1,0,1,0,3,4,2,2,8,6,0,0,0,3,3,0,0,6,0,0,0,0,2,0,1,0,1,0,1,0,0,0,2,1,4,1,0,0,0,0,0,0,11,2,0,0,0,0,0,0,0,0,0,0,0,0,1,0,1,0,0,0,0,0,5,0,1,0,0,1,0,0,0,0,8,1,2,2,0,0,0,0,0,0,0,0,0,0,2,2,0,0,0,0,0,0,0,0,0,0,0,0,0,0,0,0,0,0,0,0,0,0,0,0,0,0,0,0,0,0,0,0,0,0,0,0,0,0,0,0,0,1,0,0,2,0,0,0,0,0,0,0,0,0,2,1,0,0,0,0,0,0,0,0,1,0,0,0,0,0,0,0,1,0,0,0,1,0,2,0,2,0,5,0,5,0,0,0,11,0,9,0,0,0,3,0,0,0,38,0]
[4,2,3,19,24,20,63,19,11,2,0,0,5,12,9,2,0,0,0,2,1,0,0,0,0,0,0,0,0,0,0,0,0,0,0,0,0,0,0,0,1,2,0,0,0,0,1,0,0,0,0,0,0,0,0,0,0,1,0,1,0,0,2,3,2,3,5,8,1,0,4,5,4,1,1,16,0,0,0,0,1,0,1,0,2,1,1,0,0,0,0,1,3,1,2,1,1,0,0,0,11,4,0,0,0,0,0,0,0,1,0,0,0,0,0,0,2,1,1,0,0,0,2,0,1,0,1,0,1,0,3,0,11,2,0,0,0,0,0,0,1,1,0,2,2,0,2,2,0,0,0,0,0,0,0,0,0,0,0,0,0,0,0,0,0,0,0,0,0,0,0,0,0,0,0,0,0,0,0,0,0,0,0,0,0,0,0,0,0,0,0,0,0,0,0,0,0,0,1,1,0,0,1,1,0,0,0,0,0,0,0,0,0,0,0,0,0,0,0,0,0,0,1,0,0,2,2,0,2,0,9,1,5,0,1,0,10,0,9,0,0,1,1,0,0,0,40,4]
[5,2,2,21,21,14,66,24,2,0,0,0,2,13,18,7,0,0,0,0,1,0,0,0,0,0,0,0,0,0,0,0,0,0,0,0,0,0,0,0,1,0,0,0,0,0,0,0,0,0,0,0,0,0,0,0,0,0,3,1,0,0,6,4,1,2,10,7,0,1,1,3,0,7,0,12,0,0,0,0,0,0,0,1,1,0,2,0,0,0,6,3,4,1,1,0,1,0,0,0,15,5,0,0,0,0,0,0,0,0,0,0,0,0,0,0,0,0,0,0,0,0,2,0,0,0,0,0,0,0,0,0,2,0,0,0,0,0,0,0,0,0,0,0,0,0,2,2,0,0,0,0,0,0,0,0,0,0,0,0,0,0,0,0,0,0,0,0,0,0,0,0,0,0,0,0,0,0,0,0,0,0,0,0,0,0,0,0,0,0,0,0,0,0,0,0,0,0,0,0,0,0,0,0,0,0,0,0,0,0,0,0,0,0,0,1,0,0,0,0,0,1,0,0,0,2,2,0,2,1,4,0,7,0,0,1,9,0,8,0,2,1,1,0,0,0,35,5]
[6,2,1,13,11,20,84,28,0,0,0,0,6,16,17,11,0,0,0,0,0,0,0,0,0,0,0,0,0,0,0,0,0,0,0,0,0,0,0,0,0,0,0,0,0,0,0,0,0,0,0,0,0,0,0,0,1,1,0,1,0,0,3,2,0,0,4,4,0,1,1,3,2,6,1,14,0,0,1,0,2,0,0,0,2,0,0,0,0,0,5,1,2,0,1,0,0,0,0,0,13,1,0,0,0,0,0,0,0,0,0,0,0,0,0,0,0,0,0,0,0,0,0,0,0,0,0,0,0,0,0,0,0,0,0,0,0,0,0,0,0,0,0,0,0,0,0,0,0,0,0,0,0,0,0,0,0,0,0,0,0,0,0,0,0,0,0,0,0,0,0,0,0,0,0,0,0,0,0,0,0,0,0,0,0,0,0,0,0,0,0,0,0,1,0,0,0,0,0,0,0,0,0,1,0,0,0,0,0,1,0,0,0,0,0,0,0,0,0,0,0,1,0,0,1,0,0,1,0,0,3,0,3,0,0,0,12,0,7,0,0,1,2,0,0,0,28,2]
[7,3,3,17,14,22,74,29,1,0,1,0,6,11,21,13,0,0,0,0,0,1,0,0,0,0,0,0,1,0,0,0,0,0,0,0,0,0,0,0,1,1,0,0,0,0,0,0,0,0,0,0,0,0,0,0,0,0,0,0,0,0,1,3,2,0,3,3,0,0,2,4,3,4,0,13,0,0,3,2,1,0,2,0,2,2,1,0,0,0,2,2,2,1,0,1,1,0,0,0,14,8,0,0,0,0,0,0,0,0,0,0,0,0,0,0,0,0,0,0,0,0,1,0,0,0,0,0,0,0,0,0,1,0,0,0,0,0,0,0,0,0,0,0,0,0,0,0,0,0,0,0,0,0,1,0,0,0,0,0,0,0,0,0,0,0,0,0,0,0,0,0,0,0,0,0,1,0,0,0,0,0,0,0,0,0,0,0,0,0,0,0,0,0,0,0,0,0,0,0,0,0,0,0,0,0,0,0,0,0,0,0,0,0,0,0,0,0,0,0,0,0,0,0,0,0,1,0,4,0,5,0,5,0,0,0,14,0,15,0,0,0,1,0,0,0,45,0]
[8,6,1,28,19,20,71,37,1,0,1,0,1,3,7,5,0,0,0,0,1,0,0,0,0,0,0,0,0,0,0,0,0,0,1,0,0,0,0,0,2,0,0,0,0,0,0,1,0,0,0,0,0,0,0,0,0,0,0,0,0,0,2,1,5,2,7,4,0,0,1,1,1,3,1,7,0,0,3,1,2,1,3,0,3,2,2,0,0,0,5,6,4,6,0,0,0,0,0,0,22,16,0,0,0,0,0,0,0,0,0,0,0,0,0,0,0,0,0,0,0,0,0,0,1,0,0,0,0,0,0,0,1,0,0,0,0,0,0,0,0,0,0,0,0,0,0,0,0,0,0,0,0,0,0,0,0,0,0,0,0,0,0,0,0,0,0,0,0,0,0,0,0,0,0,0,0,0,0,0,0,0,0,0,0,0,0,0,0,1,0,0,0,0,0,0,0,0,0,0,0,0,0,1,0,0,0,0,0,0,0,0,0,0,0,1,0,0,0,0,0,1,0,0,0,1,3,0,3,0,3,1,4,0,0,0,14,1,15,0,0,0,1,0,0,0,43,3]
[9,3,2,14,23,18,72,35,2,0,1,0,1,0,6,8,0,0,0,0,1,0,1,0,0,0,0,0,0,0,0,0,0,0,1,0,0,0,0,0,3,0,0,0,0,0,0,1,0,0,0,1,0,0,0,0,0,0,0,0,0,0,1,3,1,2,2,7,0,0,1,3,1,2,1,8,0,0,1,0,3,0,2,0,2,2,2,0,0,0,4,5,2,6,1,2,0,0,0,0,17,15,1,1,0,0,0,0,0,0,0,0,0,0,0,0,1,0,0,0,0,0,0,0,1,0,0,0,0,0,0,0,2,0,0,0,0,0,0,0,0,0,0,0,0,0,0,0,0,0,0,0,0,0,0,0,0,0,0,0,0,0,0,0,0,0,0,0,0,0,0,0,0,0,0,0,0,0,0,0,0,0,0,0,0,0,0,0,0,0,0,0,0,0,0,0,0,0,0,0,0,0,0,0,0,0,0,0,0,0,0,0,0,0,0,0,0,0,0,0,0,0,0,0,1,0,2,1,4,1,11,0,6,0,0,0,14,0,13,0,0,1,1,0,0,0,52,3]
[10,3,4,14,20,12,74,29,1,0,1,0,1,1,12,13,0,0,0,1,1,0,1,0,0,0,0,0,0,0,0,0,0,0,1,0,0,0,0,0,3,1,0,0,0,0,0,0,0,0,0,0,0,0,0,0,0,0,0,1,0,0,3,2,1,3,4,6,0,0,0,3,1,1,0,5,0,0,0,1,1,0,1,0,0,0,2,0,0,0,2,5,4,4,0,0,0,0,0,0,10,10,0,0,0,0,0,0,0,0,0,0,0,0,0,0,1,0,0,0,0,0,0,0,0,0,0,0,0,0,0,0,1,0,0,0,0,0,0,0,0,0,0,0,0,0,0,0,0,0,0,0,0,0,0,0,0,0,0,0,0,0,0,0,0,0,0,0,0,0,0,0,0,0,0,0,0,0,0,0,0,0,0,0,0,0,0,0,0,0,0,0,0,0,0,0,0,0,0,0,0,0,0,0,0,0,0,0,0,0,0,0,0,0,0,0,0,0,0,0,0,0,0,0,0,1,1,1,1,1,7,0,3,0,0,0,6,0,11,0,1,0,0,1,0,0,30,4]
[11,1,3,18,13,15,80,44,1,0,0,0,1,0,2,6,0,0,0,0,0,1,1,0,0,0,0,0,0,0,0,0,0,0,0,0,0,0,0,0,1,1,0,0,0,0,0,0,0,0,0,0,0,0,0,0,0,0,3,0,0,0,0,1,0,0,3,1,0,0,1,2,1,1,0,5,0,0,2,1,4,0,2,0,1,2,4,0,0,0,3,3,4,5,0,0,1,0,0,0,21,11,0,0,0,0,0,0,0,0,0,0,0,0,0,0,0,0,0,0,0,0,0,0,0,0,1,0,0,0,0,0,1,0,0,0,0,0,0,0,0,0,0,0,0,0,0,0,0,0,0,0,0,0,0,0,0,0,0,0,0,0,0,0,0,0,0,0,0,0,0,0,0,0,0,0,0,0,0,0,0,0,0,0,0,0,0,0,0,0,0,0,0,0,0,0,0,0,0,0,0,0,0,0,0,0,0,0,0,0,0,0,0,0,0,0,0,0,0,0,0,0,0,0,0,0,1,0,2,0,8,0,8,0,0,0,11,0,6,0,0,1,0,0,0,0,36,1]
["Total general",23,21,196,201,178,795,292,46,10,4,0,60,126,122,83,0,0,0,4,5,2,3,0,0,0,0,0,1,0,0,0,0,0,3,0,0,0,0,0,12,6,0,0,0,0,2,2,1,0,1,1,2,1,0,0,1,3,7,5,1,0,25,28,20,19,60,59,1,4,13,30,19,28,4,99,0,0,10,5,19,1,17,1,19,12,19,3,0,0,39,29,37,30,7,4,4,2,0,0,171,87,4,4,0,0,0,0,0,1,0,0,1,0,3,0,9,1,1,1,0,1,13,2,9,2,3,2,2,0,3,0,44,10,2,2,0,0,0,0,1,1,0,9,9,0,6,6,0,0,0,0,0,0,1,0,0,0,0,0,0,0,0,0,0,0,0,0,0,0,0,0,0,0,0,0,1,0,0,0,0,0,0,0,0,0,0,0,1,2,0,0,2,4,0,1,0,0,1,1,0,0,4,8,0,1,2,1,0,1,0,0,4,0,3,3,0,1,0,0,9,7,1,0,3,6,19,3,25,3,65,2,61,0,1,2,122,2,108,0,5,5,13,1,0,0,423,24]
[]
[]
["Salud Mental 5"]
["Anio",2024]
["UE","(Todas)"]
["Red","LA CONVENCION"]
["MicroRed","(Todas)"]
["EESS","(Todas)"]
["Provincia","(Todas)"]
["Distrito","(Todas)"]
[]
["Etiquetas de fila"," Atd_NVRiesgoL_NiñoF"," Atd_NVRiesgoL_NiñoM"," Atd_NVRiesgoL_AdoslF"," Atd_NVRiesgoL_AdoslM"," Atd_NVRiesgoL_JovenF"," Atd_NVRiesgoL_JovenM"," Atd_NVRiesgoL_AdultoF"," Atd_NVRiesgoL_AdultoM"," Atd_NVRiesgoL_AdultomaF"," Atd_NVRiesgoL_AdultomaM"," Atd_NVRiesgoL_TOTALF"," Atd_NVRiesgoL_TOTALM"," Atd_NVRiesgoM_NiñoF"," Atd_NVRiesgoM_NiñoM"," Atd_NVRiesgoM_AdoslF"," Atd_NVRiesgoM_AdoslM"," Atd_NVRiesgoM_JovenF"," Atd_NVRiesgoM_JovenM"," Atd_NVRiesgoM_AdultoF"," Atd_NVRiesgoM_AdultoM"," Atd_NVRiesgoM_AdultomaF"," Atd_NVRiesgoM_AdultomaM"," Atd_NVRiesgoM_TOTALF"," Atd_NVRiesgoM_TOTALM"," Atd_NVRiesgoS_NiñoF"," Atd_NVRiesgoS_NiñoM"," Atd_NVRiesgoS_AdoslF"," Atd_NVRiesgoS_AdoslM"," Atd_NVRiesgoS_JovenF"," Atd_NVRiesgoS_JovenM"," Atd_NVRiesgoS_AdultoF"," Atd_NVRiesgoS_AdultoM"," Atd_NVRiesgoS_AdultomaF"," Atd_NVRiesgoS_AdultomaM"," Atd_NVRiesgoS_TOTALF"," Atd_NVRiesgoS_TOTALM"," Atd_NVRiesgo_CasoDerivado"," Atd_NVRiesgo_CasoReferido"," Atd_EIID_VIF_NiñoF"," Atd_EIID_VIF_NiñoM"," Atd_EIID_VIF_AdoslF"," Atd_EIID_VIF_AdoslM"," Atd_EIID_VIF_JovenF"," Atd_EIID_VIF_JovenM"," Atd_EIID_VIF_AdultoF"," Atd_EIID_VIF_AdultoM"," Atd_EIID_VIF_AdultomaF"," Atd_EIID_VIF_AdultomaM"," Atd_EIID_VIF_TOTALF"," Atd_EIID_VIF_TOTALM"," Atd_EIID_AS_NiñoF"," Atd_EIID_AS_NiñoM"," Atd_EIID_AS_AdoslF"," Atd_EIID_AS_AdoslM"," Atd_EIID_AS_JovenF"," Atd_EIID_AS_JovenM"," Atd_EIID_AS_AdultoF"," Atd_EIID_AS_AdultoM"," Atd_EIID_AS_AdultomaF"," Atd_EIID_AS_AdultomaM"," Atd_EIID_AS_TOTALF"," Atd_EIID_AS_TOTALM"," Atd_EIID_TEA_NiñoF"," Atd_EIID_TEA_NiñoM"," Atd_EIID_TEA_AdoslF"," Atd_EIID_TEA_AdoslM"," Atd_EIID_TEA_JovenF"," Atd_EIID_TEA_JovenM"," Atd_EIID_TEA_AdultoF"," Atd_EIID_TEA_AdultoM"," Atd_EIID_TEA_AdultomaF"," Atd_EIID_TEA_AdultomaM"," Atd_EIID_TEA_TOTALF"," Atd_EIID_TEA_TOTALM"," Atd_EIID_TMC_NiñoF"," Atd_EIID_TMC_NiñoM"," Atd_EIID_TMC_AdoslF"," Atd_EIID_TMC_AdoslM"," Atd_EIID_TMC_TOTALF"," Atd_EIID_TMC_TOTALM"," Atd_EIID_TD_NiñoF"," Atd_EIID_TD_NiñoM"," Atd_EIID_TD_AdoslF"," Atd_EIID_TD_AdoslM"," Atd_EIID_TD_JovenF"," Atd_EIID_TD_JovenM"," Atd_EIID_TD_AdultoF"," Atd_EIID_TD_AdultoM"," Atd_EIID_TD_AdultomaF"," Atd_EIID_TD_AdultomaM"," Atd_EIID_TD_TOTALF"," Atd_EIID_TD_TOTALM"," Atd_EIID_TA_NiñoF"," Atd_EIID_TA_NiñoM"," Atd_EIID_TA_AdoslF"," Atd_EIID_TA_AdoslM"," Atd_EIID_TA_JovenF"," Atd_EIID_TA_JovenM"," Atd_EIID_TA_AdultoF"," Atd_EIID_TA_AdultoM"," Atd_EIID_TA_AdultomaF"," Atd_EIID_TA_AdultomaM"," Atd_EIID_TA_TOTALF"," Atd_EIID_TA_TOTALM"," Atd_EIID_CS_NiñoF"," Atd_EIID_CS_NiñoM"," Atd_EIID_CS_AdoslF"," Atd_EIID_CS_AdoslM"," Atd_EIID_CS_JovenF"," Atd_EIID_CS_JovenM"," Atd_EIID_CS_AdultoF"," Atd_EIID_CS_AdultoM"," Atd_EIID_CS_AdultomaF"," Atd_EIID_CS_AdultomaM"," Atd_EIID_CS_TOTALF"," Atd_EIID_CS_TOTALM"," Atd_EIID_ATD_NiñoF"," Atd_EIID_ATD_NiñoM"," Atd_EIID_ATD_AdoslF"," Atd_EIID_ATD_AdoslM"," Atd_EIID_ATD_JovenF"," Atd_EIID_ATD_JovenM"," Atd_EIID_ATD_AdultoF"," Atd_EIID_ATD_AdultoM"," Atd_EIID_ATD_AdultomaF"," Atd_EIID_ATD_AdultomaM"," Atd_EIID_ATD_TOTALF"," Atd_EIID_ATD_TOTALM"," Atd_EIID_DATD_NiñoF"," Atd_EIID_DATD_NiñoM"," Atd_EIID_DATD_AdoslF"," Atd_EIID_DATD_AdoslM"," Atd_EIID_DATD_JovenF"," Atd_EIID_DATD_JovenM"," Atd_EIID_DATD_AdultoF"," Atd_EIID_DATD_AdultoM"," Atd_EIID_DATD_AdultomaF"," Atd_EIID_DATD_AdultomaM"," Atd_EIID_DATD_TOTALF"," Atd_EIID_DATD_TOTALM"," Atd_EIID_TPS_NiñoF"," Atd_EIID_TPS_NiñoM"," Atd_EIID_TPS_AdoslF"," Atd_EIID_TPS_AdoslM"," Atd_EIID_TPS_JovenF"," Atd_EIID_TPS_JovenM"," Atd_EIID_TPS_AdultoF"," Atd_EIID_TPS_AdultoM"," Atd_EIID_TPS_AdultomaF"," Atd_EIID_TPS_AdultomaM"," Atd_EIID_TPS_TOTALF"," Atd_EIID_TPS_TOTALM"," Atd_EIID_1EPS_NiñoF"," Atd_EIID_1EPS_NiñoM"," Atd_EIID_1EPS_AdoslF"," Atd_EIID_1EPS_AdoslM"," Atd_EIID_1EPS_JovenF"," Atd_EIID_1EPS_JovenM"," Atd_EIID_1EPS_AdultoF"," Atd_EIID_1EPS_AdultoM"," Atd_EIID_1EPS_AdultomaF"," Atd_EIID_1EPS_AdultomaM"," Atd_EIID_1EPS_TOTALF"," Atd_EIID_1EPS_TOTALM"," Atd_EIID_TMG_NiñoF"," Atd_EIID_TMG_NiñoM"," Atd_EIID_TMG_AdoslF"," Atd_EIID_TMG_AdoslM"," Atd_EIID_TMG_JovenF"," Atd_EIID_TMG_JovenM"," Atd_EIID_TMG_AdultoF"," Atd_EIID_TMG_AdultoM"," Atd_EIID_TMG_AdultomaF"," Atd_EIID_TMG_AdultomaM"," Atd_EIID_TMG_TOTALF"," Atd_EIID_TMG_TOTALM"," Atd_EIID_DC_NiñoF"," Atd_EIID_DC_NiñoM"," Atd_EIID_DC_AdoslF"," Atd_EIID_DC_AdoslM"," Atd_EIID_DC_JovenF"," Atd_EIID_DC_JovenM"," Atd_EIID_DC_AdultoF"," Atd_EIID_DC_AdultoM"," Atd_EIID_DC_AdultomaF"," Atd_EIID_DC_AdultomaM"," Atd_EIID_DC_TOTALF"," Atd_EIID_DC_TOTALM"," Act_HP_IngUsua_JovenF"," Act_HP_IngUsua_JovenM"," Act_HP_IngUsua_AdultoF"," Act_HP_IngUsua_AdultoM"," Act_HP_IngUsua_AdultomaF"," Act_HP_IngUsua_AdultomaM"," Act_HP_IngUsua_TOTALF"," Act_HP_IngUsua_TOTALM"," Plan_indi_CuidadoF_JovenF"," Plan_indi_CuidadoF_JovenM"," Plan_indi_CuidadoF_AdultoF"," Plan_indi_CuidadoF_AdultoM"," Plan_indi_CuidadoF_AdultomaF"," Plan_indi_CuidadoF_AdultomaM"," Plan_indi_CuidadoF_TOTALF"," Plan_indi_CuidadoF_TOTALM"," Act_HP_EgrUsua_JovenF"," Act_HP_EgrUsua_JovenM"," Act_HP_EgrUsua_AdultoF"," Act_HP_EgrUsua_AdultoM"," Act_HP_EgrUsua_AdultomaF"," Act_HP_EgrUsua_AdultomaM"," Act_HP_EgrUsua_TOTALF"," Act_HP_EgrUsua_TOTALM"," monitoreo_reunion"," monitoreo_persona"," capacita_reunion"," capacita_persona"," moviliza_reunion"," moviliza_persona"," partipaComuni_reunion"," partipaComuni_persona"," admMedica_reunion"," admMedica_persona"," Conseja_ACuiada_HP_S1"," Conseja_ACuiada_HP_S2"," Conseja_ACuiada_HP_S3"," Conseja_ACuiada_HP_S4"," Conseja_ACuiada_HP_S5"," Conseja_ACuiada_HP_S6"," Conseja_ACuiada_HP_S7"," Conseja_ACuiada_HP_S8"," EstiloVida_AmbienteSalud_S1"," EstiloVida_AmbienteSalud_S2"," EstiloVida_AmbienteSalud_S3"," EstiloVida_AmbienteSalud_S4"," EstiloVida_AmbienteSalud_S5"," EstiloVida_AmbienteSalud_S6"," EstiloVida_AmbienteSalud_S7"," EstiloVida_AmbienteSalud_S8"," Emp_DerechoSalud_S1"," Emp_DerechoSalud_S2"," Emp_DerechoSalud_S3"," Emp_DerechoSalud_S4"," Emp_DerechoSalud_S5"," Emp_DerechoSalud_S6"," Emp_DerechoSalud_S7"," Emp_DerechoSalud_S8"," Part_Formula_PAI_Psiq"," Part_Formula_PAI_Psic"," Part_Formula_PAI_Enf"," Part_Formula_PAI_TrabS"," Part_Formula_PAI_MedF"," Part_Formula_PAI_Otro"," Emp_DerechoSalud_S9"," Conseja_ACuiada_HP_S9"," EstiloVida_AmbienteSalud_S9"]
[1,1,1,4,0,11,0,15,1,1,0,32,2,0,0,1,0,1,0,2,0,1,0,5,0,0,0,0,0,0,0,0,0,0,0,0,0,2,0,2,2,2,1,0,0,3,0,0,0,7,3,0,0,1,0,0,0,0,0,0,0,1,0,0,1,0,0,0,0,0,0,0,0,0,1,1,4,1,1,2,5,0,0,2,0,0,0,4,0,1,0,7,0,0,0,2,0,1,0,3,0,0,2,6,2,0,0,0,0,0,0,0,0,0,0,0,0,0,0,0,0,0,1,0,1,0,0,0,2,0,0,0,0,0,0,0,0,0,0,0,0,0,0,0,0,0,0,1,1,0,0,1,1,0,0,0,0,0,0,0,0,0,0,0,0,0,0,0,0,0,0,1,0,0,0,1,0,0,0,0,0,0,0,0,0,0,0,0,0,0,1,2,1,0,0,2,2,0,0,0,0,0,0,0,0,0,0,0,0,0,0,0,0,0,0,1,8,0,0,0,0,0,0,0,0,0,0,0,0,0,0,0,0,0,0,0,0,0,0,0,0,0,0,0,0,0,0,0,25,26,7,22,0,0,0,0]
[2,1,0,2,0,4,0,11,0,0,0,18,0,0,0,2,0,6,0,2,0,1,0,11,0,0,0,1,0,1,0,4,0,0,0,6,0,3,0,0,0,0,0,0,0,1,0,0,0,1,0,0,0,0,0,0,0,0,0,0,0,0,0,0,0,0,0,0,0,0,0,0,0,0,0,0,0,0,0,0,0,0,0,0,0,1,0,0,0,0,1,1,1,0,0,0,0,1,1,1,0,0,1,2,2,0,0,0,0,0,0,0,0,0,0,0,0,0,0,0,0,0,0,0,0,0,0,0,0,0,0,0,0,0,0,0,0,0,0,0,0,0,0,0,0,0,0,0,0,0,0,0,0,0,0,0,0,0,0,0,0,0,0,0,0,0,0,0,0,0,0,0,0,0,0,0,0,0,0,0,0,0,0,0,0,0,0,0,0,0,0,0,1,0,0,0,1,0,0,0,0,0,0,0,0,0,0,0,1,0,0,0,1,0,0,1,8,0,0,0,0,0,0,0,0,0,0,0,0,0,0,0,0,0,0,0,0,0,0,0,0,0,0,0,0,0,0,0,6,0,0,0,0,0,0,0]
[3,1,0,3,0,9,0,13,0,3,0,29,0,0,0,1,0,1,0,4,0,0,0,6,0,0,0,0,0,0,0,0,0,0,0,0,0,1,1,1,1,0,0,1,0,2,0,0,0,4,1,0,0,1,0,0,0,0,0,0,0,1,0,0,0,0,0,0,0,0,0,0,0,0,0,1,1,0,0,1,1,0,0,1,0,0,0,4,0,0,1,5,1,0,0,0,0,2,0,1,1,0,0,3,1,0,0,0,0,0,0,0,0,0,0,0,0,0,0,0,0,0,0,0,0,0,0,0,0,0,0,0,0,0,0,0,0,0,0,0,0,0,0,0,0,0,0,3,3,0,0,3,3,0,0,0,0,0,0,0,0,0,0,0,0,0,0,0,0,0,0,0,0,0,0,0,0,0,0,0,0,0,0,0,0,0,0,0,0,0,0,0,1,0,0,0,1,0,0,3,3,0,0,3,3,0,0,0,0,0,0,0,0,2,2,1,8,6,6,7,7,1,1,2,2,2,2,2,2,2,2,0,0,0,0,0,0,0,0,0,0,0,0,0,0,0,0,0,11,9,0,0,3,0,0,0]
[4,1,3,3,0,7,0,15,0,1,0,27,3,1,0,1,0,5,0,1,0,0,0,8,0,0,0,0,0,1,0,1,0,0,0,2,0,2,0,1,1,0,0,1,0,0,0,0,0,2,1,0,0,0,0,0,0,0,0,0,0,0,0,0,0,0,0,0,0,0,0,0,0,0,0,1,0,0,0,1,0,0,0,0,2,1,2,0,1,2,2,3,7,0,0,0,0,1,2,0,0,1,0,2,2,0,0,0,0,0,0,0,0,0,0,0,0,0,0,0,0,1,1,0,3,0,0,1,4,0,0,0,0,0,0,0,0,0,0,0,0,0,0,0,0,0,0,0,0,1,0,1,0,0,0,0,0,0,0,0,0,0,0,0,0,0,0,0,0,0,0,0,0,0,0,0,0,0,0,0,0,0,0,0,0,0,0,0,0,0,0,0,0,0,0,0,0,0,0,0,0,0,0,0,0,0,0,0,1,0,0,0,1,0,0,0,0,0,0,0,0,7,0,2,2,2,0,0,0,0,0,0,0,0,0,0,0,0,0,0,0,0,0,0,0,0,0,0,17,9,3,0,4,0,0,0]
[5,1,2,4,1,10,0,12,0,1,0,28,3,0,2,0,0,0,0,4,0,0,0,4,2,0,0,0,0,0,0,0,0,0,0,0,0,1,0,2,1,0,0,1,0,3,0,1,0,7,1,1,0,0,0,0,0,0,0,0,0,1,0,1,1,0,0,0,0,0,0,0,0,1,1,3,0,0,0,3,0,0,0,0,0,0,0,1,1,1,0,2,1,0,0,0,0,0,0,3,0,1,0,4,0,0,0,0,0,0,0,0,0,0,0,0,0,0,0,0,0,0,1,0,0,0,1,0,2,0,0,0,0,0,0,0,0,0,0,0,0,0,0,0,0,0,0,0,0,0,0,0,0,0,0,0,0,0,0,0,0,0,0,0,0,0,0,0,0,0,0,0,0,0,0,0,0,0,0,0,0,0,0,0,0,0,0,0,0,0,0,1,0,0,0,1,0,0,0,0,0,0,0,0,0,0,1,0,0,0,0,0,1,0,0,0,0,0,0,0,0,1,1,5,2,2,3,3,1,1,1,3,3,3,3,3,0,0,0,0,0,0,0,0,0,0,0,6,16,11,1,0,6,0,0,0]
[6,0,1,0,1,2,0,13,0,2,0,17,2,1,0,0,0,3,0,3,0,0,0,7,0,0,0,0,0,1,0,3,0,0,0,4,0,0,0,0,0,1,0,1,0,0,0,0,0,2,0,0,0,0,0,0,0,0,0,0,0,0,0,0,0,0,0,0,0,0,0,0,0,0,0,0,2,1,0,1,2,0,0,1,0,3,0,2,1,1,0,7,1,0,0,1,0,0,0,0,2,0,0,1,2,0,0,0,0,0,0,0,0,0,0,0,0,0,0,0,0,0,0,0,0,0,0,0,0,0,0,0,0,0,0,0,0,0,0,0,0,0,0,0,0,0,0,1,0,0,0,1,0,0,0,0,0,0,0,0,0,0,0,0,0,0,0,0,0,0,0,0,0,0,0,0,0,0,0,0,0,0,0,0,0,0,0,0,0,0,0,0,0,0,0,0,0,0,0,1,0,0,0,1,0,0,0,1,0,0,0,1,0,0,0,0,0,0,0,0,0,0,0,0,0,0,0,0,0,0,0,3,2,0,0,0,0,0,0,0,0,0,0,0,0,0,0,3,14,8,2,0,1,0,0,0]
[7,0,0,4,0,9,0,16,0,1,0,30,0,0,0,1,0,0,0,5,0,0,0,6,0,0,0,0,0,1,0,7,0,0,0,8,0,2,0,0,1,0,0,1,0,4,0,0,0,5,1,0,0,3,0,0,0,0,0,0,0,3,0,0,0,0,0,0,0,0,0,0,0,0,0,0,1,0,1,0,2,0,0,4,1,1,0,3,1,0,0,8,2,0,0,0,0,1,0,2,0,0,0,3,0,0,0,0,0,0,0,0,0,0,0,0,0,0,0,0,0,0,0,1,0,0,0,1,0,0,0,0,0,0,0,0,1,0,0,0,1,0,0,2,0,0,0,0,0,0,0,2,0,0,0,0,0,0,0,0,0,0,0,0,0,0,0,0,0,0,0,0,0,0,0,0,0,0,0,0,0,0,0,0,0,0,0,0,0,0,1,0,0,0,0,0,1,0,0,0,0,0,0,0,0,0,0,0,0,0,0,0,0,0,0,0,0,0,0,0,0,0,0,10,6,2,0,0,0,0,0,0,0,0,0,0,0,0,0,0,0,0,0,0,0,0,0,6,17,16,0,0,9,0,0,0]
[8,0,1,3,0,6,0,20,1,1,0,30,2,0,0,1,0,0,0,4,0,0,0,5,0,0,0,1,0,0,1,3,0,0,0,4,1,8,0,1,0,0,0,0,0,1,0,0,0,2,0,1,0,0,0,0,0,0,0,0,0,1,0,1,4,0,0,0,0,0,0,0,0,1,4,1,4,0,1,1,5,0,0,1,1,0,0,1,0,0,0,2,1,2,0,0,0,0,0,1,0,0,0,3,0,0,0,0,0,0,0,0,0,0,0,0,0,0,0,0,0,0,0,0,2,0,0,0,2,0,0,0,0,0,0,1,1,0,1,1,2,0,0,0,0,0,0,1,0,0,0,1,0,0,0,0,0,0,0,0,0,0,0,0,0,0,0,0,0,0,0,0,0,0,0,0,0,0,0,0,0,0,0,0,0,0,0,0,0,0,0,0,0,0,0,0,0,0,0,0,0,0,0,0,0,0,0,0,0,0,0,0,0,0,0,1,8,0,0,0,0,0,0,3,0,0,0,0,0,0,0,0,2,0,1,0,0,0,0,0,0,0,0,0,0,0,0,8,19,17,0,0,11,0,0,0]
[9,0,1,5,2,12,0,25,0,1,0,43,3,1,0,1,0,2,0,1,0,0,0,5,0,0,0,0,0,1,0,0,0,0,0,1,0,8,0,2,1,1,0,3,0,5,1,1,0,12,2,3,0,2,0,1,0,0,0,1,0,7,0,1,0,0,0,0,0,0,0,0,0,1,0,4,9,0,2,4,11,0,0,1,0,5,1,8,1,0,0,14,2,0,0,1,0,4,0,5,3,0,0,10,3,0,0,0,0,0,0,0,0,0,0,0,0,0,0,0,1,1,0,0,3,0,0,1,4,0,0,0,0,0,0,0,1,0,1,0,2,0,0,0,0,2,0,1,0,0,0,3,0,0,0,0,0,0,0,0,0,0,0,0,0,0,0,0,0,0,0,0,0,0,0,0,0,1,1,0,0,0,0,0,0,0,0,1,1,0,0,0,0,0,0,0,0,0,0,0,0,0,0,0,0,0,0,0,0,0,0,0,0,8,0,1,8,5,0,6,0,8,0,14,2,12,0,0,5,0,0,11,5,0,0,0,0,0,0,6,0,0,0,0,0,0,0,35,41,50,8,0,15,0,0,0]
[10,1,1,2,2,9,0,14,0,0,0,26,3,0,0,0,0,0,0,3,0,0,0,3,0,0,0,0,0,0,0,0,0,0,0,0,0,2,0,3,4,0,3,1,0,3,1,0,0,7,8,1,0,1,0,0,0,2,0,0,0,4,0,1,3,0,0,0,0,0,0,0,0,1,3,4,11,0,2,4,13,0,0,1,0,1,1,6,1,1,1,9,3,0,0,0,0,5,1,2,0,2,0,9,1,0,0,0,0,0,0,0,0,0,0,0,0,0,0,0,0,0,1,0,3,0,0,0,4,0,0,0,0,0,0,0,0,0,0,0,0,0,0,0,0,0,1,2,0,0,0,2,1,0,0,0,0,0,0,0,0,0,0,0,0,0,0,0,0,0,0,0,0,0,0,0,0,0,0,0,0,0,0,0,0,2,0,2,0,0,0,1,0,0,0,1,0,0,0,1,0,0,0,1,0,0,0,0,0,0,0,0,0,7,0,1,8,0,0,0,0,7,1,4,2,1,0,0,0,0,0,8,8,6,1,0,0,0,0,0,0,0,0,0,0,0,0,24,51,43,2,0,25,0,0,0]
[11,0,0,2,0,9,0,11,0,0,0,22,0,0,1,1,0,5,0,4,0,0,0,10,1,0,0,0,0,0,0,0,0,0,0,0,0,2,0,2,2,5,4,3,0,3,0,0,0,13,6,1,0,5,1,1,0,0,0,0,0,7,1,0,2,0,0,0,0,0,0,0,0,0,2,0,8,2,2,2,10,0,0,4,2,3,2,7,1,1,0,15,5,0,0,0,0,3,3,2,1,1,0,6,4,0,0,0,0,0,0,0,0,0,0,0,0,0,0,0,0,1,2,1,6,0,0,2,8,0,0,0,0,0,0,3,3,0,0,3,3,0,0,0,1,0,0,0,1,0,0,0,2,0,0,0,0,0,0,0,0,0,0,0,0,0,0,0,0,0,0,0,0,0,0,0,0,0,0,0,0,0,0,1,0,0,0,1,0,0,0,0,0,0,0,0,0,0,0,0,1,0,0,0,1,0,0,0,0,0,0,0,0,0,0,1,8,0,0,0,0,0,0,0,2,0,0,0,0,0,0,0,1,1,2,0,0,0,0,0,0,0,0,0,0,0,0,23,52,61,0,0,36,0,0,0]
["Total general",6,10,32,6,88,0,165,2,11,0,302,18,3,3,9,0,23,0,33,0,2,0,70,3,0,0,2,0,5,1,18,0,0,0,25,1,31,1,14,13,9,8,12,0,25,2,2,0,62,23,7,0,13,1,2,0,2,0,1,0,25,1,4,11,0,0,0,0,0,0,0,0,4,11,15,40,4,9,19,49,0,0,15,6,15,6,36,7,7,5,73,24,2,0,4,0,18,7,20,7,5,3,49,17,0,0,0,0,0,0,0,0,0,0,0,0,0,0,0,1,3,6,2,18,0,1,5,26,0,0,0,0,0,0,4,6,0,2,4,8,0,0,2,1,2,1,9,5,1,0,14,7,0,0,0,0,0,0,0,0,0,0,0,0,0,0,0,0,0,0,1,0,0,0,1,0,1,1,0,0,0,0,1,0,2,0,4,1,0,2,4,3,0,0,4,5,0,0,5,4,0,0,5,4,0,1,1,2,0,0,1,3,17,2,7,56,11,6,13,7,24,3,40,18,21,5,5,8,3,3,25,21,10,7,3,0,0,0,6,0,0,0,0,0,0,0,105,269,250,23,22,110,0,0,0]
[]
[]
["Salud Mental 6"]
["Anio",2024]
["UE","(Todas)"]
["Red","LA CONVENCION"]
["MicroRed","(Todas)"]
["EESS","(Todas)"]
["Provincia","(Todas)"]
["Distrito","(Todas)"]
[]
["Etiquetas de fila"," Participa_FC_PDisca_S1"," Participa_FC_PDisca_S2"," Participa_FC_PDisca_S3"," Participa_FC_PDisca_S4"," Participa_FC_PDisca_S5"," Participa_FC_PDisca_S6"," Participa_FC_PDisca_S7"," Participa_FC_PDisca_S8"," Inocuidad_Alimenta_S1"," Inocuidad_Alimenta_S2"," Inocuidad_Alimenta_S3"," Inocuidad_Alimenta_S4"," Inocuidad_Alimenta_S5"," Inocuidad_Alimenta_S6"," Inocuidad_Alimenta_S7"," Inocuidad_Alimenta_S8"," Orienta_Familiar_S1"," Orienta_Familiar_S2"," Orienta_Familiar_S3"," Orienta_Familiar_S4"," Orienta_Familiar_S5"," Orienta_Familiar_S6"," Orienta_Familiar_S7"," Orienta_Familiar_S8"," Act_Terap_Cto_pte_S1"," Act_Terap_Cto_pte_S2"," Act_Terap_Cto_pte_S3"," Act_Terap_Cto_pte_S4"," Act_Terap_Cto_pte_S5"," Act_Terap_Cto_pte_S6"," Act_Terap_Cto_pte_S7"," Act_Terap_Cto_pte_S8"," Entrena_Autocuidado_S1"," Entrena_Autocuidado_S2"," Entrena_Autocuidado_S3"," Entrena_Autocuidado_S4"," Entrena_Autocuidado_S5"," Entrena_Autocuidado_S6"," Entrena_Autocuidado_S7"," Entrena_Autocuidado_S8"," Entrena_Reintegra_CT_S1"," Entrena_Reintegra_CT_S2"," Entrena_Reintegra_CT_S3"," Entrena_Reintegra_CT_S4"," Entrena_Reintegra_CT_S5"," Entrena_Reintegra_CT_S6"," Entrena_Reintegra_CT_S7"," Entrena_Reintegra_CT_S8"," Conseja_Act_Fisica_S1"," Conseja_Act_Fisica_S2"," Conseja_Act_Fisica_S3"," Conseja_Act_Fisica_S4"," Conseja_Act_Fisica_S5"," Conseja_Act_Fisica_S6"," Conseja_Act_Fisica_S7"," Conseja_Act_Fisica_S8"," Viaje_FHabitual_AP_S1"," Viaje_FHabitual_AP_S2"," Viaje_FHabitual_AP_S3"," Viaje_FHabitual_AP_S4"," Viaje_FHabitual_AP_S5"," Viaje_FHabitual_AP_S6"," Viaje_FHabitual_AP_S7"," Viaje_FHabitual_AP_S8"," Rehab_Psicosocial_1"," Rehab_Psicosocial_2"," Rehab_Psicosocial_3"," Rehab_Psicosocial_4"," Rehab_Psicosocial_5"," Rehab_Psicosocial_6"," Rehab_Psicosocial_7"," Rehab_Psicosocial_8"," Rehab_Psicosocial_9"," Rehab_Psicosocial_10"," Rehab_Laboral_1"," Rehab_Laboral_2"," Rehab_Laboral_3"," Rehab_Laboral_4"," Rehab_Laboral_5"," Rehab_Laboral_6"," Rehab_Laboral_7"," Rehab_Laboral_8"," Rehab_Laboral_9"," Rehab_Laboral_10"," Fortal_APsicosocial_R1"," Fortal_APsicosocial_R2"," Fortal_APsicosocial_R3"," Fortal_APsicosocial_R4"," Fortal_APsicosocial_R5"," Fortal_APsicosocial_R6"," Acompaña_Psicosocial_R1"," Acompaña_Psicosocial_R2"," Acompaña_Psicosocial_R3"," Acompaña_Psicosocial_R4"," Acompaña_Psicosocial_R5"," Acompaña_Psicosocial_R6"," Recontr_IdentidadC_R1"," Recontr_IdentidadC_R2"," Recontr_IdentidadC_R3"," Recontr_IdentidadC_R4"," Recontr_IdentidadC_R5"," Recontr_IdentidadC_R6"," Fortal_APsicosocial_P1"," Fortal_APsicosocial_P2"," Fortal_APsicosocial_P3"," Fortal_APsicosocial_P4"," Fortal_APsicosocial_P5"," Fortal_APsicosocial_P6"," Acompaña_Psicosocial_P1"," Acompaña_Psicosocial_P2"," Acompaña_Psicosocial_P3"," Acompaña_Psicosocial_P4"," Acompaña_Psicosocial_P5"," Acompaña_Psicosocial_P6"," Recontr_IdentidadC_P1"," Recontr_IdentidadC_P2"," Recontr_IdentidadC_P3"," Recontr_IdentidadC_P4"," Recontr_IdentidadC_P5"," Recontr_IdentidadC_P6"," pob_Riesgo_SMetal_S1"," pob_Riesgo_SMetal_S2"," pob_Riesgo_SMetal_S3"," pob_Riesgo_SMetal_S4"," pob_Riesgo_SMetal_S5"," pob_Riesgo_SMetal_S6"," pob_Riesgo_SMetal_S7"," pob_Riesgo_SMetal_P_S1"," pob_Riesgo_SMetal_P_S2"," pob_Riesgo_SMetal_P_S3"," pob_Riesgo_SMetal_P_S4"," pob_Riesgo_SMetal_P_S5"," pob_Riesgo_SMetal_P_S6"," pob_Riesgo_SMetal_P_S7"," pob_Riesgo_SMetal_P_P1"," pob_Riesgo_SMetal_P_P2"," pob_Riesgo_SMetal_P_P3"," pob_Riesgo_SMetal_P_P4"," pob_Riesgo_SMetal_P_P5"," pob_Riesgo_SMetal_P_P6"," pob_Riesgo_SMetal_P_P7"," Custionario_HA_8_11F"," Custionario_HA_8_11M"," Custionario_HA_12_17F"," Custionario_HA_12_17M"," Problemas_HAI_8_11F"," Problemas_HAI_8_11M"," Problemas_HAI_12_17F"," Problemas_HAI_12_17M"," Inicio_SEHS_8_11F"," Inicio_SEHS_8_11M"," Inicio_SEHS_12_17F"," Inicio_SEHS_12_17M"," Termina_SEHS_8_11F"," Termina_SEHS_8_11M"," Termina_SEHS_12_17F"," Termina_SEHS_12_17M"," Staller_HHSS_S1_8_11"," Staller_HHSS_S2_8_11"," Staller_HHSS_S3_8_11"," Staller_HHSS_S4_8_11"," Staller_HHSS_S5_8_11"," Staller_HHSS_S6_8_11"," Staller_HHSS_S7_8_11"," Staller_HHSS_S8_8_11"," Staller_HHSS_S9_8_11"," Staller_HHSS_S10_8_11"," Staller_HHSS_S1_12_17"," Staller_HHSS_S2_12_17"," Staller_HHSS_S3_12_17"," Staller_HHSS_S4_12_17"," Staller_HHSS_S5_12_17"," Staller_HHSS_S6_12_17"," Staller_HHSS_S7_12_17"," Staller_HHSS_S8_12_17"," Staller_HHSS_S9_12_17"," Staller_HHSS_S10_12_17"," Staller_HHSS_P1_8_11"," Staller_HHSS_P2_8_11"," Staller_HHSS_P3_8_11"," Staller_HHSS_P4_8_11"," Staller_HHSS_P5_8_11"," Staller_HHSS_P6_8_11"," Staller_HHSS_P7_8_11"," Staller_HHSS_P8_8_11"," Staller_HHSS_P9_8_11"," Staller_HHSS_P10_8_11"," Staller_HHSS_P1_12_17"," Staller_HHSS_P2_12_17"," Staller_HHSS_P3_12_17"," Staller_HHSS_P4_12_17"," Staller_HHSS_P5_12_17"," Staller_HHSS_P6_12_17"," Staller_HHSS_P7_12_17"," Staller_HHSS_P8_12_17"," Staller_HHSS_P9_12_17"," Staller_HHSS_P10_12_17"," Cria_DesaInfa_S1_1aF"," Cria_DesaInfa_S1_1aM"," Cria_DesaInfa_S2_1aF"," Cria_DesaInfa_S2_1aM"," Cria_DesaInfa_S3_1aF"," Cria_DesaInfa_S3_1aM"," Cria_DesaInfa_S1_2aF"," Cria_DesaInfa_S1_2aM"," Cria_DesaInfa_S2_2aF"," Cria_DesaInfa_S2_2aM"," Cria_DesaInfa_S3_2aF"," Cria_DesaInfa_S3_2aM"," Cria_DesaInfa_S1_3aF"," Cria_DesaInfa_S1_3aM"," Cria_DesaInfa_S2_3aF"," Cria_DesaInfa_S2_3aM"," Cria_DesaInfa_S3_3aF"," Cria_DesaInfa_S3_3aM"," Cria_DesaInfa_S1_4aF"," Cria_DesaInfa_S1_4aM"," Cria_DesaInfa_S2_4aF"," Cria_DesaInfa_S2_4aM"," Cria_DesaInfa_S3_4aF"," Cria_DesaInfa_S3_4aM"," SPareja_Convive_S1F"," SPareja_Convive_S1M"," SPareja_Convive_S2F"," SPareja_Convive_S2M"," SPareja_Convive_S3F"," SPareja_Convive_S3M"," SPareja_Convive_S4F"," SPareja_Convive_S4M"," SPareja_Convive_Grupal_R1"," SPareja_Convive_Grupal_R2"," SPareja_Convive_Grupal_R3"," SPareja_Convive_Grupal_R4"," SPareja_Convive_Grupal_P1"," SPareja_Convive_Grupal_P2"," SPareja_Convive_Grupal_P3"," SPareja_Convive_Grupal_P4"," Cria_DesaInfa_S1_11aF"," Cria_DesaInfa_S1_11aM"," Cria_DesaInfa_S2_11aF"," Cria_DesaInfa_S2_11aM"," Cria_DesaInfa_S3_11aF"," Cria_DesaInfa_S3_11aM"," Participa_FC_PDisca_S9"," Inocuidad_Alimenta_S9"," Orienta_Familiar_S9"," Act_Terap_Cto_pte_S9"," Entrena_Autocuidado_S9"," Entrena_Reintegra_CT_S9"," Conseja_Act_Fisica_S9"," Viaje_FHabitual_AP_S9"]
[1,0,0,0,0,0,0,0,0,0,0,0,0,0,0,0,0,0,0,0,0,0,0,0,0,0,0,0,0,0,0,0,0,0,0,0,0,0,0,0,0,0,0,0,0,0,0,0,0,0,0,0,0,0,0,0,0,4,3,0,0,0,0,0,0,0,0,0,0,0,0,0,0,0,0,0,0,0,0,0,0,0,0,0,0,0,0,0,0,0,0,0,0,0,0,0,0,0,0,0,0,0,0,0,0,0,0,0,0,0,0,0,0,0,0,0,0,0,0,0,0,0,0,0,0,0,0,0,0,0,0,0,0,0,0,0,0,0,0,0,0,0,0,0,3,5,0,0,2,5,0,0,0,0,0,0,0,0,0,0,0,0,0,0,0,0,0,0,0,2,0,0,0,0,0,0,0,0,0,0,0,0,0,0,0,0,0,0,0,0,0,0,0,0,0,0,0,0,11,15,26,17,21,31,4,2,0,0,0,0,3,4,0,0,0,0,1,4,0,0,0,0,0,0,0,0,0,0,0,0,1,0,0,0,26,0,0,0,3,3,0,0,0,3,0,0,0,0,0,0,0,0]
[2,0,0,0,0,0,0,0,0,4,4,4,0,0,0,0,0,0,0,0,0,0,0,0,0,0,0,0,0,0,0,0,0,0,0,0,0,0,0,0,0,0,0,0,0,0,0,0,0,0,0,0,0,0,0,0,0,0,1,0,0,0,0,0,0,1,0,0,0,0,0,0,0,0,0,0,0,0,0,0,0,0,0,0,0,0,0,0,0,0,0,0,0,0,0,0,0,0,0,0,0,0,0,0,0,0,0,0,0,0,0,0,0,0,0,0,0,0,0,0,0,0,0,0,0,0,0,0,0,0,0,0,0,0,0,0,0,0,0,0,0,0,2,2,6,5,0,0,4,2,0,0,0,0,0,0,0,0,0,0,0,0,0,0,0,0,0,0,0,2,2,2,2,0,1,1,1,0,0,0,0,0,0,0,0,0,0,0,0,0,0,0,0,0,0,0,0,0,11,10,14,16,10,17,9,5,2,0,0,0,1,3,0,0,0,0,5,5,0,0,0,0,0,0,0,0,0,0,0,0,0,0,0,0,0,0,0,0,7,7,1,0,1,2,0,0,0,0,0,0,0,0]
[3,0,0,0,0,0,0,0,0,0,0,0,0,0,0,0,0,0,0,0,0,0,0,0,0,0,0,0,0,0,0,0,0,0,0,0,0,0,0,0,0,0,0,0,0,0,0,0,0,2,2,2,2,2,2,2,2,3,3,5,0,1,0,0,0,1,0,0,0,0,0,0,0,0,0,0,0,0,0,0,0,0,0,0,0,0,0,0,0,0,0,0,0,0,0,0,0,0,0,0,0,0,0,0,0,0,0,0,0,0,0,0,0,0,0,0,0,0,0,0,0,0,0,0,0,0,0,0,0,0,0,0,0,0,0,0,0,0,0,0,0,0,1,0,15,5,1,0,6,3,0,0,1,0,0,0,0,0,0,0,0,0,0,0,0,0,0,0,2,0,0,0,1,1,0,0,0,0,0,0,0,0,0,0,0,0,0,0,0,0,0,0,0,0,0,0,0,0,12,7,9,13,13,6,4,5,0,1,0,0,6,8,1,0,0,0,2,8,0,0,0,0,13,5,0,0,0,0,0,0,1,0,0,0,17,0,0,0,6,1,0,1,0,0,0,0,0,0,0,0,0,0]
[4,0,0,0,0,0,0,0,0,0,0,0,0,0,0,0,0,0,0,0,0,0,0,0,0,0,0,0,0,0,0,0,0,0,0,0,0,0,0,0,0,0,0,0,0,0,0,0,0,0,0,0,0,0,0,0,0,0,0,0,0,0,0,0,0,0,0,0,0,0,0,0,0,0,0,0,0,0,0,0,0,0,0,0,0,0,0,0,0,0,0,0,0,0,0,0,0,0,0,0,0,0,0,0,0,0,0,0,0,0,0,0,0,0,0,0,0,0,0,0,0,0,0,0,0,0,0,0,2,1,1,0,0,0,0,87,14,42,0,0,0,0,28,43,68,54,17,28,18,20,7,8,2,3,0,0,0,0,15,16,0,0,0,0,0,0,0,0,7,5,3,3,1,0,1,1,0,0,0,0,0,0,0,0,0,0,0,0,0,0,0,0,0,0,0,0,0,0,7,13,6,4,9,8,1,1,0,0,0,0,1,2,0,0,0,0,0,1,0,1,0,0,47,4,29,0,0,0,0,0,3,2,1,0,53,31,42,0,1,3,0,0,1,1,0,0,0,0,0,0,0,0]
[5,0,0,0,0,0,0,0,0,0,0,0,0,0,0,0,0,0,0,0,0,0,0,0,0,0,0,0,0,0,0,0,0,0,0,0,0,0,0,0,0,0,0,0,0,0,0,0,0,3,3,3,3,0,0,0,0,0,2,0,0,0,0,0,0,0,1,0,0,0,0,0,0,0,0,0,0,0,0,0,0,0,0,0,0,1,1,1,0,0,0,0,0,0,0,0,0,0,0,0,0,0,0,12,12,12,0,0,0,0,0,0,0,0,0,0,0,0,0,0,0,0,0,0,0,0,0,0,0,0,0,0,0,0,0,0,0,0,0,0,0,0,0,1,390,184,10,19,30,30,0,0,0,1,0,0,0,1,28,16,27,14,0,0,0,0,0,0,1,1,5,4,2,2,2,0,0,1,0,0,0,0,0,0,0,0,0,0,0,0,0,0,0,0,0,0,0,0,1,2,5,10,8,1,0,1,0,0,0,0,0,0,0,0,0,0,0,0,0,1,0,0,8,0,0,0,0,0,0,0,1,0,0,0,9,0,0,0,0,0,1,0,0,0,0,0,0,0,0,0,0,0]
[6,0,0,0,0,0,0,0,0,0,0,0,0,0,0,0,0,0,0,0,0,0,0,0,0,0,0,0,0,0,0,0,0,0,0,0,0,0,0,0,0,0,0,0,0,0,0,0,0,0,0,0,0,0,0,0,0,2,1,0,0,0,0,0,0,0,0,0,0,0,0,0,0,0,0,4,0,0,0,0,0,0,0,0,0,0,0,0,1,1,1,0,0,0,0,0,0,0,0,0,0,0,0,0,0,0,10,12,10,0,0,0,0,0,0,0,0,0,0,0,0,0,0,0,0,0,0,0,0,0,0,0,0,0,0,0,0,0,0,0,0,0,1,0,282,274,1,0,37,40,0,0,8,23,0,0,0,0,0,0,14,28,29,9,3,0,0,0,31,18,0,1,5,7,1,2,0,0,0,0,0,0,0,0,0,0,0,0,0,0,0,0,0,0,0,0,0,0,1,1,8,4,6,9,0,0,0,0,0,0,0,0,0,0,1,1,0,0,0,0,0,0,9,2,4,0,0,0,0,0,1,1,1,0,8,3,0,0,0,0,1,0,0,2,0,0,0,0,0,0,0,0]
[7,0,0,0,0,0,0,0,0,0,0,0,0,0,0,0,0,1,0,0,0,0,0,0,0,0,0,0,0,0,0,0,0,0,0,0,0,0,0,0,0,0,0,0,0,0,0,0,0,0,0,0,0,0,0,0,0,9,0,1,0,1,0,1,1,1,0,0,0,0,0,0,0,0,0,1,1,0,0,0,0,0,0,0,0,0,0,0,0,0,0,1,1,0,0,0,0,0,0,0,0,0,0,0,0,0,0,0,0,10,10,0,0,0,0,0,0,0,0,0,0,0,0,0,0,0,0,0,0,0,0,0,0,0,0,0,0,0,0,0,0,0,0,0,184,165,0,0,14,19,0,0,0,0,0,0,0,0,0,0,0,0,14,27,27,0,0,0,16,15,20,20,1,8,0,0,2,0,0,0,0,0,0,0,0,0,0,0,0,0,0,0,0,0,0,0,0,0,2,1,3,3,4,4,0,1,0,0,0,0,1,0,1,0,2,0,1,1,0,0,0,0,0,0,6,0,2,0,0,0,0,2,1,0,0,6,2,0,1,2,0,0,0,0,0,0,0,0,0,0,0,0]
[8,1,1,1,1,1,1,0,0,1,1,1,2,0,0,0,0,0,0,0,0,0,0,0,0,0,0,0,0,0,0,0,0,0,0,0,0,0,0,0,0,0,0,3,0,0,0,0,0,0,0,0,0,0,0,0,0,0,0,0,0,0,0,1,1,0,0,0,0,0,0,0,0,0,0,0,1,1,0,0,0,0,0,0,0,0,0,0,0,0,0,0,0,1,0,0,0,0,0,0,0,0,0,0,0,0,0,0,0,0,0,10,0,0,0,0,0,0,0,0,0,15,15,15,0,0,0,0,1,1,1,0,0,0,0,14,15,15,0,0,0,0,0,0,103,112,0,1,23,15,0,1,0,1,0,0,0,1,1,0,0,0,0,0,9,37,28,0,13,19,0,0,12,20,13,9,4,1,0,0,0,0,0,0,0,0,0,0,0,0,0,0,0,0,0,0,0,0,2,1,4,3,3,3,1,0,0,0,0,0,3,4,1,1,0,0,0,1,0,0,0,0,0,0,0,0,2,0,2,0,1,2,1,1,1,0,2,2,1,1,0,0,0,1,0,0,0,0,0,0,0,0]
[9,0,0,0,0,0,0,1,1,0,0,0,0,1,1,1,1,0,6,0,0,0,0,0,0,36,36,16,10,5,4,2,1,37,26,17,14,2,2,0,1,21,17,9,4,3,0,0,0,7,3,0,0,0,0,0,0,0,0,0,1,0,0,0,0,0,0,0,0,0,0,0,0,0,0,0,0,0,0,0,0,0,0,0,0,0,0,0,0,0,0,0,0,0,1,0,0,0,0,0,0,0,0,0,0,0,0,0,0,0,0,0,8,0,0,0,0,0,0,0,0,0,0,0,14,15,0,0,0,0,1,1,1,0,0,0,0,17,15,15,0,0,2,0,326,276,0,1,32,32,0,0,1,1,9,16,5,6,0,0,0,0,0,0,0,0,10,25,11,2,19,17,17,16,30,24,36,11,0,0,0,0,0,0,0,0,0,0,0,0,0,0,0,0,0,0,0,0,6,3,2,6,4,2,0,0,0,0,0,0,0,0,0,0,1,0,0,0,0,0,0,0,2,0,0,0,36,0,1,0,3,1,2,1,2,0,39,1,0,0,0,1,1,1,0,4,0,0,0,0,0,6]
[10,0,0,0,0,1,0,1,0,8,0,0,0,0,0,0,0,0,0,0,0,0,0,0,0,14,16,18,16,12,10,8,7,12,13,10,12,10,13,6,6,11,6,10,2,1,1,2,2,9,13,3,0,0,0,0,0,0,0,0,0,0,0,0,0,2,0,0,0,0,0,0,0,0,0,0,0,0,0,0,0,0,0,0,0,0,0,0,0,0,0,0,0,0,0,1,1,1,1,1,1,1,1,0,0,0,0,0,0,0,0,0,0,10,10,12,12,10,10,11,11,0,0,0,0,0,15,15,0,0,0,1,1,0,0,0,0,0,18,17,0,0,0,0,105,112,0,0,28,31,0,0,0,0,3,1,7,11,0,0,0,0,0,0,0,0,0,4,9,12,1,0,0,0,0,0,17,18,0,0,0,0,0,0,0,0,0,0,0,0,0,0,0,0,0,0,0,0,5,10,3,9,3,6,0,0,0,0,1,0,0,1,0,0,0,0,0,3,0,0,0,0,4,0,0,0,1,0,37,1,3,0,1,2,5,0,1,39,1,3,0,0,1,0,4,0,0,23,13,7,0,0]
[11,0,0,0,0,0,0,0,0,2,3,0,0,0,0,0,0,0,0,0,0,0,0,0,0,2,1,3,2,2,2,2,2,2,1,3,2,2,2,1,1,1,3,2,3,3,2,2,3,0,2,3,1,0,0,0,0,0,0,0,0,0,0,0,0,0,0,0,0,0,0,0,0,0,0,0,0,0,0,0,0,0,0,0,0,0,0,0,0,0,0,0,0,0,0,0,0,0,0,0,0,0,0,0,0,0,0,0,0,0,0,0,0,0,0,0,0,0,0,0,0,0,0,0,0,0,0,0,0,0,0,0,0,1,1,0,0,0,0,0,12,14,1,0,253,257,0,0,26,36,0,0,1,0,1,2,0,12,0,0,0,0,0,0,0,0,0,3,1,1,1,9,5,2,0,0,0,12,0,0,0,0,0,0,0,0,0,0,0,0,0,0,0,0,0,0,0,0,2,3,1,4,1,3,0,0,0,0,0,0,0,0,0,0,1,0,0,0,0,0,1,0,3,0,3,0,0,0,2,0,1,1,3,1,3,3,0,3,0,0,0,0,1,1,0,0,0,6,6,7,0,0]
["Total general",1,1,1,1,2,1,2,1,15,8,5,2,1,1,1,1,1,6,0,0,0,0,0,0,52,53,37,28,19,16,12,10,51,40,30,28,14,17,7,8,33,26,24,9,7,3,4,5,21,23,11,6,2,2,2,2,18,10,6,1,2,0,2,2,5,1,0,0,0,0,0,0,0,0,5,2,1,0,0,0,0,0,0,0,1,1,1,1,1,1,1,1,1,1,1,1,1,1,1,1,1,1,12,12,12,10,12,10,10,10,10,8,10,10,12,12,10,10,11,11,15,15,15,14,15,15,15,3,2,3,2,2,1,1,101,29,74,33,32,12,14,35,46,1735,1449,29,49,220,233,7,9,13,29,13,19,12,31,44,32,41,42,43,36,39,37,38,32,91,77,51,56,46,56,48,37,60,43,0,0,0,0,0,0,0,0,0,0,0,0,0,0,0,0,0,0,0,0,60,66,81,89,82,90,19,15,2,1,1,0,15,22,3,1,5,1,9,23,0,2,1,0,86,11,42,0,41,0,42,1,15,9,10,5,124,43,86,45,20,20,3,2,5,11,4,4,0,29,19,14,0,6]
[]
[]
["Salud Mental 7"]
["Anio",2024]
["UE","(Todas)"]
["Red","LA CONVENCION"]
["MicroRed","(Todas)"]
["EESS","(Todas)"]
["Provincia","(Todas)"]
["Distrito","(Todas)"]
[]
["Etiquetas de fila"," Induccion_Docente_R1"," Induccion_Docente_R2"," Induccion_Docente_R3"," Induccion_Docente_R4"," Monitoreo_Docente_R1"," Monitoreo_Docente_R2"," Monitoreo_Docente_R3"," Evaluacion_Docente_R1"," Evaluacion_Docente_R2"," IE_Reunion_coordina_R1"," IE_Reunion_coordina_R2"," IE_Reunion_coordina_R3"," IE_Reunion_coordina_R4"," Taller_LiderAdolesc_R1"," Taller_LiderAdolesc_R2"," Induccion_Docente_P1"," Induccion_Docente_P2"," Induccion_Docente_P3"," Induccion_Docente_P4"," Monitoreo_Docente_P1"," Monitoreo_Docente_P2"," Monitoreo_Docente_P3"," Evaluacion_Docente_P1"," Evaluacion_Docente_P2"," T_MujerOrgCom_R1"," T_MujerOrgCom_R2"," T_MujerOrgCom_R3"," T_MujerOrgCom_R4"," Monitoreo_Vigila_com_R1"," Monitoreo_Vigila_com_R2"," Monitoreo_Vigila_com_R3"," Indidencia_OrgCom_R1"," T_MujerOrgCom_P1"," T_MujerOrgCom_P2"," T_MujerOrgCom_P3"," T_MujerOrgCom_P4"," Monitoreo_Vigila_com_P1"," Monitoreo_Vigila_com_P2"," Monitoreo_Vigila_com_P3"," ActCom_F_Coord_R1"," ActCom_F_Coord_R2"," ActCom_F_Coord_R3"," ActCom_F_Coord_R4"," ActCom_F_Sensib_R1"," ActCom_F_Sensib_R2"," ActCom_F_Sensib_R3"," ActCom_F_Sensib_R4"," ActCom_F_Organ_R1"," ActCom_F_Organ_R2"," ActCom_F_Organ_R3"," ActCom_F_Organ_R4"," ActCom_Dx_Plani_R1"," ActCom_Dx_Plani_R2"," ActCom_Dx_Plani_R3"," ActCom_Dx_Plani_R4"," ActCom_F_Ejec_R1"," ActCom_F_Ejec_R2"," ActCom_F_Ejec_R3"," ActCom_F_Ejec_R4"," ActCom_F_Eval_R1"," ActCom_F_Eval_R2"," ActCom_F_Eval_R3"," ActCom_F_Eval_R4"," ActCom_RTC_R1"," ActCom_RTC_R2"," ActCom_RTC_R3"," ActCom_RTC_R4"," AO_Reconce_ComSocial_UF_R1"," AO_Reconce_ComSocial_UF_R2"," AO_Reconce_ComSocial_UF_R3"," AO_Reconce_ComSocial_UF_R4"," AO_Reconce_ComSocial_UF_R5"," Encuent_Part_Com_R1"," Encuent_Part_Com_R2"," Encuent_Part_Com_R3"," Encuent_Part_Com_R4"," Encuent_Part_Com_R5"," Encuent_Part_Com_P1"," Encuent_Part_Com_P2"," Encuent_Part_Com_P3"," Encuent_Part_Com_P4"," Encuent_Part_Com_P5"," Comite_Conformado"," Derecho_Salud_R"," Desentigmatizacion_R"," Empoderamiento_R"," Asociacionismo_R"," Liderazgo_R"," Derecho_Salud_P"," Desentigmatizacion_P"," Empoderamiento_P"," Asociacionismo_P"," Liderazgo_P"," Promo_CrianzaS_R"," Prim_Aux_Psicol_R"," Prev_Cond_PSMentalF_R"," Emp_Pers_Discapacidad_R"," Promo_CrianzaS_P"," Prim_Aux_Psicol_P"," Prev_Cond_PSMentalF_P"," Emp_Pers_Discapacidad_P"," DispMed_ConsIndiv"," DispMed_ConsGrup_R"," DispMed_ConsGrup_P"," Mamis_AF_1_4F"," Mamis_AF_1_4M"," Mamis_AF_5_11F"," Mamis_AF_5_11M"," Mamis_AF_12_14F"," Mamis_AF_12_14M"," Mamis_AF_15_17F"," Mamis_AF_15_17M"," Mamis_AF_TotalF"," Mamis_AF_TotalM"," Mamis_AF_TOTAL"," Atc_Mamis_AF_TOTALF"," Atc_Mamis_AF_TOTALM"," Atc_Mamis_AF_TOTAL"," Mamis_APS_1_4F"," Mamis_APS_1_4M"," Mamis_APS_5_11F"," Mamis_APS_5_11M"," Mamis_APS_12_14F"," Mamis_APS_12_14M"," Mamis_APS_15_17F"," Mamis_APS_15_17M"," Mamis_APS_TotalF"," Mamis_APS_TotalM"," Mamis_APS_TOTAL"," Atc_Mamis_APS_TOTALF"," Atc_Mamis_APS_TOTALM"," Atc_Mamis_APS_TOTAL"," Mamis_ASE_1_4F"," Mamis_ASE_1_4M"," Mamis_ASE_5_11F"," Mamis_ASE_5_11M"," Mamis_ASE_12_14F"," Mamis_ASE_12_14M"," Mamis_ASE_15_17F"," Mamis_ASE_15_17M"," Mamis_ASE_TotalF"," Mamis_ASE_TotalM"," Mamis_ASE_TOTAL"," Atc_Mamis_ASE_TOTALF"," Atc_Mamis_ASE_TOTALM"," Atc_Mamis_ASE_TOTAL"," Mamis_NEG_1_4F"," Mamis_NEG_1_4M"," Mamis_NEG_5_11F"," Mamis_NEG_5_11M"," Mamis_NEG_12_14F"," Mamis_NEG_12_14M"," Mamis_NEG_15_17F"," Mamis_NEG_15_17M"," Mamis_NEG_TotalF"," Mamis_NEG_TotalM"," Mamis_NEG_TOTAL"," Atc_Mamis_NEG_TOTALF"," Atc_Mamis_NEG_TOTALM"," Atc_Mamis_NEG_TOTAL"," Mamis_OSM_1_4F"," Mamis_OSM_1_4M"," Mamis_OSM_5_11F"," Mamis_OSM_5_11M"," Mamis_OSM_12_14F"," Mamis_OSM_12_14M"," Mamis_OSM_15_17F"," Mamis_OSM_15_17M"," Mamis_OSM_TotalF"," Mamis_OSM_TotalM"," Mamis_OSM_TOTAL"," Atc_Mamis_OSM_TOTALF"," Atc_Mamis_OSM_TOTALM"," Atc_Mamis_OSM_TOTAL"," Indidencia_OrgCom_P1"]
[1,0,0,0,0,0,0,0,0,0,0,0,0,0,0,0,0,0,0,0,0,0,0,0,0,1,0,0,0,0,0,0,2,10,0,0,0,0,0,0,0,0,0,0,0,0,0,0,0,0,0,0,0,0,0,0,0,0,0,0,0,0,0,0,0,0,0,0,0,0,0,0,0,0,0,0,0,0,0,0,0,0,0,0,0,0,0,0,0,0,0,0,0,0,0,0,0,0,0,0,0,0,143,0,0,0,0,0,0,0,0,0,0,0,0,0,0,0,0,0,0,0,0,0,0,0,0,0,0,0,0,0,0,0,0,0,0,0,0,0,0,0,0,0,0,0,0,0,0,0,0,0,0,0,0,0,0,0,0,0,0,0,0,0,0,0,0,0,0,0,0,0,0,0,0,7]
[2,0,0,0,0,0,0,0,0,0,0,0,0,0,0,0,0,0,0,0,0,0,0,0,0,0,0,0,0,0,0,0,2,0,0,0,0,0,0,0,0,0,0,0,0,0,0,0,0,0,0,0,0,0,0,0,0,0,0,0,0,0,0,0,0,0,0,0,0,0,0,0,0,0,0,0,0,0,0,0,0,0,0,0,0,0,0,0,0,0,0,0,0,0,1,0,0,0,24,0,0,0,126,0,0,0,0,0,0,0,0,0,0,0,0,0,0,0,0,0,0,0,0,0,0,0,0,0,0,0,0,0,0,0,0,0,0,0,0,0,0,0,0,0,0,0,0,0,0,0,0,0,0,0,0,0,0,0,0,0,0,0,0,0,0,0,0,0,0,0,0,0,0,0,0,2]
[3,0,0,0,0,0,0,0,0,0,5,0,0,0,0,0,0,0,0,0,0,0,0,0,0,0,0,0,0,0,0,0,4,0,0,0,0,0,0,0,0,0,0,0,0,0,0,0,0,0,0,0,0,0,0,0,0,0,0,0,0,0,0,0,0,0,0,0,0,0,0,0,0,0,0,0,0,0,0,0,0,0,0,0,0,0,0,0,0,0,0,0,0,0,2,0,0,0,37,0,0,0,136,0,0,0,0,0,0,0,0,0,0,0,0,0,0,0,0,0,0,0,0,0,0,0,0,0,0,0,0,0,0,0,0,0,0,0,0,0,0,0,0,0,0,0,0,0,0,0,0,0,0,0,0,0,0,0,0,0,0,0,0,0,0,0,0,0,0,0,0,0,0,0,0,23]
[4,1,0,0,1,0,0,0,1,0,8,1,0,0,0,0,0,0,0,1,0,0,0,11,0,0,0,0,0,0,0,0,2,0,0,0,0,0,0,0,0,0,0,0,0,0,0,0,0,0,0,0,0,0,0,0,0,0,0,0,0,0,0,0,1,1,1,0,0,0,0,0,0,0,0,0,0,0,0,0,0,0,0,0,0,0,0,0,0,0,0,0,0,0,0,0,0,0,0,0,0,0,150,0,0,0,0,0,0,0,0,0,0,0,0,0,0,0,0,0,0,0,0,0,0,0,0,0,0,0,0,0,0,0,0,0,0,0,0,0,0,0,0,0,0,0,0,0,0,0,0,0,0,0,0,0,0,0,0,0,0,0,0,0,0,0,0,0,0,0,0,0,0,0,0,34]
[5,0,0,0,0,0,0,0,0,0,7,0,0,0,0,0,0,0,0,0,0,0,0,0,0,0,0,0,0,0,1,0,1,0,0,0,0,0,30,0,0,0,0,0,0,0,0,0,0,0,0,0,0,0,0,0,0,0,0,0,0,0,0,0,0,0,0,0,0,0,0,0,0,0,0,0,0,0,0,0,0,0,0,0,0,0,0,0,0,0,0,0,0,0,0,0,0,0,0,0,0,0,169,0,0,0,0,0,0,0,0,0,0,0,0,0,0,0,0,0,0,0,0,0,0,0,0,0,0,0,0,0,0,0,0,0,0,0,0,0,0,0,0,0,0,0,0,0,0,0,0,0,0,0,0,0,0,0,0,0,0,0,0,0,0,0,0,0,0,0,0,0,0,0,0,1]
[6,1,3,0,1,0,0,0,0,0,11,0,0,0,39,0,5,2,0,2,0,0,0,0,0,0,0,0,0,0,0,0,3,0,0,0,0,0,0,0,0,0,0,0,0,0,0,0,0,0,0,0,0,0,0,0,0,0,0,0,0,0,0,0,1,1,0,0,0,0,0,0,0,0,0,0,0,0,0,0,0,0,0,0,0,0,0,0,0,0,0,0,0,0,0,0,0,0,0,0,0,0,152,0,0,0,0,0,0,0,0,0,0,0,0,0,0,0,0,0,0,0,0,0,0,0,0,0,0,0,0,0,0,0,0,0,0,0,0,0,0,0,0,0,0,0,0,0,0,0,0,0,0,0,0,0,0,0,0,0,0,0,0,0,0,0,0,0,0,0,0,0,0,0,0,5]
[7,2,3,0,0,0,1,0,0,0,2,2,0,0,41,0,0,0,0,0,0,0,0,0,0,0,0,0,0,0,0,0,0,0,0,0,0,0,0,0,0,0,0,0,0,0,0,0,0,0,0,0,0,0,0,0,0,0,0,0,0,0,0,0,0,0,1,1,0,0,0,0,0,0,0,0,0,0,0,0,0,0,0,0,0,0,0,0,0,0,0,0,0,0,0,0,0,0,0,0,0,0,146,0,0,0,0,0,0,0,0,0,0,0,0,0,0,0,0,0,0,0,0,0,0,0,0,0,0,0,0,0,0,0,0,0,0,0,0,0,0,0,0,0,0,0,0,0,0,0,0,0,0,0,0,0,0,0,0,0,0,0,0,0,0,0,0,0,0,0,0,0,0,0,0,0]
[8,1,0,0,0,0,0,0,0,0,0,1,0,0,0,0,1,0,0,0,0,0,0,0,0,0,0,0,0,0,0,0,0,0,0,0,0,0,0,0,0,0,0,0,0,0,0,0,0,0,0,0,0,0,0,0,0,0,0,0,0,0,0,0,0,0,0,0,0,0,0,0,0,0,0,0,0,0,0,0,0,0,0,0,0,0,0,0,0,0,0,0,0,0,0,0,0,0,0,0,0,0,97,0,0,0,0,0,0,0,0,0,0,0,0,0,0,0,0,0,0,0,0,0,0,0,0,0,0,0,0,0,0,0,0,0,0,0,0,0,0,0,0,0,0,0,0,0,0,0,0,0,0,0,0,0,0,0,0,0,0,0,0,0,0,0,0,0,0,0,0,0,0,0,0,0]
[9,12,4,3,0,0,0,0,0,0,2,12,0,0,18,39,2,3,4,0,0,0,0,0,0,0,0,0,0,0,0,0,1,0,0,0,0,0,0,0,0,0,0,0,0,0,0,0,0,0,0,0,0,0,0,0,0,0,0,0,0,0,0,0,0,0,0,0,0,0,0,0,0,0,0,0,0,0,0,0,0,0,0,0,0,0,0,0,0,0,0,0,0,0,0,0,0,0,0,0,0,0,153,0,0,0,0,0,0,0,0,0,0,0,0,0,0,0,0,0,0,0,0,0,0,0,0,0,0,0,0,0,0,0,0,0,0,0,0,0,0,0,0,0,0,0,0,0,0,0,0,0,0,0,0,0,0,0,0,0,0,0,0,0,0,0,0,0,0,0,0,0,0,0,0,6]
[10,5,14,1,1,1,1,0,0,0,0,0,0,0,0,0,8,8,2,2,24,24,0,0,0,0,0,0,0,0,0,0,0,0,0,0,0,0,0,0,0,0,0,0,0,0,0,0,0,0,0,0,0,0,0,0,0,0,0,0,0,0,0,0,0,1,0,0,0,1,0,0,0,0,0,0,0,0,0,0,0,0,0,0,0,1,0,0,0,0,8,0,0,0,0,0,0,0,0,0,0,0,63,0,0,0,0,0,0,0,0,0,0,0,0,0,0,0,0,0,0,0,0,0,0,0,0,0,0,0,0,0,0,0,0,0,0,0,0,0,0,0,0,0,0,0,0,0,0,0,0,0,0,0,0,0,0,0,0,0,0,0,0,0,0,0,0,0,0,0,0,0,0,0,0,0]
[11,2,3,0,0,1,0,0,0,2,1,2,0,0,0,0,2,3,0,0,14,0,0,0,36,0,0,0,0,0,0,0,1,0,0,0,0,0,0,0,0,0,0,0,0,0,0,0,0,0,0,0,0,0,0,0,0,0,0,0,0,0,0,0,0,0,0,0,0,0,0,0,0,0,0,0,0,0,0,0,0,0,0,0,0,0,0,0,0,0,0,0,0,0,0,0,0,0,0,0,0,0,165,0,0,0,0,0,0,0,0,0,0,0,0,0,0,0,0,0,0,0,0,0,0,0,0,0,0,0,0,0,0,0,0,0,0,0,0,0,0,0,0,0,0,0,0,0,0,0,0,0,0,0,0,0,0,0,0,0,0,0,0,0,0,0,0,0,0,0,0,0,0,0,0,8]
["Total general",24,27,4,3,2,2,0,1,2,36,18,0,0,98,39,18,16,6,5,38,24,0,11,36,1,0,0,0,0,1,0,16,10,0,0,0,0,30,0,0,0,0,0,0,0,0,0,0,0,0,0,0,0,0,0,0,0,0,0,0,0,0,0,2,3,2,1,0,1,0,0,0,0,0,0,0,0,0,0,0,0,0,0,0,1,0,0,0,0,8,0,0,0,3,0,0,0,61,0,0,0,1500,0,0,0,0,0,0,0,0,0,0,0,0,0,0,0,0,0,0,0,0,0,0,0,0,0,0,0,0,0,0,0,0,0,0,0,0,0,0,0,0,0,0,0,0,0,0,0,0,0,0,0,0,0,0,0,0,0,0,0,0,0,0,0,0,0,0,0,0,0,0,0,0,86]
[]
[]
["Salud Mental 8"]
["Anio",2024]
["UE","(Todas)"]
["Red","LA CONVENCION"]
["MicroRed","(Todas)"]
["EESS","(Todas)"]
["Provincia","(Todas)"]
["Distrito","(Todas)"]
[]
["Etiquetas de fila","Suma de Atd_VIF_TA_NiñoF","Suma de Atd_VIF_TA_NiñoM","Suma de Atd_VIF_TA_AdolF","Suma de Atd_VIF_TA_AdolM","Suma de Atd_VIF_TA_JovenF","Suma de Atd_VIF_TA_JovenM","Suma de Atd_VIF_TA_AdultoF","Suma de Atd_VIF_TA_AdultoM","Suma de Atd_VIF_TA_AdultomF","Suma de Atd_VIF_TA_AdultomM","Suma de Atd_AbusoS_TA_NiñoF","Suma de Atd_AbusoS_TA_NiñoM","Suma de Atd_AbusoS_TA_AdolF","Suma de Atd_AbusoS_TA_AdolM","Suma de Atd_AbusoS_TA_JovenF","Suma de Atd_AbusoS_TA_JovenM","Suma de Atd_AbusoS_TA_AdultoF","Suma de Atd_AbusoS_TA_AdultoM","Suma de Atd_AbusoS_TA_AdultomF","Suma de Atd_AbusoS_TA_AdultomM","Suma de Atd_EAutista_TA_NiñoF","Suma de Atd_EAutista_TA_NiñoM","Suma de Atd_EAutista_TA_AdolF","Suma de Atd_EAutista_TA_AdolM","Suma de Atd_EAutista_TA_JovenF","Suma de Atd_EAutista_TA_JovenM","Suma de Atd_EAutista_TA_AdultoF","Suma de Atd_EAutista_TA_AdultoM","Suma de Atd_EAutista_TA_AdultomF","Suma de Atd_EAutista_TA_AdultomM","Suma de Atd_TmentalC_TA_NiñoF","Suma de Atd_TmentalC_TA_NiñoM","Suma de Atd_TmentalC_TA_AdolF","Suma de Atd_TmentalC_TA_AdolM","Suma de Atd_TD_TA_NiñoF","Suma de Atd_TD_TA_NiñoM","Suma de Atd_TD_TA_AdolF","Suma de Atd_TD_TA_AdolM","Suma de Atd_TD_TA_JovenF","Suma de Atd_TD_TA_JovenM","Suma de Atd_TD_TA_AdultoF","Suma de Atd_TD_TA_AdultoM","Suma de Atd_TD_TA_AdultomF","Suma de Atd_TD_TA_AdultomM","Suma de Atd_TAN_TA_NiñoF","Suma de Atd_TAN_TA_NiñoM","Suma de Atd_TAN_TA_AdolF","Suma de Atd_TAN_TA_AdolM","Suma de Atd_TAN_TA_JovenF","Suma de Atd_TAN_TA_JovenM","Suma de Atd_TAN_TA_AdultoF","Suma de Atd_TAN_TA_AdultoM","Suma de Atd_TAN_TA_AdultomF","Suma de Atd_TAN_TA_AdultomM","Suma de Atd_TCA_TA_NiñoF","Suma de Atd_TCA_TA_NiñoM","Suma de Atd_TCA_TA_AdolF","Suma de Atd_TCA_TA_AdolM","Suma de Atd_TCA_TA_JovenF","Suma de Atd_TCA_TA_JovenM","Suma de Atd_TCA_TA_AdultoF","Suma de Atd_TCA_TA_AdultoM","Suma de Atd_TCA_TA_AdultomF","Suma de Atd_TCA_TA_AdultomM","Suma de Atd_DAOD_TA_NiñoF","Suma de Atd_DAOD_TA_NiñoM","Suma de Atd_DAOD_TA_AdolF","Suma de Atd_DAOD_TA_AdolM","Suma de Atd_DAOD_TA_JovenF","Suma de Atd_DAOD_TA_JovenM","Suma de Atd_DAOD_TA_AdultoF","Suma de Atd_DAOD_TA_AdultoM","Suma de Atd_DAOD_TA_AdultomF","Suma de Atd_DAOD_TA_AdultomM","Suma de Atd_TPS_TA_NiñoF","Suma de Atd_TPS_TA_NiñoM","Suma de Atd_TPS_TA_AdolF","Suma de Atd_TPS_TA_AdolM","Suma de Atd_TPS_TA_JovenF","Suma de Atd_TPS_TA_JovenM","Suma de Atd_TPS_TA_AdultoF","Suma de Atd_TPS_TA_AdultoM","Suma de Atd_TPS_TA_AdultomF","Suma de Atd_TPS_TA_AdultomM","Suma de Atd_TPS1_TA_NiñoF","Suma de Atd_TPS1_TA_NiñoM","Suma de Atd_TPS1_TA_AdolF","Suma de Atd_TPS1_TA_AdolM","Suma de Atd_TPS1_TA_JovenF","Suma de Atd_TPS1_TA_JovenM","Suma de Atd_TPS1_TA_AdultoF","Suma de Atd_TPS1_TA_AdultoM","Suma de Atd_TPS1_TA_AdultomF","Suma de Atd_TPS1_TA_AdultomM","Suma de Atd_TPS_Grav_TA_NiñoF","Suma de Atd_TPS_Grav_TA_NiñoM","Suma de Atd_TPS_Grav_TA_AdolF","Suma de Atd_TPS_Grav_TA_AdolM","Suma de Atd_TPS_Grav_TA_JovenF","Suma de Atd_TPS_Grav_TA_JovenM","Suma de Atd_TPS_Grav_TA_AdultoF","Suma de Atd_TPS_Grav_TA_AdultoM","Suma de Atd_TPS_Grav_TA_AdultomF","Suma de Atd_TPS_Grav_TA_AdultomM","Suma de Atd_DCog_TA_NiñoF","Suma de Atd_DCog_TA_NiñoM","Suma de Atd_DCog_TA_AdolF","Suma de Atd_DCog_TA_AdolM","Suma de Atd_DCog_TA_JovenF","Suma de Atd_DCog_TA_JovenM","Suma de Atd_DCog_TA_AdultoF","Suma de Atd_DCog_TA_AdultoM","Suma de Atd_DCog_TA_AdultomF","Suma de Atd_DCog_TA_AdultomM","Suma de Rehab_Psicosocial_TA_NiñoF","Suma de Rehab_Psicosocial_TA_NiñoM","Suma de Rehab_Psicosocial_TA_AdolF","Suma de Rehab_Psicosocial_TA_AdolM","Suma de Rehab_Psicosocial_TA_JovenF","Suma de Rehab_Psicosocial_TA_JovenM","Suma de Rehab_Psicosocial_TA_AdultoF","Suma de Rehab_Psicosocial_TA_AdultoM","Suma de Rehab_Psicosocial_TA_AdultomF","Suma de Rehab_Psicosocial_TA_AdultomM","Suma de Rehab_Laboral_TA_NiñoF","Suma de Rehab_Laboral_TA_NiñoM","Suma de Rehab_Laboral_TA_AdolF","Suma de Rehab_Laboral_TA_AdolM","Suma de Rehab_Laboral_TA_JovenF","Suma de Rehab_Laboral_TA_JovenM","Suma de Rehab_Laboral_TA_AdultoF","Suma de Rehab_Laboral_TA_AdultoM","Suma de Rehab_Laboral_TA_AdultomF","Suma de Rehab_Laboral_TA_AdultomM","Suma de CM_Ini_CP_17a","Suma de CM_Ini_CP_18a","Suma de CME_min_CP_17a","Suma de CME_min_CP_18a","Suma de CM_AS_Ini_CP_17a","Suma de CM_AS_Ini_CP_18a","Suma de CM_AS_min_CP_17a","Suma de CM_AS_CM_min_CP_18a","Suma de CM_espAut_Ini_CP_17a","Suma de CM_espAut_min_CP_17a","Suma de CM_TEC_Ini_CP_17a","Suma de CM_TEC_min_CP_17a","Suma de CSM_TNE_VIF_Ini_CP_17a","Suma de CSM_TNE_VIF_Ini_CP_18a","Suma de CSM_TNE_VIF_min_CP_17a","Suma de CSM_TNE_VIF_min_CP_18a","Suma de CMS_EspAut_Ini_CP_17a","Suma de CMS_EspAut_min_CP_17a","Suma de CSM_TmentalC_Ini_CP_17a","Suma de CMS_TmentalC_min_CP_17a","Suma de PE_TNE_VIF_im_CP_17a","Suma de PE_TNE_VIF_min_CP_17a","Suma de PE_TE_VIF_min_CP_17a","Suma de PE_TE_VIF_min_CP_18a","Suma de PE_AS_Ini_CP_17a","Suma de PE_AS_Ini_CP_18a","Suma de PE_AS_min_CP_17a","Suma de PE_AS_min_CP_18a","Suma de IISM_TNE_Ini_CP_17a","Suma de IISM_TNE_Ini_CP_18a","Suma de IISM_TNE_min_CP_17a","Suma de IISM_TNE_min_CP_18a","Suma de IISM_TE_Ini_CP_17a","Suma de IISM_TE_Ini_CP_18a","Suma de IISM_TE_min_CP_17a","Suma de IISM_TE_min_CP_18a","Suma de IISM_EspAut_TNE_Ini_CP_17a","Suma de IISM_EspAut_TNE_min_CP_17a","Suma de IISM_EspAut_TE_ini_CP_17a","Suma de IISM_EspAut_TE_min_CP_17a","Suma de IISM_TEC_TNE_Ini_CP_17a","Suma de IISM_TEC_TNE_min_CP_17a","Suma de PSI_TE_ini_CP_17a","Suma de PSI_TE_ini_CP_18a","Suma de PSI_TE_min_CP_17a","Suma de PSI_TE_min_CP_18a","Suma de PSI_AS_Ini_CP_17a","Suma de PSI_AS_Ini_CP_18a","Suma de PSI_AS_min_CP_17a","Suma de PSI_AS_min_CP_18a","Suma de PSI_EspAut_TE_ini_CP_17a","Suma de PSI_EspAut_TE_min_CP_17a","Suma de PSI_TEC_TE_Ini_CP_17a","Suma de PSI_TEC_TE_min_CP_17a","Suma de IF_TNE_ini_CP_17a","Suma de IF_TNE_ini_CP_18a","Suma de IF_TNE_min_CP_17a","Suma de IF_TNE_min_CP_18a","Suma de IF_TE_ini_CP_17a","Suma de IF_TE_ini_CP_18a","Suma de IF_TE_min_CP_17a","Suma de IF_TE_min_CP_18a","Suma de IF_AS_Ini_CP_17a","Suma de IF_AS_Ini_CP_18a","Suma de IF_AS_min_CP_17a","Suma de IF_AS_min_CP_18a","Suma de VF_TNE_ini_CP_17a","Suma de VF_TNE_min_CP_17a","Suma de VF_TNE_im_CP_18a","Suma de VF_TE_ini_CP_17a","Suma de VF_TE_min_CP_17a","Suma de VF_TE_ini_CP_18a","Suma de VF_TE_min_CP_18a","Suma de VF_AS_Ini_CP_17a","Suma de VF_AS_min_CP_17a","Suma de VF_AS_Ini_CP_18a","Suma de VF_AS_min_CP_18a","Suma de VF_EspAut_TNE_in_17a","Suma de VF_EspAut_TNE_min_17a","Suma de VF_EspAut_TE_in_17a","Suma de VF_EspAut_TE_min_17a","Suma de VF_TEC_TNE_im_CP_17a","Suma de VF_TEC_TE_im_CP_17a","Suma de MRA_TNE_in_CP_18a","Suma de MRA_TNE_min_CP_18a","Suma de MRA_TE_ini_CP_17a","Suma de MRA_TE_min_CP_17a","Suma de MRA_TE_ini_CP_18a","Suma de MRA_TE_min_CP_18a","Suma de MRA_AS_ini_CP_17a","Suma de MRA_AS_min_CP_17a","Suma de MRA_AS_ini_CP_18a","Suma de MRA_AS_min_CP_18a","Suma de MRA_EspAut_TE_ini_CP_17a","Suma de MRA_EspAut_TE_min_CP_17a","Suma de MRA_TEC_TE_in_CP_17a","Suma de MRA_TEC_TE_min_CP_17a","Suma de IG_EspAut_TNE_ini_CP_17a","Suma de IG_EspAut_TNE_min_CP_17a","Suma de IG_EspAut_TE_ini_CP_17a","Suma de IG_EspAut_TE_min_CP_17a","Suma de IG_TEC_TNE_ini_CP_17a","Suma de IG_TEC_TNE_min_CP_17a","Suma de PE_TE_VIF_ini_CP_17a","Suma de PE_TE_VIF_ini_CP_18a"]
[1,0,0,0,1,1,0,4,0,0,0,0,0,2,0,0,0,0,0,0,0,0,0,0,0,0,0,0,0,0,0,0,1,0,0,0,0,0,0,0,0,1,0,0,0,0,0,0,0,0,0,1,1,0,0,0,0,0,0,0,0,0,0,0,0,0,0,0,0,0,0,0,0,0,0,0,0,0,0,0,0,0,0,0,0,0,0,0,0,0,0,0,0,0,0,0,0,0,0,0,0,0,0,0,0,0,0,0,0,0,0,0,0,0,0,0,0,0,0,0,0,0,0,0,0,0,0,0,0,0,0,0,0,0,0,8,6,2,1,1,0,0,1,2,2,7,2,15,36,9,6,2,0,20,5,0,0,1,2,4,0,0,1,2,12,0,1,2,8,0,1,1,0,1,2,4,0,0,1,1,1,2,0,0,0,1,2,26,7,0,1,0,1,1,5,0,0,1,0,2,0,0,0,0,1,0,3,3,2,0,0,1,0,0,0,1,0,7,0,0,0,0,1,3,0,1,0,0,0,0,2,2,0,0,2,0,0,0,2,5]
[2,0,0,0,0,0,0,3,0,0,0,0,0,0,0,0,0,0,0,0,0,0,0,0,0,0,0,0,0,0,0,1,0,0,0,0,0,2,1,1,0,1,0,0,0,0,0,0,0,1,0,0,0,0,0,0,0,0,0,0,0,0,0,0,0,0,0,0,0,0,0,1,0,0,0,0,0,0,0,0,0,0,1,0,0,0,0,0,0,0,0,0,0,0,0,0,0,0,0,0,0,0,0,0,0,0,0,0,0,0,0,0,0,0,0,0,0,0,0,0,0,0,0,0,0,0,0,0,0,0,0,0,0,0,0,0,0,0,0,1,0,0,0,1,1,1,0,14,38,11,9,1,0,11,6,0,0,0,0,2,0,2,0,2,14,0,0,2,7,0,1,0,0,2,1,8,2,0,0,1,0,2,0,0,0,2,0,13,5,0,0,0,0,0,0,0,1,3,0,0,0,0,0,0,0,0,0,1,2,0,0,0,0,0,2,0,1,5,0,0,0,2,0,0,1,1,0,0,1,0,4,4,0,0,0,1,3,0,3,3]
[3,0,1,1,0,3,1,5,1,0,0,0,0,0,0,0,0,0,0,0,0,0,0,0,0,0,0,0,0,0,0,2,0,0,0,0,0,1,1,1,1,3,0,0,0,0,0,1,0,0,1,0,0,0,0,0,0,0,0,0,0,0,2,0,0,0,0,0,0,0,0,0,1,0,0,0,0,0,0,0,0,0,0,0,0,0,0,0,0,0,0,0,0,0,0,0,0,0,0,0,0,0,0,0,0,0,0,0,0,0,0,0,0,0,0,0,0,0,0,0,0,0,0,0,0,0,0,0,0,0,0,0,0,0,0,0,0,0,0,0,0,0,0,1,1,1,1,10,41,2,8,0,0,13,5,0,0,1,0,4,1,0,0,5,16,0,0,1,10,0,1,0,1,1,3,6,1,0,0,0,1,3,2,1,0,4,6,18,7,0,0,0,0,0,0,0,1,1,0,1,0,0,0,1,0,0,0,0,1,0,0,0,0,0,1,0,1,2,0,0,0,0,0,0,1,1,1,1,0,1,2,2,1,0,0,1,0,1,6,7]
[4,1,0,0,0,2,1,1,1,0,0,0,0,1,0,0,0,0,0,0,0,0,1,0,0,0,0,0,0,0,0,1,2,0,0,0,0,0,0,2,0,1,2,1,0,0,0,0,0,1,0,1,0,1,0,0,0,0,0,0,0,0,1,0,0,0,0,0,0,0,0,1,1,0,0,0,0,0,0,0,0,0,3,0,0,0,0,0,0,0,0,0,0,0,0,0,0,0,0,0,0,0,0,0,0,0,0,0,0,0,0,0,0,0,0,0,0,0,0,0,0,0,0,0,0,0,0,0,0,0,0,0,0,0,0,0,0,2,0,0,0,0,0,0,0,0,1,19,42,10,9,0,0,21,8,0,0,0,0,0,1,2,0,9,17,1,1,0,3,0,0,0,0,4,1,6,0,0,0,1,0,0,0,1,0,1,1,10,5,0,0,0,0,0,0,0,0,0,0,2,0,0,0,0,0,0,0,0,1,0,0,0,0,0,1,0,4,0,0,0,0,0,0,0,2,0,0,0,0,1,1,1,0,1,1,1,0,2,0,4]
[5,1,1,2,0,2,0,3,0,0,0,0,0,2,0,0,0,0,0,0,0,0,0,0,0,0,0,0,0,0,0,0,1,0,0,0,0,1,1,2,0,2,1,0,0,0,0,0,0,0,0,0,0,0,0,0,0,0,0,0,0,0,0,0,0,0,0,0,0,0,0,0,1,0,0,0,0,0,0,0,2,0,0,0,0,0,0,0,0,0,0,0,0,0,0,0,0,0,0,0,0,0,0,0,0,0,0,0,0,0,0,0,0,0,0,0,0,0,0,0,0,0,0,0,0,0,0,0,0,0,0,0,0,0,0,0,0,0,0,2,0,0,0,1,0,4,0,20,31,7,3,0,0,11,2,0,0,0,0,3,1,0,0,9,8,2,0,1,8,0,0,0,0,1,1,3,1,0,0,0,2,7,2,3,0,4,1,33,5,0,0,0,0,0,0,1,0,5,1,0,0,0,0,0,0,1,1,0,1,0,3,0,0,0,0,1,0,5,0,0,0,0,0,0,0,0,1,0,1,0,5,5,0,0,0,1,0,0,6,11]
[6,0,0,0,2,0,0,3,2,1,0,0,0,0,0,0,0,0,0,0,0,0,0,0,0,0,0,0,0,0,0,1,1,0,2,0,0,1,0,4,0,3,1,0,0,0,0,0,0,0,0,0,0,0,0,0,0,0,0,0,1,0,0,0,1,0,0,0,0,0,0,0,3,0,0,0,0,0,0,0,0,2,0,0,0,0,0,0,0,0,0,0,0,0,0,0,0,0,0,0,0,0,0,0,0,0,0,0,0,0,0,0,0,0,0,0,0,0,0,0,0,0,0,0,0,0,0,0,0,0,0,0,0,0,0,0,0,0,0,1,0,0,0,0,0,19,1,11,33,6,11,2,0,3,4,0,0,1,0,2,5,2,0,9,15,0,0,1,8,0,1,0,0,4,1,3,0,0,0,1,0,2,2,1,0,5,1,20,4,0,0,0,0,0,1,2,2,1,2,0,0,0,0,0,0,0,1,1,0,0,1,0,0,0,6,0,0,2,0,0,1,0,1,0,3,0,2,0,0,0,3,3,0,0,1,0,0,0,5,15]
[7,0,0,2,0,3,0,2,0,0,0,0,0,0,0,0,0,0,0,0,0,0,0,0,0,0,0,0,0,0,0,1,2,3,1,0,0,1,1,3,1,3,1,1,0,0,0,0,0,0,0,0,1,1,0,0,0,0,0,0,0,0,0,0,0,0,0,0,0,0,0,0,0,0,0,0,0,0,0,0,1,0,0,0,0,0,0,0,0,0,0,0,0,0,0,0,0,0,0,0,0,0,0,0,0,0,0,0,0,0,0,0,0,0,0,0,0,0,0,0,0,0,0,0,0,0,0,0,0,0,0,0,0,0,0,1,4,0,0,4,0,1,0,3,0,6,3,17,53,6,1,0,0,8,2,0,0,0,0,0,3,1,1,5,13,0,0,0,4,0,0,0,0,3,1,0,0,0,0,0,0,3,3,2,0,4,2,28,5,1,1,0,1,0,0,0,0,1,0,0,0,0,0,0,0,0,0,0,1,0,0,1,0,0,2,0,0,7,0,0,1,0,0,0,2,0,0,0,0,0,9,9,0,0,0,0,0,0,1,8]
[8,0,1,0,0,1,0,3,0,0,0,0,0,1,0,0,0,0,0,0,0,0,0,0,0,0,0,0,0,0,0,0,1,0,1,0,0,2,0,6,0,3,2,1,0,0,0,1,0,0,1,3,2,0,0,0,0,0,0,0,0,0,0,0,0,0,0,0,0,0,0,0,0,0,0,0,0,0,0,0,0,0,0,0,0,0,0,0,0,0,0,0,0,0,0,0,0,0,0,0,0,0,0,0,0,0,0,0,0,0,0,1,0,0,0,0,0,0,0,0,0,0,0,0,0,0,0,0,0,0,0,0,0,0,0,2,0,0,0,1,0,0,0,4,0,12,0,21,42,13,3,0,0,10,0,0,0,0,0,2,0,0,0,8,24,0,0,3,18,0,0,0,0,1,0,5,1,0,0,0,0,4,1,0,0,5,0,19,3,0,0,0,0,0,1,0,0,0,1,0,0,0,0,0,0,0,0,0,1,0,0,0,0,0,6,0,0,1,0,0,0,0,1,0,1,0,2,1,0,0,4,4,0,0,0,0,1,0,7,4]
[9,2,0,2,0,2,1,5,0,1,0,1,0,2,0,0,0,0,0,0,0,0,2,0,0,0,0,0,0,0,0,0,6,0,0,0,0,6,0,6,0,8,3,2,2,0,0,0,0,2,1,9,2,0,0,0,0,0,0,0,0,0,0,0,0,0,0,0,0,0,0,1,1,0,0,0,0,0,0,1,3,3,9,0,1,0,0,0,0,0,0,0,0,0,0,0,0,0,0,0,0,0,0,0,0,0,0,0,0,0,1,0,0,0,0,0,0,0,0,0,0,0,0,0,0,0,0,0,0,0,0,0,0,0,0,3,5,0,1,1,0,0,0,0,1,10,1,14,49,9,5,1,0,11,7,0,0,0,0,5,1,1,0,3,21,1,0,6,8,0,0,0,0,0,2,4,2,0,0,0,0,4,1,0,0,1,0,28,5,0,0,0,0,0,0,0,0,5,0,0,0,0,0,0,0,0,0,0,2,0,1,0,0,0,0,0,1,0,0,0,0,0,0,0,1,0,0,0,0,0,2,2,0,0,4,0,0,0,10,14]
[10,2,3,0,0,5,1,5,3,0,0,2,0,1,0,0,0,1,0,0,0,0,2,0,1,0,0,0,0,0,0,1,0,1,2,0,0,3,0,4,1,12,3,2,2,0,0,0,0,1,1,6,0,1,1,0,0,0,0,0,0,0,1,0,0,0,0,0,0,0,0,0,1,0,0,0,0,0,0,0,1,5,2,0,0,0,0,0,0,0,0,0,0,0,0,0,0,0,0,0,0,0,0,0,0,0,0,0,0,0,0,0,0,0,0,0,0,0,0,0,0,0,0,0,0,0,0,0,0,0,0,0,0,0,0,9,1,0,0,3,0,0,0,2,0,18,0,12,29,8,2,1,0,11,1,0,0,0,0,0,0,0,0,10,19,0,0,2,14,0,0,0,0,0,0,6,7,0,0,0,0,0,0,0,0,3,1,13,0,0,0,0,0,0,0,0,0,2,0,0,0,0,0,0,0,0,1,0,1,0,0,0,0,0,0,0,0,0,0,0,0,0,2,0,2,0,0,0,1,0,1,1,0,0,0,1,0,0,3,10]
[11,1,1,1,1,0,0,1,0,1,0,2,0,1,0,0,0,0,0,0,0,0,3,0,0,0,0,0,0,0,0,4,4,0,2,0,0,6,1,8,1,10,0,2,2,0,0,0,0,3,2,3,3,1,0,0,0,0,0,0,0,0,1,0,0,0,0,0,0,0,0,0,0,0,0,0,0,0,0,0,0,0,0,0,0,0,0,0,0,0,0,0,0,0,0,0,0,0,0,0,0,0,0,0,0,0,0,0,0,0,0,0,0,0,0,0,0,0,0,0,0,0,0,0,0,0,0,0,0,0,0,0,0,0,0,12,6,1,0,6,0,1,0,2,0,21,2,9,31,4,0,1,0,13,1,0,0,0,0,1,0,0,0,6,18,0,0,2,11,0,3,0,0,0,0,9,4,0,1,0,0,2,1,0,0,2,2,13,4,0,0,0,0,1,0,0,0,2,0,1,0,0,0,0,0,0,0,0,2,0,0,0,0,0,0,0,4,5,0,0,0,0,1,0,1,0,1,0,1,0,0,0,0,0,2,0,4,0,6,8]
["Total general",7,7,8,4,19,4,35,7,3,0,5,0,10,0,0,0,1,0,0,0,0,8,0,1,0,0,0,0,0,0,11,18,4,8,0,0,23,5,37,4,47,13,9,6,0,0,2,0,8,6,23,9,4,1,0,0,0,0,0,1,0,5,0,1,0,0,0,0,0,0,3,8,0,0,0,0,0,0,1,7,10,15,0,1,0,0,0,0,0,0,0,0,0,0,0,0,0,0,0,0,0,0,0,0,0,0,0,0,0,1,1,0,0,0,0,0,0,0,0,0,0,0,0,0,0,0,0,0,0,0,0,0,0,0,35,22,5,2,20,0,2,1,16,5,99,11,162,425,85,57,8,0,132,41,0,0,3,2,23,12,8,2,68,177,4,2,20,99,0,7,1,1,17,12,54,18,0,2,4,4,29,12,8,0,32,16,221,50,1,2,0,2,2,7,3,4,21,4,6,0,0,0,1,1,1,6,5,14,0,5,2,0,0,18,2,11,34,0,0,2,2,6,3,14,3,7,2,4,2,33,33,1,1,10,5,8,3,49,89]
[]
[]
["Salud Mental 9"]
["Anio",2024]
["UE","(Todas)"]
["Red","LA CONVENCION"]
["MicroRed","(Todas)"]
["EESS","(Todas)"]
["Provincia","(Todas)"]
["Distrito","(Todas)"]
[]
["Etiquetas de fila","Suma de PPE_TNE_im_CP_17a","Suma de PPE_TNE_im_CP_18a","Suma de PPE_TNE_CP_17a","Suma de PPE_TNE_CP_18a","Suma de PPE_TE_CP_17a","Suma de PPE_TE_CP_18a","Suma de PPE_AS_ini_17a","Suma de PPE_AS_ini_18a","Suma de PPE_AS_min_CP_17a","Suma de PPE_AS_min_CP_18a","Suma de PPE_EspAut_CP_17a","Suma de PPE_EspAut_NE_CP_17a","Suma de PPE_EspAut_E_CP_17a","Suma de PPE_TEC_CP_17a","Suma de PPE_TEC_NE_CP_17a","Suma de PPE_TEC_E_CP_17a","Suma de CM_Dep_TNE_ini","Suma de CM_Dep_TE_ini","Suma de CM_Dep_TNE_min","Suma de CM_Dep_TE_min","Suma de CM_Sui_TNE_ini","Suma de CM_Sui_TE_ini","Suma de CM_Sui_TNE_min","Suma de CM_Sui_TE_min","Suma de CM_Ans_TNE_ini","Suma de CM_Ans_TE_ini","Suma de CM_Ans_TNE_min","Suma de CM_Ans_TE_min","Suma de PE_Dep_TNE_ini","Suma de PE_Dep_TE_ini","Suma de PE_Dep_TNE_min","Suma de PE_Dep_TE_min","Suma de PE_Sui_TNE_ini","Suma de PE_Sui_TE_ini","Suma de PE_Sui_TNE_min","Suma de PE_Sui_TE_min","Suma de PE_Ans_TNE_ini","Suma de PE_Ans_TE_ini","Suma de PE_Ans_TNE_min","Suma de PE_Ans_TE_min","Suma de IB_Dep_TNE_ini","Suma de IB_Dep_TNE_min","Suma de CO_Sui_TNE_ini","Suma de CO_Sui_TNE_min","Suma de PS_Dep_TE_ini","Suma de PS_Dep_TE_min","Suma de PS_Sui_TE_ini","Suma de PS_Sui_TE_min","Suma de PS_Ans_TE_ini","Suma de PS_Ans_TE_min","Suma de TP_Sui_TE_ini","Suma de TP_Sui_TE_min","Suma de VD_Dep_TE_ini","Suma de VD_Dep_TE_min","Suma de VD_Sui_TNE_ini","Suma de VD_Sui_TNE_min","Suma de VD_Sui_TE_ini","Suma de VD_Sui_TE_min","Suma de VD_Ans_TE_ini","Suma de VD_Ans_TE_min","Suma de AM_Dep_TE_ini","Suma de AM_Dep_TE_min","Suma de AM_Sui_TE_ini","Suma de AM_Sui_TE_min","Suma de AM_Ans_TNE_ini","Suma de AM_Ans_TNE_min","Suma de AM_Ans_TE_ini","Suma de AM_Ans_TE_min","Suma de AF_Ans_TNE_ini","Suma de AF_Ans_TNE_min","Suma de AF_Ans_TE_ini","Suma de AF_Ans_TE_min","Suma de PQE_Dep_TNE_ini","Suma de PQE_Dep_TE_ini","Suma de PQE_Dep_TNE_min","Suma de PQE_Dep_TE_min","Suma de PQE_Sui_TNE_ini","Suma de PQE_Sui_TNE_min","Suma de PQE_Sui_TE_min","Suma de PQE_Ans_TNE_ini","Suma de PQE_Ans_TNE_min","Suma de PQE_Ans_TE_min","Suma de CO_Alcohol_TNE_ini","Suma de CO_Alcohol_TE_min","Suma de IB_Alcohol_TNE_ini","Suma de IB_Alcohol_TE_min","Suma de CM_DAlcohol_TE_ini","Suma de CM_DAlcohol_TE_min","Suma de EM_DAlcohol_TE_ini","Suma de EM_DAlcohol_TE_min","Suma de PI_DAlcohol_TE_ini","Suma de PI_DAlcohol_TE_min","Suma de IF_DAlcohol_TE_ini","Suma de IF_DAlcohol_TE_min","Suma de IF_RAlcohol_TE_ini","Suma de IF_RAlcohol_TE_min","Suma de VD_DAlcohol_TE_ini","Suma de VD_DAlcohol_TE_min","Suma de TG_DAlcohol_TE_ini","Suma de TG_DAlcohol_TE_min","Suma de TG_RAlcohol_TE_ini","Suma de TG_RAlcohol_TE_min","Suma de PQE_Alcohol_TE_ini","Suma de PQE_Alcohol_TE_min","Suma de PQE_DAlcohol_TE_ini","Suma de PQE_DAlcohol_TE_min","Suma de PQE_RAlcohol_TE_ini","Suma de PQE_RAlcohol_TE_min","Suma de CM_Esqz_TNE_ini","Suma de CM_Esqz_TE_ini","Suma de CM_Esqz_TNE_min","Suma de CM_Esqz_TE_min","Suma de CM_1Esqz_ini","Suma de CM_1Esqz_min","Suma de CM_DCog_ini","Suma de CM_DCog_min","Suma de CM_tmg_ini","Suma de CM_tmg_min","Suma de EII_Esqz_TE_ini","Suma de EII_Esqz_min","Suma de EII_1Esqz_ini","Suma de EII_1Esqz_min","Suma de EII_tmg_ini","Suma de EII_tmg_min","Suma de PE_Esqz_TNE_ini","Suma de PE_Esqz_TE_ini","Suma de PS_Esqz_TNE_min","Suma de PS_Esqz_TE_min","Suma de PS_1Esqz_ini","Suma de PS_1Esqz_min","Suma de PS_tmg_ini","Suma de PS_tmg_min","Suma de II_Esqz_TNE_ini","Suma de II_Esqz_TNE_min","Suma de II_Esqz_TE_ini","Suma de II_Esqz_TE_min","Suma de II_1Esqz_ini","Suma de II_1Esqz_min","Suma de II_tmg_ini","Suma de II_tmg_min","Suma de PSI_Esqz_TE_ini","Suma de PSI_Esqz_TE_min","Suma de PSI_1Esqz_ini","Suma de PSI_1Esqz_min","Suma de PSI_tmg_ini","Suma de PSI_tmg_min","Suma de IF_Esqz_TNE_ini","Suma de IF_Esqz_TNE_min","Suma de IF_Esqz_TE_ini","Suma de IF_Esqz_TE_min","Suma de IF_1Esqz_ini","Suma de IF_1Esqz_min","Suma de IF_tmg_ini","Suma de IF_tmg_min","Suma de VD_Esqz_TNE_im","Suma de VD_Esqz_TNE_min","Suma de VD_Esqz_TE_min","Suma de VD_1Esqz_ini","Suma de VD_1Esqz_min","Suma de VD_tmg_ini","Suma de VD_tmg_min","Suma de IS_Esqz_TE_ini","Suma de IS_Esqz_TE_min","Suma de IS_1Esqz_ini","Suma de IS_1Esqz_min","Suma de IS_tmg_ini","Suma de IS_tmg_min","Suma de IIS_Esqz_TE_ini","Suma de IIS_Esqz_TE_min","Suma de IIS_1Esqz_ini","Suma de IIS_1Esqz_min","Suma de IIS_tmg_ini","Suma de IIS_tmg_min","Suma de TRDC_DCog_min","Suma de TR_DCog_min","Suma de SMCP_Csdpd_ini","Suma de SMCP_Csdpd_min","Suma de IGC_tmg_ini","Suma de IGC_tmg_min","Suma de PQE_Esqz_TNE_min","Suma de PQE_Esqz_TE_min","Suma de PQE_1Esqz_ini","Suma de PQE_1Esqz_min","Suma de PQE_DCog_ini","Suma de PQE_Csdpd_ini","Suma de PQE_DCog_min","Suma de PQE_Csdpd_min","Suma de PQE_tmg_ini","Suma de PQE_tmg_min","Suma de Atd_VIF_TNE_0_2F","Suma de Atd_VIF_TNE_0_2M","Suma de Atd_VIF_TNE_3_5F","Suma de Atd_VIF_TNE_3_5M","Suma de Atd_VIF_TNE_6_9F","Suma de Atd_VIF_TNE_6_9M","Suma de Atd_VIF_TNE_10_11F","Suma de Atd_VIF_TNE_10_11M","Suma de Atd_VIF_TNE_12_14F","Suma de Atd_VIF_TNE_12_14M","Suma de Atd_VIF_TNE_15_17F","Suma de Atd_VIF_TNE_15_17M","Suma de Atd_VIF_TNE_18_24F","Suma de Atd_VIF_TNE_18_24M","Suma de Atd_VIF_TNE_25_29F","Suma de Atd_VIF_TNE_25_29M","Suma de Atd_VIF_TNE_30_39F","Suma de Atd_VIF_TNE_30_39M","Suma de Atd_VIF_TNE_40_59F","Suma de Atd_VIF_TNE_40_59M","Suma de Atd_VIF_TNE_60_79F","Suma de Atd_VIF_TNE_60_79M","Suma de Atd_VIF_TNE_80F","Suma de Atd_VIF_TNE_80M","Suma de Atd_VIF_TE_0_2F","Suma de Atd_VIF_TE_0_2M","Suma de Atd_VIF_TE_3_5F","Suma de Atd_VIF_TE_3_5M","Suma de Atd_VIF_TE_6_9F","Suma de Atd_VIF_TE_6_9M","Suma de Atd_VIF_TE_10_11F","Suma de Atd_VIF_TE_10_11M","Suma de Atd_VIF_TE_12_14F","Suma de Atd_VIF_TE_12_14M","Suma de Atd_VIF_TE_15_17F","Suma de Atd_VIF_TE_15_17M","Suma de Atd_VIF_TE_18_24F","Suma de Atd_VIF_TE_18_24M","Suma de Atd_VIF_TE_25_29F","Suma de Atd_VIF_TE_25_29M","Suma de Atd_VIF_TE_30_39F","Suma de Atd_VIF_TE_30_39M","Suma de Atd_VIF_TE_40_59F","Suma de Atd_VIF_TE_40_59M","Suma de Atd_VIF_TE_60_79F","Suma de Atd_VIF_TE_60_79M","Suma de Atd_VIF_TE_80F","Suma de Atd_VIF_TE_80M","Suma de PPE_TE_im_CP_17a","Suma de PPE_TE_im_CP_18a","Suma de PPE_EspAut_TE_CP_17a","Suma de PPE_TEC_TE_CP_17a","Suma de VD_Esqz_TE_ini","Suma de TRDC_DCog_ini","Suma de TR_DCog_ini","Suma de PQE_Esqz_TNE_ini","Suma de PQE_Esqz_TE_ini","Suma de PQE_Sui_TE_ini","Suma de PQE_Ans_TE_ini"]
[1,24,71,0,0,0,0,7,2,0,0,1,0,0,33,0,0,0,0,0,0,0,0,0,0,0,0,0,0,17,31,0,0,0,0,0,0,0,0,0,0,5,0,0,0,14,2,0,0,3,3,0,0,15,15,0,0,0,0,6,2,6,4,0,0,1,0,2,1,1,0,7,1,41,229,0,0,1,0,0,19,0,0,0,0,5,0,2,0,1,0,0,0,0,2,0,2,2,1,0,0,0,0,5,0,5,0,8,0,0,2,0,4,0,0,2,2,0,2,2,2,0,0,0,0,2,4,0,1,0,0,0,0,0,0,4,1,0,0,0,0,1,0,0,0,0,0,0,0,3,2,0,0,0,0,2,0,1,0,0,0,0,2,0,0,0,0,0,0,1,0,0,0,0,0,0,0,0,0,0,0,0,0,0,17,17,0,0,0,0,0,0,0,0,0,0,0,0,0,0,0,0,0,0,0,0,0,0,0,0,0,0,0,0,0,0,0,0,0,0,0,0,0,0,0,0,0,0,0,0,0,0,0,0,0,0,0,0,43,39,3,37,7,0,0,4,10,1,32]
[2,25,92,0,0,0,0,6,1,0,0,1,0,0,16,0,0,0,0,0,0,0,0,0,0,0,0,0,0,30,26,0,0,0,0,0,0,0,0,0,0,2,1,0,0,13,7,0,0,6,2,0,0,11,11,0,0,1,0,2,0,4,3,0,0,0,0,4,0,1,0,5,0,81,234,0,0,0,0,0,27,0,0,0,0,11,6,1,0,2,1,2,0,3,2,3,2,3,0,1,0,0,0,12,0,9,0,20,0,0,3,0,1,0,0,1,0,0,0,0,0,0,0,0,0,2,3,0,1,0,0,0,0,0,0,3,1,0,0,0,0,0,0,0,0,0,0,0,0,2,0,0,0,0,0,1,1,1,0,0,0,0,0,0,0,0,0,0,1,0,0,0,0,0,0,0,0,0,0,0,0,0,0,0,23,23,0,0,5,0,0,0,0,0,0,0,0,0,0,0,0,0,0,0,0,0,0,0,0,0,0,0,0,0,0,0,0,0,0,0,0,0,0,0,0,0,0,0,0,0,0,0,0,0,0,0,0,0,30,43,4,30,7,0,0,4,24,1,41]
[3,26,88,0,0,0,0,8,5,0,0,0,0,0,18,0,0,0,0,0,0,0,0,0,0,0,0,0,0,23,25,0,0,0,0,0,0,0,0,0,0,3,0,0,0,12,9,0,0,13,4,0,0,12,12,0,0,0,0,4,0,8,5,0,0,0,0,8,1,0,0,14,0,60,164,0,0,0,0,0,31,0,0,0,0,15,5,2,0,1,0,2,1,0,0,0,0,0,0,0,1,0,0,10,0,10,0,12,0,0,1,0,0,0,0,0,0,0,0,0,0,0,0,0,0,1,3,1,0,0,0,1,0,2,0,2,4,0,0,0,0,4,1,0,0,0,0,0,0,2,1,0,0,1,0,7,1,2,0,0,0,0,2,0,0,0,0,0,0,0,0,0,0,0,0,0,0,0,0,0,0,0,0,0,17,17,0,0,3,0,0,0,0,0,0,0,0,0,0,0,0,0,0,0,0,0,0,0,0,0,0,0,0,0,0,0,0,0,0,0,0,0,0,0,0,0,0,0,0,0,0,0,0,0,0,0,0,0,38,44,7,31,6,0,0,6,28,0,53]
[4,31,83,0,0,0,0,5,3,0,0,0,0,0,24,0,0,0,0,0,0,0,0,0,0,0,0,0,0,28,54,0,0,0,0,0,0,0,0,0,0,1,2,0,0,31,5,0,0,4,2,0,0,9,9,0,0,0,0,1,0,2,4,0,0,0,0,2,0,2,1,4,2,79,244,0,0,2,0,0,28,0,0,0,0,5,10,0,0,4,0,3,3,0,1,0,1,0,0,3,0,0,0,16,0,13,0,15,0,1,3,0,0,0,0,0,1,0,0,1,1,0,0,0,0,1,2,0,2,0,0,0,0,0,0,3,1,0,0,0,0,3,0,0,0,0,0,0,0,3,1,0,0,0,0,1,2,3,0,0,0,0,0,0,0,0,0,0,1,0,0,0,0,0,0,0,0,0,0,0,0,0,0,0,17,17,0,0,2,0,0,0,0,0,0,0,0,0,0,0,0,0,0,0,0,0,0,0,0,0,0,0,0,0,0,0,0,0,0,0,0,0,0,0,0,0,0,0,0,0,0,0,0,0,0,0,0,0,25,38,6,38,3,0,0,3,20,0,52]
[5,37,76,0,0,0,0,4,4,0,0,1,0,0,17,0,0,0,0,0,0,0,0,0,0,0,0,0,0,26,28,0,0,0,0,0,0,0,0,0,0,0,0,0,0,15,6,0,0,10,1,0,0,7,7,0,0,0,0,4,0,4,4,0,0,0,0,1,0,0,0,2,0,69,223,0,0,0,0,0,21,0,0,1,1,14,6,2,0,2,3,3,1,0,0,0,0,1,0,1,1,0,0,14,0,10,0,19,0,0,0,0,0,0,0,3,0,0,0,0,0,0,0,0,0,2,2,0,2,0,0,0,0,1,0,0,0,0,0,0,0,1,0,0,0,0,0,0,0,1,0,0,0,0,0,0,2,0,0,0,0,0,3,0,0,0,0,0,0,0,0,0,0,0,0,0,0,0,0,0,0,0,0,0,26,26,0,0,0,0,0,0,0,0,0,0,0,0,0,0,0,0,0,0,0,0,0,0,0,0,0,0,0,0,0,0,0,0,0,0,0,0,0,0,0,0,0,0,0,0,0,0,0,0,0,0,0,0,30,53,3,48,0,0,0,4,6,0,32]
[6,28,94,0,0,0,0,4,5,0,0,5,0,0,19,0,0,0,0,0,0,0,0,0,0,0,0,0,0,20,34,0,0,0,0,0,0,0,0,0,0,1,0,0,0,15,6,0,0,9,2,0,0,12,12,0,0,0,0,4,0,3,0,0,0,0,0,0,0,0,0,2,2,47,262,0,0,0,0,0,17,0,0,2,1,4,5,2,0,2,0,4,4,2,1,2,1,5,1,0,0,0,0,8,0,5,0,7,0,0,1,0,0,0,0,1,0,0,0,0,0,0,0,0,0,1,1,0,1,0,0,0,0,0,0,1,0,0,0,0,0,2,1,0,0,0,0,0,0,3,0,0,0,0,0,0,0,0,0,0,0,0,0,0,0,0,0,0,1,0,0,0,0,0,0,0,0,0,0,0,0,0,0,0,12,12,0,0,1,0,0,0,0,0,0,0,0,0,0,0,0,0,0,0,0,0,0,0,0,0,0,0,0,0,0,0,0,0,0,0,0,0,0,0,0,0,0,0,0,0,0,0,0,0,0,0,0,0,33,59,0,57,2,0,2,8,12,0,48]
[7,33,92,0,0,0,0,9,0,0,0,1,0,0,19,0,0,0,0,0,0,0,0,0,0,0,0,0,0,15,35,0,0,0,0,0,0,0,0,0,0,2,0,0,0,12,1,0,0,5,2,0,0,4,4,0,0,0,0,3,0,5,0,0,0,0,0,1,0,0,0,3,0,63,260,0,0,1,0,0,20,0,0,1,0,18,5,0,0,3,1,2,1,1,1,1,1,1,1,0,0,0,0,15,0,5,0,11,0,0,5,0,2,0,0,2,2,0,0,2,1,0,0,0,0,0,1,0,0,0,0,0,0,1,0,2,0,0,0,0,0,3,0,0,0,0,0,0,0,2,1,0,0,0,0,0,1,0,0,0,0,0,1,0,0,0,0,0,1,0,0,0,0,0,0,0,0,0,0,0,0,0,0,0,10,10,0,0,0,0,0,0,0,0,0,0,0,0,0,0,0,0,0,0,0,0,0,0,0,0,0,0,0,0,0,0,0,0,0,0,0,0,0,0,0,0,0,0,0,0,0,0,0,0,0,0,0,0,27,55,4,55,0,0,0,4,9,2,47]
[8,38,95,0,0,0,0,9,2,0,0,2,0,0,21,0,0,0,0,0,0,0,0,0,0,0,0,0,0,18,19,0,0,0,0,0,0,0,0,0,0,5,0,0,0,15,5,1,0,5,2,0,0,2,2,0,0,0,0,0,0,1,1,0,0,0,0,1,1,0,0,1,0,57,227,0,0,0,0,0,20,0,0,4,2,6,5,5,0,2,4,3,0,0,0,0,0,0,0,0,0,0,0,8,1,12,0,23,0,0,1,0,0,0,0,0,1,0,0,1,1,0,0,0,0,0,0,0,0,0,0,0,0,0,0,3,1,0,0,0,0,4,0,0,0,0,0,0,0,1,0,0,0,0,0,0,0,0,0,0,0,0,2,0,0,0,0,0,0,1,0,0,0,0,0,1,0,0,0,0,0,0,0,0,15,15,0,0,1,0,0,0,0,0,0,0,0,0,0,0,0,0,0,0,0,0,0,0,0,0,0,0,0,0,0,0,0,0,0,0,0,0,0,0,0,0,0,0,0,0,0,0,0,0,0,0,0,0,35,64,5,51,0,0,2,3,12,1,45]
[9,28,119,0,0,0,0,9,4,0,0,2,0,0,26,0,0,0,0,0,0,0,0,0,0,0,0,0,0,20,36,0,0,0,0,0,0,0,0,0,0,2,0,0,0,15,5,0,0,9,1,0,0,5,5,0,0,0,0,1,0,2,1,0,0,0,0,6,0,0,0,3,0,68,277,0,0,0,0,0,24,0,0,3,2,10,9,3,0,7,2,2,2,6,1,5,1,2,0,0,0,0,0,13,0,13,0,27,0,0,1,0,1,0,0,0,0,0,0,3,3,0,0,0,0,0,5,0,1,0,0,0,0,0,0,1,2,0,0,0,0,3,1,0,0,0,0,0,0,4,2,0,0,0,0,0,0,0,0,0,0,0,0,0,0,0,0,0,1,0,0,0,0,0,0,1,0,0,0,0,0,0,0,0,13,13,0,0,0,0,0,0,0,0,0,0,0,0,0,0,0,0,0,0,0,0,0,0,0,0,0,0,0,0,0,0,0,0,0,0,0,0,0,0,0,0,0,0,0,0,0,0,0,0,0,0,0,0,50,61,3,59,0,0,0,2,8,4,43]
[10,30,93,0,0,0,0,7,3,0,0,1,0,0,23,0,0,0,0,0,0,0,0,0,0,0,0,0,0,14,23,0,0,0,0,0,0,0,0,0,0,7,1,0,0,15,3,0,0,6,2,0,0,2,2,0,0,0,0,1,0,3,0,0,0,0,0,0,0,0,0,0,0,68,178,0,0,0,0,0,20,0,0,0,0,7,4,0,0,1,1,2,1,0,1,0,1,2,0,0,0,0,0,12,0,10,0,13,0,0,2,0,2,0,0,0,1,0,0,2,2,0,0,0,0,1,1,0,0,0,0,0,0,1,0,0,0,0,0,0,0,2,0,0,0,0,0,0,0,1,1,0,0,0,0,0,1,1,0,0,0,0,2,0,0,0,0,0,0,0,0,0,0,0,0,0,0,0,0,0,0,0,0,0,15,15,0,0,0,0,0,0,0,0,0,0,0,0,0,0,0,0,0,0,0,0,0,0,0,0,0,0,0,0,0,0,0,0,0,0,0,0,0,0,0,0,0,0,0,0,0,0,0,0,0,0,0,0,37,70,4,44,0,1,0,3,8,1,40]
[11,28,84,0,0,0,0,7,1,0,0,2,0,0,17,0,0,0,0,0,0,0,0,0,0,0,0,0,0,16,30,0,0,0,0,0,0,0,0,0,0,14,2,0,0,13,8,0,0,3,0,0,0,4,4,0,0,0,0,0,0,2,0,0,0,0,0,3,0,0,0,3,1,32,192,0,0,0,0,0,20,0,0,3,3,16,7,0,0,3,2,1,0,3,1,3,1,0,0,0,0,0,0,21,0,8,0,19,0,0,2,0,0,0,0,1,0,0,0,1,0,0,0,0,0,0,3,0,0,0,0,0,0,0,0,2,0,0,0,0,0,6,2,0,0,0,0,0,0,0,0,0,0,0,0,0,0,0,0,0,0,0,1,0,0,0,0,0,0,0,0,0,0,0,0,0,0,0,0,0,0,0,0,0,7,7,0,0,0,0,0,0,0,0,0,0,0,0,0,0,0,0,0,0,0,0,0,0,0,0,0,0,0,0,0,0,0,0,0,0,0,0,0,0,0,0,0,0,0,0,0,0,0,0,0,0,0,0,61,59,4,55,0,1,0,12,6,1,32]
["Total general",328,987,0,0,0,0,75,30,0,0,16,0,0,233,0,0,0,0,0,0,0,0,0,0,0,0,0,0,227,341,0,0,0,0,0,0,0,0,0,0,42,6,0,0,170,57,1,0,73,21,0,0,83,83,0,0,1,0,26,2,40,22,0,0,1,0,28,3,4,1,44,6,665,2490,0,0,4,0,0,247,0,0,14,9,111,62,17,0,28,14,24,13,15,10,14,10,16,3,5,2,0,0,134,1,100,0,174,0,1,21,0,10,0,0,10,7,0,2,12,10,0,0,0,0,10,25,1,8,0,0,1,0,5,0,21,10,0,0,0,0,29,5,0,0,0,0,0,0,22,8,0,0,1,0,11,8,8,0,0,0,0,13,0,0,0,0,0,5,2,0,0,0,0,0,2,0,0,0,0,0,0,0,0,172,172,0,0,12,0,0,0,0,0,0,0,0,0,0,0,0,0,0,0,0,0,0,0,0,0,0,0,0,0,0,0,0,0,0,0,0,0,0,0,0,0,0,0,0,0,0,0,0,0,0,0,0,0,409,585,43,505,25,2,4,53,143,11,465]
[]
[]
["Salud Mental 10"]
["Anio",2024]
["UE","(Todas)"]
["Red","LA CONVENCION"]
["MicroRed","(Todas)"]
["EESS","(Todas)"]
["Provincia","(Todas)"]
["Distrito","(Todas)"]
[]
["Etiquetas de fila","Suma de Atd_AbusoS_TE_0_2F","Suma de Atd_AbusoS_TE_0_2M","Suma de Atd_AbusoS_TE_3_5F","Suma de Atd_AbusoS_TE_3_5M","Suma de Atd_AbusoS_TE_6_9F","Suma de Atd_AbusoS_TE_6_9M","Suma de Atd_AbusoS_TE_10_11F","Suma de Atd_AbusoS_TE_10_11M","Suma de Atd_AbusoS_TE_12_14F","Suma de Atd_AbusoS_TE_12_14M","Suma de Atd_AbusoS_TE_15_17F","Suma de Atd_AbusoS_TE_15_17M","Suma de Atd_AbusoS_TE_18_24F","Suma de Atd_AbusoS_TE_18_24M","Suma de Atd_AbusoS_TE_25_29F","Suma de Atd_AbusoS_TE_25_29M","Suma de Atd_AbusoS_TE_30_39F","Suma de Atd_AbusoS_TE_30_39M","Suma de Atd_AbusoS_TE_40_59F","Suma de Atd_AbusoS_TE_40_59M","Suma de Atd_AbusoS_TE_60_79F","Suma de Atd_AbusoS_TE_60_79M","Suma de Atd_AbusoS_TE_80F","Suma de Atd_AbusoS_TE_80M","Suma de Atd_EAutista_TNE_0_2F","Suma de Atd_EAutista_TNE_0_2M","Suma de Atd_EAutista_TNE_3_5F","Suma de Atd_EAutista_TNE_3_5M","Suma de Atd_EAutista_TNE_6_9F","Suma de Atd_EAutista_TNE_6_9M","Suma de Atd_EAutista_TNE_10_11F","Suma de Atd_EAutista_TNE_10_11M","Suma de Atd_EAutista_TNE_12_14F","Suma de Atd_EAutista_TNE_12_14M","Suma de Atd_EAutista_TNE_15_17F","Suma de Atd_EAutista_TNE_15_17M","Suma de Atd_EAutista_TNE_18_24F","Suma de Atd_EAutista_TNE_18_24M","Suma de Atd_EAutista_TNE_25_29F","Suma de Atd_EAutista_TNE_25_29M","Suma de Atd_EAutista_TNE_30_39F","Suma de Atd_EAutista_TNE_30_39M","Suma de Atd_EAutista_TNE_40_59F","Suma de Atd_EAutista_TNE_40_59M","Suma de Atd_EAutista_TNE_60_79F","Suma de Atd_EAutista_TNE_60_79M","Suma de Atd_EAutista_TNE_80F","Suma de Atd_EAutista_TNE_80M","Suma de Atd_EAutista_TE_0_2F","Suma de Atd_EAutista_TE_0_2M","Suma de Atd_EAutista_TE_3_5F","Suma de Atd_EAutista_TE_3_5M","Suma de Atd_EAutista_TE_6_9F","Suma de Atd_EAutista_TE_6_9M","Suma de Atd_EAutista_TE_10_11F","Suma de Atd_EAutista_TE_10_11M","Suma de Atd_EAutista_TE_12_14F","Suma de Atd_EAutista_TE_12_14M","Suma de Atd_EAutista_TE_15_17F","Suma de Atd_EAutista_TE_15_17M","Suma de Atd_EAutista_TE_18_24F","Suma de Atd_EAutista_TE_18_24M","Suma de Atd_EAutista_TE_25_29F","Suma de Atd_EAutista_TE_25_29M","Suma de Atd_EAutista_TE_30_39F","Suma de Atd_EAutista_TE_30_39M","Suma de Atd_EAutista_TE_40_59F","Suma de Atd_EAutista_TE_40_59M","Suma de Atd_EAutista_TE_60_79F","Suma de Atd_EAutista_TE_60_79M","Suma de Atd_EAutista_TE_80F","Suma de Atd_EAutista_TE_80M","Suma de Atd_TmentalC_TNE_0_2F","Suma de Atd_TmentalC_TNE_0_2M","Suma de Atd_TmentalC_TNE_3_5F","Suma de Atd_TmentalC_TNE_3_5M","Suma de Atd_TmentalC_TNE_6_9F","Suma de Atd_TmentalC_TNE_6_9M","Suma de Atd_TmentalC_TNE_10_11F","Suma de Atd_TmentalC_TNE_10_11M","Suma de Atd_TmentalC_TNE_12_14F","Suma de Atd_TmentalC_TNE_12_14M","Suma de Atd_TmentalC_TNE_15_17F","Suma de Atd_TmentalC_TNE_15_17M","Suma de Atd_TmentalC_TNE_18_24F","Suma de Atd_TmentalC_TNE_18_24M","Suma de Atd_TmentalC_TNE_25_29F","Suma de Atd_TmentalC_TNE_25_29M","Suma de Atd_TmentalC_TNE_30_39F","Suma de Atd_TmentalC_TNE_30_39M","Suma de Atd_TmentalC_TNE_40_59F","Suma de Atd_TmentalC_TNE_40_59M","Suma de Atd_TmentalC_TNE_60_79F","Suma de Atd_TmentalC_TNE_60_79M","Suma de Atd_TmentalC_TNE_80F","Suma de Atd_TmentalC_TNE_80M","Suma de Atd_TmentalC_TE_0_2F","Suma de Atd_TmentalC_TE_0_2M","Suma de Atd_TmentalC_TE_3_5F","Suma de Atd_TmentalC_TE_3_5M","Suma de Atd_TmentalC_TE_6_9F","Suma de Atd_TmentalC_TE_6_9M","Suma de Atd_TmentalC_TE_10_11F","Suma de Atd_TmentalC_TE_10_11M","Suma de Atd_TmentalC_TE_12_14F","Suma de Atd_TmentalC_TE_12_14M","Suma de Atd_TmentalC_TE_15_17F","Suma de Atd_TmentalC_TE_15_17M","Suma de Atd_TmentalC_TE_18_24F","Suma de Atd_TmentalC_TE_18_24M","Suma de Atd_TmentalC_TE_25_29F","Suma de Atd_TmentalC_TE_25_29M","Suma de Atd_TmentalC_TE_30_39F","Suma de Atd_TmentalC_TE_30_39M","Suma de Atd_TmentalC_TE_40_59F","Suma de Atd_TmentalC_TE_40_59M","Suma de Atd_TmentalC_TE_60_79F","Suma de Atd_TmentalC_TE_60_79M","Suma de Atd_TmentalC_TE_80F","Suma de Atd_TmentalC_TE_80M","Suma de Atd_TD_TNE_0_2F","Suma de Atd_TD_TNE_0_2M","Suma de Atd_TD_TNE_3_5F","Suma de Atd_TD_TNE_3_5M","Suma de Atd_TD_TNE_6_9F","Suma de Atd_TD_TNE_6_9M","Suma de Atd_TD_TNE_10_11F","Suma de Atd_TD_TNE_10_11M","Suma de Atd_TD_TNE_12_14F","Suma de Atd_TD_TNE_12_14M","Suma de Atd_TD_TNE_15_17F","Suma de Atd_TD_TNE_15_17M","Suma de Atd_TD_TNE_18_24F","Suma de Atd_TD_TNE_18_24M","Suma de Atd_TD_TNE_25_29F","Suma de Atd_TD_TNE_25_29M","Suma de Atd_TD_TNE_30_39F","Suma de Atd_TD_TNE_30_39M","Suma de Atd_TD_TNE_40_59F","Suma de Atd_TD_TNE_40_59M","Suma de Atd_TD_TNE_60_79F","Suma de Atd_TD_TNE_60_79M","Suma de Atd_TD_TNE_80F","Suma de Atd_TD_TNE_80M","Suma de Atd_TD_TE_0_2F","Suma de Atd_TD_TE_0_2M","Suma de Atd_TD_TE_3_5F","Suma de Atd_TD_TE_3_5M","Suma de Atd_TD_TE_6_9F","Suma de Atd_TD_TE_6_9M","Suma de Atd_TD_TE_10_11F","Suma de Atd_TD_TE_10_11M","Suma de Atd_TD_TE_12_14F","Suma de Atd_TD_TE_12_14M","Suma de Atd_TD_TE_15_17F","Suma de Atd_TD_TE_15_17M","Suma de Atd_TD_TE_18_24F","Suma de Atd_TD_TE_18_24M","Suma de Atd_TD_TE_25_29F","Suma de Atd_TD_TE_25_29M","Suma de Atd_TD_TE_30_39F","Suma de Atd_TD_TE_30_39M","Suma de Atd_TD_TE_40_59F","Suma de Atd_TD_TE_40_59M","Suma de Atd_TD_TE_60_79F","Suma de Atd_TD_TE_60_79M","Suma de Atd_TD_TE_80F","Suma de Atd_TD_TE_80M","Suma de Atd_Csuicida_TNE_3_5F","Suma de Atd_Csuicida_TNE_3_5M","Suma de Atd_Csuicida_TNE_6_9F","Suma de Atd_Csuicida_TNE_6_9M","Suma de Atd_Csuicida_TNE_10_11F","Suma de Atd_Csuicida_TNE_10_11M","Suma de Atd_Csuicida_TNE_12_14F","Suma de Atd_Csuicida_TNE_12_14M","Suma de Atd_Csuicida_TNE_15_17F","Suma de Atd_Csuicida_TNE_15_17M","Suma de Atd_Csuicida_TNE_18_24F","Suma de Atd_Csuicida_TNE_18_24M","Suma de Atd_Csuicida_TNE_25_29F","Suma de Atd_Csuicida_TNE_25_29M","Suma de Atd_Csuicida_TNE_30_39F","Suma de Atd_Csuicida_TNE_30_39M","Suma de Atd_Csuicida_TNE_40_59F","Suma de Atd_Csuicida_TNE_40_59M","Suma de Atd_Csuicida_TNE_60_79F","Suma de Atd_Csuicida_TNE_60_79M","Suma de Atd_Csuicida_TNE_80F","Suma de Atd_Csuicida_TNE_80M","Suma de Atd_Csuicida_TE_3_5F","Suma de Atd_Csuicida_TE_3_5M","Suma de Atd_Csuicida_TE_6_9F","Suma de Atd_Csuicida_TE_6_9M","Suma de Atd_Csuicida_TE_10_11F","Suma de Atd_Csuicida_TE_10_11M","Suma de Atd_Csuicida_TE_12_14F","Suma de Atd_Csuicida_TE_12_14M","Suma de Atd_Csuicida_TE_15_17F","Suma de Atd_Csuicida_TE_15_17M","Suma de Atd_Csuicida_TE_18_24F","Suma de Atd_Csuicida_TE_18_24M","Suma de Atd_Csuicida_TE_25_29F","Suma de Atd_Csuicida_TE_25_29M","Suma de Atd_Csuicida_TE_30_39F","Suma de Atd_Csuicida_TE_30_39M","Suma de Atd_Csuicida_TE_40_59F","Suma de Atd_Csuicida_TE_40_59M","Suma de Atd_Csuicida_TE_60_79F","Suma de Atd_Csuicida_TE_60_79M","Suma de Atd_Csuicida_TE_80F","Suma de Atd_Csuicida_TE_80M","Suma de Atd_TAN_TNE_0_2F","Suma de Atd_TAN_TNE_0_2M","Suma de Atd_TAN_TNE_3_5F","Suma de Atd_TAN_TNE_3_5M","Suma de Atd_TAN_TNE_6_9F","Suma de Atd_TAN_TNE_6_9M","Suma de Atd_TAN_TNE_10_11F","Suma de Atd_TAN_TNE_10_11M","Suma de Atd_TAN_TNE_12_14F","Suma de Atd_TAN_TNE_12_14M","Suma de Atd_TAN_TNE_15_17F","Suma de Atd_TAN_TNE_15_17M","Suma de Atd_TAN_TNE_18_24F","Suma de Atd_TAN_TNE_18_24M","Suma de Atd_TAN_TNE_25_29F","Suma de Atd_TAN_TNE_25_29M","Suma de Atd_TAN_TNE_30_39F","Suma de Atd_TAN_TNE_30_39M","Suma de Atd_TAN_TNE_40_59F","Suma de Atd_TAN_TNE_40_59M","Suma de Atd_TAN_TNE_60_79F","Suma de Atd_TAN_TNE_60_79M","Suma de Atd_TAN_TNE_80F","Suma de Atd_TAN_TNE_80M"]
[1,0,0,0,0,0,0,0,0,0,0,0,0,0,0,0,0,0,0,0,0,0,0,0,0,0,0,0,0,0,0,0,0,0,0,0,0,0,0,0,0,0,0,0,0,0,0,0,0,0,0,0,0,0,0,0,0,0,0,0,0,0,0,0,0,0,0,0,0,0,0,0,0,0,0,0,0,0,0,0,0,0,0,0,0,0,0,0,0,0,0,0,0,0,0,0,0,0,0,0,0,0,0,0,0,0,0,0,0,0,0,0,0,0,0,0,0,0,0,0,0,0,0,0,0,0,0,0,0,0,0,0,0,0,0,0,0,0,0,0,0,0,0,0,0,0,0,0,0,0,0,0,0,0,0,0,0,0,0,0,0,0,0,0,0,0,0,0,0,0,0,0,0,0,0,0,0,0,0,0,0,0,0,0,0,0,0,0,0,0,0,0,0,0,0,0,0,0,0,0,0,0,0,0,0,0,0,0,0,0,0,0,0,0,0,0,0,0,0,0,0,0,0,0,0,0,0,0,0,0,0,0,0,0,0,0,0]
[2,0,0,0,0,0,0,0,0,0,0,0,0,0,0,0,0,0,0,0,0,0,0,0,0,0,0,0,0,0,0,0,0,0,0,0,0,0,0,0,0,0,0,0,0,0,0,0,0,0,0,0,0,0,0,0,0,0,0,0,0,0,0,0,0,0,0,0,0,0,0,0,0,0,0,0,0,0,0,0,0,0,0,0,0,0,0,0,0,0,0,0,0,0,0,0,0,0,0,0,0,0,0,0,0,0,0,0,0,0,0,0,0,0,0,0,0,0,0,0,0,0,0,0,0,0,0,0,0,0,0,0,0,0,0,0,0,0,0,0,0,0,0,0,0,0,0,0,0,0,0,0,0,0,0,0,0,0,0,0,0,0,0,0,0,0,0,0,0,0,0,0,0,0,0,0,0,0,0,0,0,0,0,0,0,0,0,0,0,0,0,0,0,0,0,0,0,0,0,0,0,0,0,0,0,0,0,0,0,0,0,0,0,0,0,0,0,0,0,0,0,0,0,0,0,0,0,0,0,0,0,0,0,0,0,0,0]
[3,0,0,0,0,0,0,0,0,0,0,0,0,0,0,0,0,0,0,0,0,0,0,0,0,0,0,0,0,0,0,0,0,0,0,0,0,0,0,0,0,0,0,0,0,0,0,0,0,0,0,0,0,0,0,0,0,0,0,0,0,0,0,0,0,0,0,0,0,0,0,0,0,0,0,0,0,0,0,0,0,0,0,0,0,0,0,0,0,0,0,0,0,0,0,0,0,0,0,0,0,0,0,0,0,0,0,0,0,0,0,0,0,0,0,0,0,0,0,0,0,0,0,0,0,0,0,0,0,0,0,0,0,0,0,0,0,0,0,0,0,0,0,0,0,0,0,0,0,0,0,0,0,0,0,0,0,0,0,0,0,0,0,0,0,0,0,0,0,0,0,0,0,0,0,0,0,0,0,0,0,0,0,0,0,0,0,0,0,0,0,0,0,0,0,0,0,0,0,0,0,0,0,0,0,0,0,0,0,0,0,0,0,0,0,0,0,0,0,0,0,0,0,0,0,0,0,0,0,0,0,0,0,0,0,0,0]
[4,0,0,0,0,0,0,0,0,0,0,0,0,0,0,0,0,0,0,0,0,0,0,0,0,0,0,0,0,0,0,0,0,0,0,0,0,0,0,0,0,0,0,0,0,0,0,0,0,0,0,0,0,0,0,0,0,0,0,0,0,0,0,0,0,0,0,0,0,0,0,0,0,0,0,0,0,0,0,0,0,0,0,0,0,0,0,0,0,0,0,0,0,0,0,0,0,0,0,0,0,0,0,0,0,0,0,0,0,0,0,0,0,0,0,0,0,0,0,0,0,0,0,0,0,0,0,0,0,0,0,0,0,0,0,0,0,0,0,0,0,0,0,0,0,0,0,0,0,0,0,0,0,0,0,0,0,0,0,0,0,0,0,0,0,0,0,0,0,0,0,0,0,0,0,0,0,0,0,0,0,0,0,0,0,0,0,0,0,0,0,0,0,0,0,0,0,0,0,0,0,0,0,0,0,0,0,0,0,0,0,0,0,0,0,0,0,0,0,0,0,0,0,0,0,0,0,0,0,0,0,0,0,0,0,0,0]
[5,0,0,0,0,0,0,0,0,0,0,0,0,0,0,0,0,0,0,0,0,0,0,0,0,0,0,0,0,0,0,0,0,0,0,0,0,0,0,0,0,0,0,0,0,0,0,0,0,0,0,0,0,0,0,0,0,0,0,0,0,0,0,0,0,0,0,0,0,0,0,0,0,0,0,0,0,0,0,0,0,0,0,0,0,0,0,0,0,0,0,0,0,0,0,0,0,0,0,0,0,0,0,0,0,0,0,0,0,0,0,0,0,0,0,0,0,0,0,0,0,0,0,0,0,0,0,0,0,0,0,0,0,0,0,0,0,0,0,0,0,0,0,0,0,0,0,0,0,0,0,0,0,0,0,0,0,0,0,0,0,0,0,0,0,0,0,0,0,0,0,0,0,0,0,0,0,0,0,0,0,0,0,0,0,0,0,0,0,0,0,0,0,0,0,0,0,0,0,0,0,0,0,0,0,0,0,0,0,0,0,0,0,0,0,0,0,0,0,0,0,0,0,0,0,0,0,0,0,0,0,0,0,0,0,0,0]
[6,0,0,0,0,0,0,0,0,0,0,0,0,0,0,0,0,0,0,0,0,0,0,0,0,0,0,0,0,0,0,0,0,0,0,0,0,0,0,0,0,0,0,0,0,0,0,0,0,0,0,0,0,0,0,0,0,0,0,0,0,0,0,0,0,0,0,0,0,0,0,0,0,0,0,0,0,0,0,0,0,0,0,0,0,0,0,0,0,0,0,0,0,0,0,0,0,0,0,0,0,0,0,0,0,0,0,0,0,0,0,0,0,0,0,0,0,0,0,0,0,0,0,0,0,0,0,0,0,0,0,0,0,0,0,0,0,0,0,0,0,0,0,0,0,0,0,0,0,0,0,0,0,0,0,0,0,0,0,0,0,0,0,0,0,0,0,0,0,0,0,0,0,0,0,0,0,0,0,0,0,0,0,0,0,0,0,0,0,0,0,0,0,0,0,0,0,0,0,0,0,0,0,0,0,0,0,0,0,0,0,0,0,0,0,0,0,0,0,0,0,0,0,0,0,0,0,0,0,0,0,0,0,0,0,0,0]
[7,0,0,0,0,0,0,0,0,0,0,0,0,0,0,0,0,0,0,0,0,0,0,0,0,0,0,0,0,0,0,0,0,0,0,0,0,0,0,0,0,0,0,0,0,0,0,0,0,0,0,0,0,0,0,0,0,0,0,0,0,0,0,0,0,0,0,0,0,0,0,0,0,0,0,0,0,0,0,0,0,0,0,0,0,0,0,0,0,0,0,0,0,0,0,0,0,0,0,0,0,0,0,0,0,0,0,0,0,0,0,0,0,0,0,0,0,0,0,0,0,0,0,0,0,0,0,0,0,0,0,0,0,0,0,0,0,0,0,0,0,0,0,0,0,0,0,0,0,0,0,0,0,0,0,0,0,0,0,0,0,0,0,0,0,0,0,0,0,0,0,0,0,0,0,0,0,0,0,0,0,0,0,0,0,0,0,0,0,0,0,0,0,0,0,0,0,0,0,0,0,0,0,0,0,0,0,0,0,0,0,0,0,0,0,0,0,0,0,0,0,0,0,0,0,0,0,0,0,0,0,0,0,0,0,0,0]
[8,0,0,0,0,0,0,0,0,0,0,0,0,0,0,0,0,0,0,0,0,0,0,0,0,0,0,0,0,0,0,0,0,0,0,0,0,0,0,0,0,0,0,0,0,0,0,0,0,0,0,0,0,0,0,0,0,0,0,0,0,0,0,0,0,0,0,0,0,0,0,0,0,0,0,0,0,0,0,0,0,0,0,0,0,0,0,0,0,0,0,0,0,0,0,0,0,0,0,0,0,0,0,0,0,0,0,0,0,0,0,0,0,0,0,0,0,0,0,0,0,0,0,0,0,0,0,0,0,0,0,0,0,0,0,0,0,0,0,0,0,0,0,0,0,0,0,0,0,0,0,0,0,0,0,0,0,0,0,0,0,0,0,0,0,0,0,0,0,0,0,0,0,0,0,0,0,0,0,0,0,0,0,0,0,0,0,0,0,0,0,0,0,0,0,0,0,0,0,0,0,0,0,0,0,0,0,0,0,0,0,0,0,0,0,0,0,0,0,0,0,0,0,0,0,0,0,0,0,0,0,0,0,0,0,0,0]
[9,0,0,0,0,0,0,0,0,0,0,0,0,0,0,0,0,0,0,0,0,0,0,0,0,0,0,0,0,0,0,0,0,0,0,0,0,0,0,0,0,0,0,0,0,0,0,0,0,0,0,0,0,0,0,0,0,0,0,0,0,0,0,0,0,0,0,0,0,0,0,0,0,0,0,0,0,0,0,0,0,0,0,0,0,0,0,0,0,0,0,0,0,0,0,0,0,0,0,0,0,0,0,0,0,0,0,0,0,0,0,0,0,0,0,0,0,0,0,0,0,0,0,0,0,0,0,0,0,0,0,0,0,0,0,0,0,0,0,0,0,0,0,0,0,0,0,0,0,0,0,0,0,0,0,0,0,0,0,0,0,0,0,0,0,0,0,0,0,0,0,0,0,0,0,0,0,0,0,0,0,0,0,0,0,0,0,0,0,0,0,0,0,0,0,0,0,0,0,0,0,0,0,0,0,0,0,0,0,0,0,0,0,0,0,0,0,0,0,0,0,0,0,0,0,0,0,0,0,0,0,0,0,0,0,0,0]
[10,0,0,0,0,0,0,0,0,0,0,0,0,0,0,0,0,0,0,0,0,0,0,0,0,0,0,0,0,0,0,0,0,0,0,0,0,0,0,0,0,0,0,0,0,0,0,0,0,0,0,0,0,0,0,0,0,0,0,0,0,0,0,0,0,0,0,0,0,0,0,0,0,0,0,0,0,0,0,0,0,0,0,0,0,0,0,0,0,0,0,0,0,0,0,0,0,0,0,0,0,0,0,0,0,0,0,0,0,0,0,0,0,0,0,0,0,0,0,0,0,0,0,0,0,0,0,0,0,0,0,0,0,0,0,0,0,0,0,0,0,0,0,0,0,0,0,0,0,0,0,0,0,0,0,0,0,0,0,0,0,0,0,0,0,0,0,0,0,0,0,0,0,0,0,0,0,0,0,0,0,0,0,0,0,0,0,0,0,0,0,0,0,0,0,0,0,0,0,0,0,0,0,0,0,0,0,0,0,0,0,0,0,0,0,0,0,0,0,0,0,0,0,0,0,0,0,0,0,0,0,0,0,0,0,0,0]
[11,0,0,0,0,0,0,0,0,0,0,0,0,0,0,0,0,0,0,0,0,0,0,0,0,0,0,0,0,0,0,0,0,0,0,0,0,0,0,0,0,0,0,0,0,0,0,0,0,0,0,0,0,0,0,0,0,0,0,0,0,0,0,0,0,0,0,0,0,0,0,0,0,0,0,0,0,0,0,0,0,0,0,0,0,0,0,0,0,0,0,0,0,0,0,0,0,0,0,0,0,0,0,0,0,0,0,0,0,0,0,0,0,0,0,0,0,0,0,0,0,0,0,0,0,0,0,0,0,0,0,0,0,0,0,0,0,0,0,0,0,0,0,0,0,0,0,0,0,0,0,0,0,0,0,0,0,0,0,0,0,0,0,0,0,0,0,0,0,0,0,0,0,0,0,0,0,0,0,0,0,0,0,0,0,0,0,0,0,0,0,0,0,0,0,0,0,0,0,0,0,0,0,0,0,0,0,0,0,0,0,0,0,0,0,0,0,0,0,0,0,0,0,0,0,0,0,0,0,0,0,0,0,0,0,0,0]
["Total general",0,0,0,0,0,0,0,0,0,0,0,0,0,0,0,0,0,0,0,0,0,0,0,0,0,0,0,0,0,0,0,0,0,0,0,0,0,0,0,0,0,0,0,0,0,0,0,0,0,0,0,0,0,0,0,0,0,0,0,0,0,0,0,0,0,0,0,0,0,0,0,0,0,0,0,0,0,0,0,0,0,0,0,0,0,0,0,0,0,0,0,0,0,0,0,0,0,0,0,0,0,0,0,0,0,0,0,0,0,0,0,0,0,0,0,0,0,0,0,0,0,0,0,0,0,0,0,0,0,0,0,0,0,0,0,0,0,0,0,0,0,0,0,0,0,0,0,0,0,0,0,0,0,0,0,0,0,0,0,0,0,0,0,0,0,0,0,0,0,0,0,0,0,0,0,0,0,0,0,0,0,0,0,0,0,0,0,0,0,0,0,0,0,0,0,0,0,0,0,0,0,0,0,0,0,0,0,0,0,0,0,0,0,0,0,0,0,0,0,0,0,0,0,0,0,0,0,0,0,0,0,0,0,0,0,0]
[]
[]
["Salud Mental 11"]
["Anio",2024]
["UE","(Todas)"]
["Red","LA CONVENCION"]
["MicroRed","(Todas)"]
["EESS","(Todas)"]
["Provincia","(Todas)"]
["Distrito","(Todas)"]
[]
["Etiquetas de fila","Suma de Atd_TAN_TE_0_2F","Suma de Atd_TAN_TE_0_2M","Suma de Atd_TAN_TE_3_5F","Suma de Atd_TAN_TE_3_5M","Suma de Atd_TAN_TE_6_9F","Suma de Atd_TAN_TE_6_9M","Suma de Atd_TAN_TE_10_11F","Suma de Atd_TAN_TE_10_11M","Suma de Atd_TAN_TE_12_14F","Suma de Atd_TAN_TE_12_14M","Suma de Atd_TAN_TE_15_17F","Suma de Atd_TAN_TE_15_17M","Suma de Atd_TAN_TE_18_24F","Suma de Atd_TAN_TE_18_24M","Suma de Atd_TAN_TE_25_29F","Suma de Atd_TAN_TE_25_29M","Suma de Atd_TAN_TE_30_39F","Suma de Atd_TAN_TE_30_39M","Suma de Atd_TAN_TE_40_59F","Suma de Atd_TAN_TE_40_59M","Suma de Atd_TAN_TE_60_79F","Suma de Atd_TAN_TE_60_79M","Suma de Atd_TAN_TE_80F","Suma de Atd_TAN_TE_80M","Suma de Atd_TCA_TE_3_5F","Suma de Atd_TCA_TE_3_5M","Suma de Atd_TCA_TE_6_9F","Suma de Atd_TCA_TE_6_9M","Suma de Atd_TCA_TE_10_11F","Suma de Atd_TCA_TE_10_11M","Suma de Atd_TCA_TE_12_14F","Suma de Atd_TCA_TE_12_14M","Suma de Atd_TCA_TE_15_17F","Suma de Atd_TCA_TE_15_17M","Suma de Atd_TCA_TE_18_24F","Suma de Atd_TCA_TE_18_24M","Suma de Atd_TCA_TE_25_29F","Suma de Atd_TCA_TE_25_29M","Suma de Atd_TCA_TE_30_39F","Suma de Atd_TCA_TE_30_39M","Suma de Atd_TCA_TE_40_59F","Suma de Atd_TCA_TE_40_59M","Suma de Atd_TCA_TE_60_79F","Suma de Atd_TCA_TE_60_79M","Suma de Atd_TCA_TE_80F","Suma de Atd_TCA_TE_80M","Suma de Atd_DAOD_TE_3_5F","Suma de Atd_DAOD_TE_3_5M","Suma de Atd_DAOD_TE_6_9F","Suma de Atd_DAOD_TE_6_9M","Suma de Atd_DAOD_TE_10_11F","Suma de Atd_DAOD_TE_10_11M","Suma de Atd_DAOD_TE_12_14F","Suma de Atd_DAOD_TE_12_14M","Suma de Atd_DAOD_TE_15_17F","Suma de Atd_DAOD_TE_15_17M","Suma de Atd_DAOD_TE_18_24F","Suma de Atd_DAOD_TE_18_24M","Suma de Atd_DAOD_TE_25_29F","Suma de Atd_DAOD_TE_25_29M","Suma de Atd_DAOD_TE_30_39F","Suma de Atd_DAOD_TE_30_39M","Suma de Atd_DAOD_TE_40_59F","Suma de Atd_DAOD_TE_40_59M","Suma de Atd_DAOD_TE_60_79F","Suma de Atd_DAOD_TE_60_79M","Suma de Atd_DAOD_TE_80F","Suma de Atd_DAOD_TE_80M","Suma de Atd_RPS_TE_3_5F","Suma de Atd_RPS_TE_3_5M","Suma de Atd_RPS_TE_6_9F","Suma de Atd_RPS_TE_6_9M","Suma de Atd_RPS_TE_10_11F","Suma de Atd_RPS_TE_10_11M","Suma de Atd_RPS_TE_12_14F","Suma de Atd_RPS_TE_12_14M","Suma de Atd_RPS_TE_15_17F","Suma de Atd_RPS_TE_15_17M","Suma de Atd_RPS_TE_18_24F","Suma de Atd_RPS_TE_18_24M","Suma de Atd_RPS_TE_25_29F","Suma de Atd_RPS_TE_25_29M","Suma de Atd_RPS_TE_30_39F","Suma de Atd_RPS_TE_30_39M","Suma de Atd_RPS_TE_40_59F","Suma de Atd_RPS_TE_40_59M","Suma de Atd_RPS_TE_60_79F","Suma de Atd_RPS_TE_60_79M","Suma de Atd_RPS_TE_80F","Suma de Atd_RPS_TE_80M","Suma de Atd_TPS_TNE_3_5F","Suma de Atd_TPS_TNE_3_5M","Suma de Atd_TPS_TNE_6_9F","Suma de Atd_TPS_TNE_6_9M","Suma de Atd_TPS_TNE_10_11F","Suma de Atd_TPS_TNE_10_11M","Suma de Atd_TPS_TNE_12_14F","Suma de Atd_TPS_TNE_12_14M","Suma de Atd_TPS_TNE_15_17F","Suma de Atd_TPS_TNE_15_17M","Suma de Atd_TPS_TNE_18_24F","Suma de Atd_TPS_TNE_18_24M","Suma de Atd_TPS_TNE_25_29F","Suma de Atd_TPS_TNE_25_29M","Suma de Atd_TPS_TNE_30_39F","Suma de Atd_TPS_TNE_30_39M","Suma de Atd_TPS_TNE_40_59F","Suma de Atd_TPS_TNE_40_59M","Suma de Atd_TPS_TNE_60_79F","Suma de Atd_TPS_TNE_60_79M","Suma de Atd_TPS_TNE_80F","Suma de Atd_TPS_TNE_80M","Suma de Atd_TPS_TE_3_5F","Suma de Atd_TPS_TE_3_5M","Suma de Atd_TPS_TE_6_9F","Suma de Atd_TPS_TE_6_9M","Suma de Atd_TPS_TE_10_11F","Suma de Atd_TPS_TE_10_11M","Suma de Atd_TPS_TE_12_14F","Suma de Atd_TPS_TE_12_14M","Suma de Atd_TPS_TE_15_17F","Suma de Atd_TPS_TE_15_17M","Suma de Atd_TPS_TE_18_24F","Suma de Atd_TPS_TE_18_24M","Suma de Atd_TPS_TE_25_29F","Suma de Atd_TPS_TE_25_29M","Suma de Atd_TPS_TE_30_39F","Suma de Atd_TPS_TE_30_39M","Suma de Atd_TPS_TE_40_59F","Suma de Atd_TPS_TE_40_59M","Suma de Atd_TPS_TE_60_79F","Suma de Atd_TPS_TE_60_79M","Suma de Atd_TPS_TE_80F","Suma de Atd_TPS_TE_80M","Suma de Atd_TPS1_TE_0_2F","Suma de Atd_TPS1_TE_0_2M","Suma de Atd_TPS1_TE_3_5F","Suma de Atd_TPS1_TE_3_5M","Suma de Atd_TPS1_TE_6_9F","Suma de Atd_TPS1_TE_6_9M","Suma de Atd_TPS1_TE_10_11F","Suma de Atd_TPS1_TE_10_11M","Suma de Atd_TPS1_TE_12_14F","Suma de Atd_TPS1_TE_12_14M","Suma de Atd_TPS1_TE_15_17F","Suma de Atd_TPS1_TE_15_17M","Suma de Atd_TPS1_TE_18_24F","Suma de Atd_TPS1_TE_18_24M","Suma de Atd_TPS1_TE_25_29F","Suma de Atd_TPS1_TE_25_29M","Suma de Atd_TPS1_TE_30_39F","Suma de Atd_TPS1_TE_30_39M","Suma de Atd_TPS1_TE_40_59F","Suma de Atd_TPS1_TE_40_59M","Suma de Atd_TPS1_TE_60_79F","Suma de Atd_TPS1_TE_60_79M","Suma de Atd_TPS1_TE_80F","Suma de Atd_TPS1_TE_80M","Suma de Atd_DCog_TE_30_39F","Suma de Atd_DCog_TE_30_39M","Suma de Atd_DCog_TE_40_59F","Suma de Atd_DCog_TE_40_59M","Suma de Atd_DCog_TE_60_79F","Suma de Atd_DCog_TE_60_79M","Suma de Atd_DCog_TE_80F","Suma de Atd_DCog_TE_80M","Suma de Atd_CSD_DS_TE_30_39F","Suma de Atd_CSD_DS_TE_30_39M","Suma de Atd_CSD_DS_TE_40_59F","Suma de Atd_CSD_DS_TE_40_59M","Suma de Atd_CSD_DS_TE_60_79F","Suma de Atd_CSD_DS_TE_60_79M","Suma de Atd_CSD_DS_TE_80F","Suma de Atd_CSD_DS_TE_80M","Suma de Atd_TPS_Grav_TE_0_2F","Suma de Atd_TPS_Grav_TE_0_2M","Suma de Atd_TPS_Grav_TE_3_5F","Suma de Atd_TPS_Grav_TE_3_5M","Suma de Atd_TPS_Grav_TE_6_9F","Suma de Atd_TPS_Grav_TE_6_9M","Suma de Atd_TPS_Grav_TE_10_11F","Suma de Atd_TPS_Grav_TE_10_11M","Suma de Atd_TPS_Grav_TE_12_14F","Suma de Atd_TPS_Grav_TE_12_14M","Suma de Atd_TPS_Grav_TE_15_17F","Suma de Atd_TPS_Grav_TE_15_17M","Suma de Atd_TPS_Grav_TE_18_24F","Suma de Atd_TPS_Grav_TE_18_24M","Suma de Atd_TPS_Grav_TE_25_29F","Suma de Atd_TPS_Grav_TE_25_29M","Suma de Atd_TPS_Grav_TE_30_39F","Suma de Atd_TPS_Grav_TE_30_39M","Suma de Atd_TPS_Grav_TE_40_59F","Suma de Atd_TPS_Grav_TE_40_59M","Suma de Atd_TPS_Grav_TE_60_79F","Suma de Atd_TPS_Grav_TE_60_79M","Suma de Atd_TPS_Grav_TE_80F","Suma de Atd_TPS_Grav_TE_80M","Suma de CSMC_R1","Suma de CSMC_R2","Suma de CSMC_R3","Suma de AuCui_RP","Suma de ComuAs_RP","Suma de ExpEm_RP","Suma de Dina_RP","Suma de EntSa_RP","Suma de AuCui_RP_P","Suma de ComuAs_RP_P","Suma de ExpEm_RP_P","Suma de Dina_RP_P","Suma de EntSa_RP_P","Suma de AuCui_RV","Suma de ComuAs_RV","Suma de ExpEm_RV","Suma de Dina_RV","Suma de EntSa_RV","Suma de AuCui_RV_P","Suma de ComuAs_RV_P","Suma de ExpEm_RV_P","Suma de Dina_RV_P","Suma de EntSa_RV_P","Suma de ENCF_1","Suma de ENCF_2","Suma de ENCF_3","Suma de ENCF_4","Suma de ENCF_1_P","Suma de ENCF_2_P","Suma de ENCF_3_P","Suma de ENCF_4_P","Suma de ENCF_RS","Suma de ENCF_MI","Suma de NHPA_RS","Suma de NHPA_MI"]
[1,0,0,0,0,0,0,0,0,0,0,0,0,0,0,0,0,0,0,0,0,0,0,0,0,0,0,0,0,0,0,0,0,0,0,0,0,0,0,0,0,0,0,0,0,0,0,0,0,0,0,0,0,0,0,0,0,0,0,0,0,0,0,0,0,0,0,0,0,0,0,0,0,0,0,0,0,0,0,0,0,0,0,0,0,0,0,0,0,0,0,0,0,0,0,0,0,0,0,0,0,0,0,0,0,0,0,0,0,0,0,0,0,0,0,0,0,0,0,0,0,0,0,0,0,0,0,0,0,0,0,0,0,0,0,0,0,0,0,0,0,0,0,0,0,0,0,0,0,0,0,0,0,0,0,0,0,0,0,0,0,0,0,0,0,0,0,0,0,0,0,0,0,0,0,0,0,0,0,0,0,0,0,0,0,0,0,0,0,0,0,0,0,0,0,0,0,0,0,36,3,4,0,0,0,0,0,0,0,0,0,0,0,0,0,0,0,0,0,0,0,0,0,0,0,0,0,0,0,0,0,0,0,0]
[2,0,0,0,0,0,0,0,0,0,0,0,0,0,0,0,0,0,0,0,0,0,0,0,0,0,0,0,0,0,0,0,0,0,0,0,0,0,0,0,0,0,0,0,0,0,0,0,0,0,0,0,0,0,0,0,0,0,0,0,0,0,0,0,0,0,0,0,0,0,0,0,0,0,0,0,0,0,0,0,0,0,0,0,0,0,0,0,0,0,0,0,0,0,0,0,0,0,0,0,0,0,0,0,0,0,0,0,0,0,0,0,0,0,0,0,0,0,0,0,0,0,0,0,0,0,0,0,0,0,0,0,0,0,0,0,0,0,0,0,0,0,0,0,0,0,0,0,0,0,0,0,0,0,0,0,0,0,0,0,0,0,0,0,0,0,0,0,0,0,0,0,0,0,0,0,0,0,0,0,0,0,0,0,0,0,0,0,0,0,0,0,0,0,0,0,0,0,0,15,1,0,0,0,0,0,0,0,0,0,0,0,0,0,0,0,0,0,0,0,0,0,0,0,0,0,0,0,0,0,0,0,0,0]
[3,0,0,0,0,0,0,0,0,0,0,0,0,0,0,0,0,0,0,0,0,0,0,0,0,0,0,0,0,0,0,0,0,0,0,0,0,0,0,0,0,0,0,0,0,0,0,0,0,0,0,0,0,0,0,0,0,0,0,0,0,0,0,0,0,0,0,0,0,0,0,0,0,0,0,0,0,0,0,0,0,0,0,0,0,0,0,0,0,0,0,0,0,0,0,0,0,0,0,0,0,0,0,0,0,0,0,0,0,0,0,0,0,0,0,0,0,0,0,0,0,0,0,0,0,0,0,0,0,0,0,0,0,0,0,0,0,0,0,0,0,0,0,0,0,0,0,0,0,0,0,0,0,0,0,0,0,0,0,0,0,0,0,0,0,0,0,0,0,0,0,0,0,0,0,0,0,0,0,0,0,0,0,0,0,0,0,0,0,0,0,0,0,0,0,0,0,0,0,15,3,0,0,0,0,0,0,0,0,0,0,0,0,0,0,0,0,0,0,0,0,0,0,0,0,0,0,0,0,0,0,0,0,0]
[4,0,0,0,0,0,0,0,0,0,0,0,0,0,0,0,0,0,0,0,0,0,0,0,0,0,0,0,0,0,0,0,0,0,0,0,0,0,0,0,0,0,0,0,0,0,0,0,0,0,0,0,0,0,0,0,0,0,0,0,0,0,0,0,0,0,0,0,0,0,0,0,0,0,0,0,0,0,0,0,0,0,0,0,0,0,0,0,0,0,0,0,0,0,0,0,0,0,0,0,0,0,0,0,0,0,0,0,0,0,0,0,0,0,0,0,0,0,0,0,0,0,0,0,0,0,0,0,0,0,0,0,0,0,0,0,0,0,0,0,0,0,0,0,0,0,0,0,0,0,0,0,0,0,0,0,0,0,0,0,0,0,0,0,0,0,0,0,0,0,0,0,0,0,0,0,0,0,0,0,0,0,0,0,0,0,0,0,0,0,0,0,0,0,0,0,0,0,0,26,7,0,0,0,0,0,0,0,0,0,0,0,0,0,0,0,0,0,0,0,0,0,0,0,0,0,0,0,0,0,0,0,0,0]
[5,0,0,0,0,0,0,0,0,0,0,0,0,0,0,0,0,0,0,0,0,0,0,0,0,0,0,0,0,0,0,0,0,0,0,0,0,0,0,0,0,0,0,0,0,0,0,0,0,0,0,0,0,0,0,0,0,0,0,0,0,0,0,0,0,0,0,0,0,0,0,0,0,0,0,0,0,0,0,0,0,0,0,0,0,0,0,0,0,0,0,0,0,0,0,0,0,0,0,0,0,0,0,0,0,0,0,0,0,0,0,0,0,0,0,0,0,0,0,0,0,0,0,0,0,0,0,0,0,0,0,0,0,0,0,0,0,0,0,0,0,0,0,0,0,0,0,0,0,0,0,0,0,0,0,0,0,0,0,0,0,0,0,0,0,0,0,0,0,0,0,0,0,0,0,0,0,0,0,0,0,0,0,0,0,0,0,0,0,0,0,0,0,0,0,0,0,0,0,14,4,0,0,0,0,0,0,0,0,0,0,0,0,0,0,0,0,0,0,0,0,0,0,0,0,0,0,0,0,0,0,0,0,0]
[6,0,0,0,0,0,0,0,0,0,0,0,0,0,0,0,0,0,0,0,0,0,0,0,0,0,0,0,0,0,0,0,0,0,0,0,0,0,0,0,0,0,0,0,0,0,0,0,0,0,0,0,0,0,0,0,0,0,0,0,0,0,0,0,0,0,0,0,0,0,0,0,0,0,0,0,0,0,0,0,0,0,0,0,0,0,0,0,0,0,0,0,0,0,0,0,0,0,0,0,0,0,0,0,0,0,0,0,0,0,0,0,0,0,0,0,0,0,0,0,0,0,0,0,0,0,0,0,0,0,0,0,0,0,0,0,0,0,0,0,0,0,0,0,0,0,0,0,0,0,0,0,0,0,0,0,0,0,0,0,0,0,0,0,0,0,0,0,0,0,0,0,0,0,0,0,0,0,0,0,0,0,0,0,0,0,0,0,0,0,0,0,0,0,0,0,0,0,0,39,4,3,0,0,0,0,0,0,0,0,0,0,0,0,0,0,0,0,0,0,0,0,0,0,0,0,0,0,0,0,0,0,0,0]
[7,0,0,0,0,0,0,0,0,0,0,0,0,0,0,0,0,0,0,0,0,0,0,0,0,0,0,0,0,0,0,0,0,0,0,0,0,0,0,0,0,0,0,0,0,0,0,0,0,0,0,0,0,0,0,0,0,0,0,0,0,0,0,0,0,0,0,0,0,0,0,0,0,0,0,0,0,0,0,0,0,0,0,0,0,0,0,0,0,0,0,0,0,0,0,0,0,0,0,0,0,0,0,0,0,0,0,0,0,0,0,0,0,0,0,0,0,0,0,0,0,0,0,0,0,0,0,0,0,0,0,0,0,0,0,0,0,0,0,0,0,0,0,0,0,0,0,0,0,0,0,0,0,0,0,0,0,0,0,0,0,0,0,0,0,0,0,0,0,0,0,0,0,0,0,0,0,0,0,0,0,0,0,0,0,0,0,0,0,0,0,0,0,0,0,0,0,0,0,4,1,0,0,0,0,0,0,0,0,0,0,0,0,0,0,0,0,0,0,0,0,0,0,0,0,0,0,0,0,0,0,0,0,0]
[8,0,0,0,0,0,0,0,0,0,0,0,0,0,0,0,0,0,0,0,0,0,0,0,0,0,0,0,0,0,0,0,0,0,0,0,0,0,0,0,0,0,1,0,0,0,0,0,0,0,0,0,0,0,0,0,0,0,0,0,0,0,0,0,0,0,0,0,0,0,0,0,0,0,0,0,0,0,0,0,0,0,0,0,0,0,0,0,0,0,0,0,0,0,0,0,0,0,0,0,0,0,0,0,0,0,0,0,0,0,0,0,0,0,0,0,0,0,0,0,0,0,0,0,0,0,0,0,0,0,0,0,0,0,0,0,0,0,0,0,0,0,0,0,0,0,0,0,0,0,0,0,0,0,0,0,0,0,0,0,0,0,0,0,0,0,0,0,0,0,0,0,0,0,0,0,0,0,0,0,0,0,0,0,0,0,0,0,0,0,0,0,0,0,0,0,0,0,0,1,0,0,0,0,0,0,0,0,0,0,0,0,0,0,0,0,0,0,0,0,0,0,0,0,0,0,0,0,0,0,0,0,0,0]
[9,0,0,0,0,0,0,0,0,0,0,0,0,0,0,0,0,0,0,0,0,0,0,0,0,0,0,0,0,0,0,0,0,0,0,0,0,0,0,0,0,0,0,0,0,0,0,0,0,0,0,0,0,0,0,0,0,0,0,0,0,0,0,0,0,0,0,0,0,0,0,0,0,0,0,0,0,0,0,0,0,0,0,0,0,0,0,0,0,0,0,0,0,0,0,0,0,0,0,0,0,0,0,0,0,0,0,0,0,0,0,0,0,0,0,0,0,0,0,0,0,0,0,0,0,0,0,0,0,0,0,0,0,0,0,0,0,0,0,0,0,0,0,0,0,0,0,0,0,0,0,0,0,0,0,0,0,0,0,0,0,0,0,0,0,0,0,0,0,0,0,0,0,0,0,0,0,0,0,0,0,0,0,0,0,0,0,0,0,0,0,0,0,0,0,0,0,0,0,7,0,1,0,0,0,0,0,0,0,0,0,0,0,0,0,0,0,0,0,0,0,0,0,0,0,0,0,0,0,0,0,0,0,0]
[10,0,0,0,0,0,0,0,0,0,0,0,0,0,0,0,0,0,0,0,0,0,0,0,0,0,0,0,0,0,0,0,0,0,0,0,0,0,0,0,0,0,0,0,0,0,0,0,0,0,0,0,0,0,0,0,0,0,0,0,0,0,0,0,0,0,0,0,0,0,0,0,0,0,0,0,0,0,0,0,0,0,0,0,0,0,0,0,0,0,0,0,0,0,0,0,0,0,0,0,0,0,0,0,0,0,0,0,0,0,0,0,0,0,0,0,0,0,0,0,0,0,0,0,0,0,0,0,0,0,0,0,0,0,0,0,0,0,0,0,0,0,0,0,0,0,0,0,0,0,0,0,0,0,0,0,0,0,0,0,0,0,0,0,0,0,0,0,0,0,0,0,0,0,0,0,0,0,0,0,0,0,0,0,0,0,0,0,0,0,0,0,0,0,0,0,0,0,0,2,0,1,0,0,0,0,0,0,0,0,0,0,0,0,0,0,0,0,0,0,0,0,0,0,0,0,0,0,0,0,0,0,0,0]
[11,0,0,0,0,0,0,0,0,0,0,0,0,0,0,0,0,0,0,0,0,0,0,0,0,0,0,0,0,0,0,0,0,0,0,0,0,0,0,0,0,0,0,0,0,0,0,0,0,0,0,0,0,0,0,0,0,0,0,0,0,0,0,0,0,0,0,0,0,0,0,0,0,0,0,0,0,0,0,0,0,0,0,0,0,0,0,0,0,0,0,0,0,0,0,0,0,0,0,0,0,0,0,0,0,0,0,0,0,0,0,0,0,0,0,0,0,0,0,0,0,0,0,0,0,0,0,0,0,0,0,0,0,0,0,0,0,0,0,0,0,0,0,0,0,0,0,0,0,0,0,0,0,0,0,0,0,0,0,0,0,0,0,0,0,0,0,0,0,0,0,0,0,0,0,0,0,0,0,0,0,0,0,0,0,0,0,0,0,0,0,0,0,0,0,0,0,0,0,7,2,0,0,0,0,0,0,0,0,0,0,0,0,0,0,0,0,0,0,0,0,0,0,0,0,0,0,0,0,0,0,0,0,0]
["Total general",0,0,0,0,0,0,0,0,0,0,0,0,0,0,0,0,0,0,0,0,0,0,0,0,0,0,0,0,0,0,0,0,0,0,0,0,0,0,0,0,0,1,0,0,0,0,0,0,0,0,0,0,0,0,0,0,0,0,0,0,0,0,0,0,0,0,0,0,0,0,0,0,0,0,0,0,0,0,0,0,0,0,0,0,0,0,0,0,0,0,0,0,0,0,0,0,0,0,0,0,0,0,0,0,0,0,0,0,0,0,0,0,0,0,0,0,0,0,0,0,0,0,0,0,0,0,0,0,0,0,0,0,0,0,0,0,0,0,0,0,0,0,0,0,0,0,0,0,0,0,0,0,0,0,0,0,0,0,0,0,0,0,0,0,0,0,0,0,0,0,0,0,0,0,0,0,0,0,0,0,0,0,0,0,0,0,0,0,0,0,0,0,0,0,0,0,0,0,166,25,9,0,0,0,0,0,0,0,0,0,0,0,0,0,0,0,0,0,0,0,0,0,0,0,0,0,0,0,0,0,0,0,0]
[]
[]
["Salud Mental 12"]
["Anio",2024]
["UE","(Todas)"]
["Red","LA CONVENCION"]
["MicroRed","(Todas)"]
["EESS","(Todas)"]
["Provincia","(Todas)"]
["Distrito","(Todas)"]
[]
["Etiquetas de fila","Suma de AC_Coord_R1","Suma de AC_Coord_R2","Suma de AC_Coord_R3","Suma de AC_Coord_R4","Suma de AC_Sensib_R1","Suma de AC_Sensib_R2","Suma de AC_Sensib_R3","Suma de AC_Sensib_R4","Suma de AC_Org_R1","Suma de AC_Org_R2","Suma de AC_Org_R3","Suma de AC_Org_R4","Suma de AC_Pla_R1","Suma de AC_Pla_R2","Suma de AC_Pla_R3","Suma de AC_Pla_R4","Suma de AC_Eje_R1","Suma de AC_Eje_R2","Suma de AC_Eje_R3","Suma de AC_Eje_R4","Suma de AC_Eva_R1","Suma de AC_Eva_R2","Suma de AC_Eva_R3","Suma de AC_Eva_R4","Suma de AC_Coord_P1","Suma de AC_Coord_P2","Suma de AC_Coord_P3","Suma de AC_Coord_P4","Suma de AC_Sensib_P1","Suma de AC_Sensib_P2","Suma de AC_Sensib_P3","Suma de AC_Sensib_P4","Suma de AC_Org_P1","Suma de AC_Org_P2","Suma de AC_Org_P3","Suma de AC_Org_P4","Suma de AC_Pla_P1","Suma de AC_Pla_P2","Suma de AC_Pla_P3","Suma de AC_Pla_P4","Suma de AC_Eje_P1","Suma de AC_Eje_P2","Suma de AC_Eje_P3","Suma de AC_Eje_P4","Suma de AC_Eva_P1","Suma de AC_Eva_P2","Suma de AC_Eva_P3","Suma de AC_Eva_P4","Suma de RORG_1","Suma de RORG_2","Suma de RORG_3","Suma de TAMU_S1","Suma de TAMU_S2","Suma de TAMU_S3","Suma de TAMU_S4","Suma de TAMU_S5","Suma de TAMU_S6","Suma de TAMU_S7","Suma de TAMU_S8","Suma de TAMU_S9","Suma de TAMU_P1","Suma de TAMU_P2","Suma de TAMU_P3","Suma de TAMU_P4","Suma de TAMU_P5","Suma de TAMU_P6","Suma de TAMU_P7","Suma de TAMU_P8","Suma de TAMU_P9","Suma de RCON_1","Suma de RCON_2","Suma de RCON_3","Suma de T_CPSM_R1","Suma de T_CMSM_R2","Suma de T_HBDP_R3","Suma de T_POCO_R4","Suma de T_CPSM_P1","Suma de T_CPSM_P2","Suma de T_CPSM_P3","Suma de T_CPSM_P4","Suma de RDMF_PSC","Suma de RAMF_PSC","Suma de RAFI_PSC","Suma de RDMF_PCC","Suma de RAMF_PCC","Suma de RAFI_PCC","Suma de RDMF_PESC","Suma de RAMF_PESC","Suma de RAFI_PESC","Suma de RDMF_PECC","Suma de RAMF_PECC","Suma de RAFI_PECC","Suma de RDMF_PSC_V","Suma de RAMF_PSC_V","Suma de RAFI_PSC_V","Suma de RDMF_PCC_V","Suma de RAMF_PCC_V","Suma de RAFI_PCC_V","Suma de RDMF_PESC_V","Suma de RAMF_PESC_V","Suma de RAFI_PESC_V","Suma de RDMF_PECC_V","Suma de RAMF_PECC_V","Suma de RAFI_PECC_V","Suma de RDMF_II_PSC","Suma de RAMF_II_PSC","Suma de RAFI_II_PSC","Suma de RDMF_II_PSC2","Suma de RAMF_II_PSC2","Suma de RAFI_II_PSC2","Suma de RDMF_II_PCC","Suma de RAMF_II_PCC","Suma de RAFI_II_PCC","Suma de RDMF_II_PCC2","Suma de RAMF_II_PCC2","Suma de RAFI_II_PCC2","Suma de RDMF_II_PESC","Suma de RAMF_II_PESC","Suma de RAFI_II_PESC","Suma de RDMF_II_PESC2","Suma de RAMF_II_PESC2","Suma de RAFI_II_PESC2","Suma de RDMF_II_PECC","Suma de RAMF_II_PECC","Suma de RAFI_II_PECC","Suma de RDMF_II_PECC2","Suma de RAMF_II_PECC2","Suma de RAFI_II_PECC2","Suma de RDMF_II_PSC_V","Suma de RAMF_II_PSC_V","Suma de RAFI_II_PSC_V","Suma de RDMF_II_PSC2_V","Suma de RAMF_II_PSC2_V","Suma de RAFI_II_PSC2_V","Suma de RDMF_II_PCC_V","Suma de RAMF_II_PCC_V","Suma de RAFI_II_PCC_V","Suma de RDMF_II_PCC2_V","Suma de RAMF_II_PCC2_V","Suma de RAFI_II_PCC2_V","Suma de RDMF_II_PESC_V","Suma de RAMF_II_PESC_V","Suma de RAFI_II_PESC_V","Suma de RDMF_II_PESC2_V","Suma de RAMF_II_PESC2_V","Suma de RAFI_II_PESC2_V","Suma de RDMF_II_PECC_V","Suma de RAMF_II_PECC_V","Suma de RAFI_II_PECC_V","Suma de RDMF_II_PECC2_V","Suma de RAMF_II_PECC2_V","Suma de RAFI_II_PECC2_V","Suma de RDMF_IF_PSC","Suma de RAMF_IF_PSC","Suma de RAFI_IF_PSC","Suma de RDMF_IF_PSC2","Suma de RAMF_IF_PSC2","Suma de RAFI_IF_PSC2","Suma de RDMF_IF_PCC","Suma de RAMF_IF_PCC","Suma de RAFI_IF_PCC","Suma de RDMF_IF_PCC2","Suma de RAMF_IF_PCC2","Suma de RAFI_IF_PCC2","Suma de RDMF_IF_PESC","Suma de RAMF_IF_PESC","Suma de RAFI_IF_PESC","Suma de RDMF_IF_PESC2","Suma de RAMF_IF_PESC2","Suma de RAFI_IF_PESC2","Suma de RDMF_IF_PECC","Suma de RAMF_IF_PECC","Suma de RAFI_IF_PECC","Suma de RDMF_IF_PECC2","Suma de RAMF_IF_PECC2","Suma de RAFI_IF_PECC2","Suma de RDMF_IF_PSC_V","Suma de RAMF_IF_PSC_V","Suma de RAFI_IF_PSC_V","Suma de RDMF_IF_PSC2_V","Suma de RAMF_IF_PSC2_V","Suma de RAFI_IF_PSC2_V","Suma de RDMF_IF_PCC_V","Suma de RAMF_IF_PCC_V","Suma de RAFI_IF_PCC_V","Suma de RDMF_IF_PCC2_V","Suma de RAMF_IF_PCC2_V","Suma de RAFI_IF_PCC2_V","Suma de RDMF_IF_PESC_V","Suma de RAMF_IF_PESC_V","Suma de RAFI_IF_PESC_V","Suma de RDMF_IF_PESC2_V","Suma de RAMF_IF_PESC2_V","Suma de RAFI_IF_PESC2_V","Suma de RDMF_IF_PECC_V","Suma de RAMF_IF_PECC_V","Suma de RAFI_IF_PECC_V","Suma de RDMF_IF_PECC2_V","Suma de RAMF_IF_PECC2_V","Suma de RAFI_IF_PECC2_V","Suma de IGPS_P_R1","Suma de IGPS_P_P1","Suma de IGPS_V_R1","Suma de IGPS_V_P1","Suma de IGCO_P_R1","Suma de IGCO_P_P1","Suma de IGCO_V_R1","Suma de IGCO_V_P1","Suma de SEPC_S1","Suma de SEPC_S2","Suma de SEPC_S3","Suma de SEPC_S4","Suma de SEPC_S5","Suma de SEPC_S6","Suma de SEPC_S7","Suma de SEPC_P1","Suma de SEPC_P2","Suma de SEPC_P3","Suma de SEPC_P4","Suma de SEPC_P5","Suma de SEPC_P6","Suma de SEPC_P7","Suma de ENCFH_1","Suma de ENCFH_2","Suma de ENCFH_3","Suma de ENCFH_4","Suma de ENCFH_1_P","Suma de ENCFH_2_P","Suma de ENCFH_3_P","Suma de ENCFH_4_P"]
[1,0,0,0,0,0,0,0,0,0,0,0,0,0,0,0,0,0,0,0,0,0,0,0,0,0,0,0,0,0,0,0,0,0,0,0,0,0,0,0,0,0,0,0,0,0,0,0,0,0,0,0,0,0,0,0,0,0,0,0,0,0,0,0,0,0,0,0,0,0,0,0,0,0,0,0,0,0,0,0,0,0,0,1,0,0,0,0,0,0,0,0,0,0,0,0,0,0,0,0,0,0,0,0,0,0,0,0,0,0,0,0,0,0,0,0,0,0,0,0,0,0,0,0,0,0,0,0,0,0,0,0,0,0,0,0,0,0,0,0,0,0,0,0,0,0,0,0,0,0,0,0,0,0,0,0,0,0,0,0,0,0,0,0,0,0,0,0,0,0,0,0,0,0,0,0,0,0,0,0,0,0,0,0,0,0,0,0,0,0,0,0,0,0,0,0,0,0,0,0,0,0,0,0,0,0,0,0,0,0,0,0,0,0,0,0,0,0,0,0,0,0,0,0,0,0,0,0,0,0,0]
[2,0,0,0,0,0,0,0,0,0,0,0,0,0,0,0,0,0,0,0,0,0,0,0,0,0,0,0,0,0,0,0,0,0,0,0,0,0,0,0,0,0,0,0,0,0,0,0,0,0,0,0,0,0,0,0,0,0,0,0,0,0,0,0,0,0,0,0,0,0,0,0,0,0,0,0,0,0,0,0,0,0,0,2,0,0,0,0,0,0,0,0,0,0,0,0,0,0,0,0,0,0,0,0,0,0,0,0,0,0,0,0,0,0,0,0,0,0,0,0,0,0,0,0,0,0,0,0,0,0,0,0,0,0,0,0,0,0,0,0,0,0,0,0,0,0,0,0,0,0,0,0,0,0,0,0,0,0,0,0,0,0,0,0,0,0,0,0,0,0,0,0,0,0,0,0,0,0,0,0,0,0,0,0,0,0,0,0,0,0,0,0,0,0,0,0,0,0,0,0,0,0,0,0,0,0,0,0,0,0,0,0,0,0,0,0,0,0,0,0,0,0,0,0,0,0,0,0,0,0,0]
[3,0,0,0,0,0,0,0,0,0,0,0,0,0,0,0,0,0,0,0,0,0,0,0,0,0,0,0,0,0,0,0,0,0,0,0,0,0,0,0,0,0,0,0,0,0,0,0,0,0,0,0,0,0,0,0,0,0,0,0,0,0,0,0,0,0,0,0,0,0,1,0,0,0,0,0,0,0,0,0,0,2,0,0,0,0,0,0,0,0,0,0,0,0,0,0,0,0,0,0,0,0,0,0,0,0,0,0,0,0,0,0,0,0,0,0,0,0,0,0,0,0,0,0,0,0,0,0,0,0,0,0,0,0,0,0,0,0,0,0,0,0,0,0,0,0,0,0,0,0,0,0,0,0,0,0,0,0,0,0,0,0,0,0,0,0,0,0,0,0,0,0,0,0,0,0,0,0,0,0,0,0,0,0,0,0,0,0,0,0,0,0,0,0,0,0,0,0,0,0,0,0,0,0,0,0,0,0,0,0,0,0,0,0,0,0,0,0,0,0,0,0,0,0,0,0,0,0,0,0,0]
[4,0,0,0,0,0,0,0,0,0,0,0,0,0,0,0,0,0,0,0,0,0,0,0,0,0,0,0,0,0,0,0,0,0,0,0,0,0,0,0,0,0,0,0,0,0,0,0,0,0,0,0,0,0,0,0,0,0,0,0,0,0,0,0,0,0,0,0,0,0,0,0,0,0,0,0,0,0,0,0,0,0,0,0,0,0,0,0,0,0,0,0,0,0,0,0,0,0,0,0,0,0,0,0,0,0,0,0,0,0,0,0,0,0,0,0,0,0,0,0,0,0,0,0,0,0,0,0,0,0,0,0,0,0,0,0,0,0,0,0,0,0,0,0,0,0,0,0,0,0,0,0,0,0,0,0,0,0,0,0,0,0,0,0,0,0,0,0,0,0,0,0,0,0,0,0,0,0,0,0,0,0,0,0,0,0,0,0,0,0,0,0,0,0,0,0,0,0,0,0,0,0,0,0,0,0,0,0,0,0,0,0,0,0,0,0,0,0,0,0,0,0,0,0,0,0,0,0,0,0,0]
[5,0,0,0,0,0,0,0,0,0,0,0,0,0,0,0,0,0,0,0,0,0,0,0,0,0,0,0,0,0,0,0,0,0,0,0,0,0,0,0,0,0,0,0,0,0,0,0,0,0,0,0,0,0,0,0,0,0,0,0,0,0,0,0,0,0,0,0,0,0,0,2,0,0,0,0,0,0,0,0,0,0,0,0,0,0,0,0,0,0,0,0,0,0,0,0,0,0,0,0,0,0,0,0,0,0,0,0,0,0,0,0,0,0,0,0,0,0,0,0,0,0,0,0,0,0,0,0,0,0,0,0,0,0,0,0,0,0,0,0,0,0,0,0,0,0,0,0,0,0,0,0,0,0,0,0,0,0,0,0,0,0,0,0,0,0,0,0,0,0,0,0,0,0,0,0,0,0,0,0,0,0,0,0,0,0,0,0,0,0,0,0,0,0,0,0,0,0,0,0,0,0,0,0,0,0,0,0,0,0,0,0,0,0,0,0,0,0,0,0,0,0,0,0,0,0,0,0,0,0,0]
[6,0,0,0,0,0,0,0,0,0,0,0,0,0,0,0,0,0,0,0,0,0,0,0,0,0,0,0,0,0,0,0,0,0,0,0,0,0,0,0,0,0,0,0,0,0,0,0,0,0,0,0,0,0,0,0,0,0,0,0,0,0,0,0,0,0,0,0,0,0,0,0,0,0,0,0,0,0,0,0,0,0,0,0,0,0,0,0,0,0,0,0,0,0,0,0,0,0,0,0,0,0,0,0,0,0,0,0,0,0,0,0,0,0,0,0,0,0,0,0,0,0,0,0,0,0,0,0,0,0,0,0,0,0,0,0,0,0,0,0,0,0,0,0,0,0,0,0,0,0,0,0,0,0,0,0,0,0,0,0,0,0,0,0,0,0,0,0,0,0,0,0,0,0,0,0,0,0,0,0,0,0,0,0,0,0,0,0,0,0,0,0,0,0,0,0,0,0,0,0,0,0,0,0,0,0,0,0,0,0,0,0,0,0,0,0,0,0,0,0,0,0,0,0,0,0,0,0,0,0,0]
[7,0,0,0,0,0,0,0,0,0,0,0,0,0,0,0,0,0,0,0,0,0,0,0,0,0,0,0,0,0,0,0,0,0,0,0,0,0,0,0,0,0,0,0,0,0,0,0,0,0,0,0,0,0,0,0,0,0,0,0,0,0,0,0,0,0,0,0,0,0,0,0,0,0,0,0,0,0,0,0,0,0,0,0,0,0,0,0,0,0,0,0,0,0,0,0,0,0,0,0,0,0,0,0,0,0,0,0,0,0,0,0,0,0,0,0,0,0,0,0,0,0,0,0,0,0,0,0,0,0,0,0,0,0,0,0,0,0,0,0,0,0,0,0,0,0,0,0,0,0,0,0,0,0,0,0,0,0,0,0,0,0,0,0,0,0,0,0,0,0,0,0,0,0,0,0,0,0,0,0,0,0,0,0,0,0,0,0,0,0,0,0,0,0,0,0,0,0,0,0,0,0,0,0,0,0,0,0,0,0,0,0,0,0,0,0,0,0,0,0,0,0,0,0,0,0,0,0,0,0,0]
[8,0,0,0,0,0,0,0,0,0,0,0,0,0,0,0,0,0,0,0,0,0,0,0,0,0,0,0,0,0,0,0,0,0,0,0,0,0,0,0,0,0,0,0,0,0,0,0,0,0,0,0,0,0,0,0,0,0,0,0,0,0,0,0,0,0,0,0,0,0,0,0,0,0,0,0,0,0,0,0,0,0,0,0,0,0,0,0,0,0,0,0,0,0,0,0,0,0,0,0,0,0,0,0,0,0,0,0,0,0,0,0,0,0,0,0,0,0,0,0,0,0,0,0,0,0,0,0,0,0,0,0,0,0,0,0,0,0,0,0,0,0,0,0,0,0,0,0,0,0,0,0,0,0,0,0,0,0,0,0,0,0,0,0,0,0,0,0,0,0,0,0,0,0,0,0,0,0,0,0,0,0,0,0,0,0,0,0,0,0,0,0,0,0,0,0,0,0,0,0,0,0,0,0,0,0,0,0,0,0,0,0,0,0,0,0,0,0,0,0,0,0,0,0,0,0,0,0,0,0,0]
[9,0,0,0,0,0,0,0,0,0,0,0,0,0,0,0,0,0,0,0,0,0,0,0,0,0,0,0,0,0,0,0,0,0,0,0,0,0,0,0,0,0,0,0,0,0,0,0,0,0,0,0,0,0,0,0,0,0,0,0,0,0,0,0,0,0,0,0,0,0,0,0,0,0,0,0,0,0,0,0,0,0,0,1,0,0,0,0,0,0,0,0,0,0,0,0,0,0,0,0,0,0,0,0,0,0,0,0,0,0,0,0,0,0,0,0,0,0,0,0,0,0,0,0,0,0,0,0,0,0,0,0,0,0,0,0,0,0,0,0,0,0,0,0,0,0,0,0,0,0,0,0,0,0,0,0,0,0,0,0,0,0,0,0,0,0,0,0,0,0,0,0,0,0,0,0,0,0,0,0,0,0,0,0,0,0,0,0,0,0,0,0,0,0,0,0,0,0,0,0,0,0,0,0,0,0,0,0,0,0,0,0,0,0,0,0,0,0,0,0,0,0,0,0,0,0,0,0,0,0,0]
[10,0,0,0,0,0,0,0,0,0,0,0,0,0,0,0,0,0,0,0,0,0,0,0,0,0,0,0,0,0,0,0,0,0,0,0,0,0,0,0,0,0,0,0,0,0,0,0,0,0,0,0,0,0,0,0,0,0,0,0,0,0,0,0,0,0,0,0,0,0,0,0,0,0,0,0,0,0,0,0,0,0,0,0,0,0,0,0,0,0,0,0,0,0,0,0,0,0,0,0,0,0,0,0,0,0,0,0,0,0,0,0,0,0,0,0,0,0,0,0,0,0,0,0,0,0,0,0,0,0,0,0,0,0,0,0,0,0,0,0,0,0,0,0,0,0,0,0,0,0,0,0,0,0,0,0,0,0,0,0,0,0,0,0,0,0,0,0,0,0,0,0,0,0,0,0,0,0,0,0,0,0,0,0,0,0,0,0,0,0,0,0,0,0,0,0,0,0,0,0,0,0,0,0,0,0,0,0,0,0,0,0,0,0,0,0,0,0,0,0,0,0,0,0,0,0,0,0,0,0,0]
[11,0,0,0,0,0,0,0,0,0,0,0,0,0,0,0,0,0,0,0,0,0,0,0,0,0,0,0,0,0,0,0,0,0,0,0,0,0,0,0,0,0,0,0,0,0,0,0,0,0,0,0,0,0,0,0,0,0,0,0,0,0,0,0,0,0,0,0,0,0,0,0,0,0,0,0,0,0,0,0,0,0,0,0,0,0,0,0,0,0,0,0,0,0,0,0,0,0,0,0,0,0,0,0,0,0,0,0,0,0,0,0,0,0,0,0,0,0,0,0,0,0,0,0,0,0,0,0,0,0,0,0,0,0,0,0,0,0,0,0,0,0,0,0,0,0,0,0,0,0,0,0,0,0,0,0,0,0,0,0,0,0,0,0,0,0,0,0,0,0,0,0,0,0,0,0,0,0,0,0,0,0,0,0,0,0,0,0,0,0,0,0,0,0,0,0,0,0,0,0,0,0,0,0,0,0,0,0,0,0,0,0,0,0,0,0,0,0,0,0,0,0,0,0,0,0,0,0,0,0,0]
["Total general",0,0,0,0,0,0,0,0,0,0,0,0,0,0,0,0,0,0,0,0,0,0,0,0,0,0,0,0,0,0,0,0,0,0,0,0,0,0,0,0,0,0,0,0,0,0,0,0,0,0,0,0,0,0,0,0,0,0,0,0,0,0,0,0,0,0,0,0,0,1,2,0,0,0,0,0,0,0,0,0,2,0,4,0,0,0,0,0,0,0,0,0,0,0,0,0,0,0,0,0,0,0,0,0,0,0,0,0,0,0,0,0,0,0,0,0,0,0,0,0,0,0,0,0,0,0,0,0,0,0,0,0,0,0,0,0,0,0,0,0,0,0,0,0,0,0,0,0,0,0,0,0,0,0,0,0,0,0,0,0,0,0,0,0,0,0,0,0,0,0,0,0,0,0,0,0,0,0,0,0,0,0,0,0,0,0,0,0,0,0,0,0,0,0,0,0,0,0,0,0,0,0,0,0,0,0,0,0,0,0,0,0,0,0,0,0,0,0,0,0,0,0,0,0,0,0,0,0,0,0]

{"sheet":"Menu","index":2,"n_rows":31,"n_cols":9,"rows_kept":31,"cut":false,"hidden":false,"merged":[[1,4,1,16],[3,4,3,16],[2,4,2,16],[30,8,30,9],[30,5,30,7]]}
[]
[null,null,null,null,"GERESA CUSCO"]
[null,null,null,null,"REPORTE HISMINSA 2024"]
[null,null,null,null,"SALUD MENTAL"]
[]
[]
[]
[]
[]
[]
[]
[]
[]
[]
[]
[]
[]
[]
[]
[]
[]
[]
[]
[]
[]
[]
[]
[]
[]
[]
[null,null,null,null,null,"Fecha Actualización DATA",null,null,"30/11/2024"]

{"sheet":"ATENDIDOS","index":3,"n_rows":350,"n_cols":32,"rows_kept":350,"cut":false,"hidden":false,"merged":[[275,4,275,5],[341,8,341,9],[290,1,290,9],[337,2,337,3],[336,4,336,5],[337,4,337,5],[336,6,336,7],[337,6,337,7],[335,4,335,7],[299,4,299,5],[296,6,296,7],[297,6,297,7],[298,6,298,7],[292,2,292,3],[307,2,307,3],[299,6,299,7],[296,4,296,5],[298,4,298,5],[297,2,297,3],[299,2,299,3],[292,6,292,7],[293,6,293,7],[294,6,294,7],[295,6,295,7],[153,1,153,10],[6,2,6,3],[8,2,8,3],[119,1,119,2],[120,1,120,2],[122,1,122,14],[123,1,124,1],[123,4,123,5],[123,6,123,7],[123,8,123,9],[123,10,123,11],[123,12,123,14],[113,1,114,1],[113,2,113,3],[113,4,113,5],[113,6,113,7],[113,8,113,9],[113,10,113,11],[25,1,25,9],[12,1,12,9],[152,1,152,9],[91,1,92,1],[91,2,91,4],[274,4,274,5],[90,1,90,4],[53,1,53,6],[292,8,292,9],[293,8,293,9],[294,8,294,9],[295,8,295,9],[296,8,296,9],[296,2,296,3],[247,1,247,9],[248,1,249,1],[248,2,248,3],[163,2,163,3],[164,2,164,3],[165,2,165,3],[166,2,166,3],[167,2,167,3],[167,4,167,5],[202,1,202,9],[210,1,210,9],[170,1,171,1],[184,1,184,11],[203,1,203,13],[170,2,170,10],[253,8,253,9],[248,4,248,5],[248,6,248,7],[248,8,248,9],[213,6,213,7],[253,1,254,1],[233,1,234,1],[233,2,233,3],[233,4,233,5],[233,6,233,7],[213,8,213,9],[298,2,298,3],[275,2,275,3],[297,4,297,5],[108,14,108,15],[139,2,139,4],[140,2,140,4],[141,2,141,4],[142,2,142,4],[143,2,143,4],[144,2,144,4],[145,2,145,4],[159,12,159,14],[155,1,155,10],[156,1,157,1],[156,2,156,3],[156,4,156,5],[156,6,156,7],[156,8,156,10],[112,1,112,14],[113,12,113,14],[252,1,252,9],[253,2,253,3],[162,4,162,5],[213,14,213,15],[263,4,263,5],[264,4,264,5],[341,13,341,14],[341,15,342,15],[349,1,349,5],[119,3,119,4],[120,3,120,4],[123,2,123,3],[339,1,339,15],[340,2,340,5],[340,6,340,9],[340,10,340,12],[340,13,340,15],[341,2,341,3],[341,4,341,5],[341,6,341,7],[341,10,341,11],[341,12,342,12],[269,1,269,9],[317,1,317,3],[335,1,336,1],[274,2,274,3],[169,1,169,10],[162,2,162,3],[263,8,263,9],[264,8,264,9],[263,6,263,7],[264,6,264,7],[334,1,334,9],[335,2,336,3],[297,8,297,9],[298,8,298,9],[299,8,299,9],[293,2,293,3],[294,2,294,3],[295,2,295,3],[263,2,263,3],[264,2,264,3],[266,2,266,3],[267,2,267,3],[266,4,266,5],[267,4,267,5],[308,2,308,3],[291,1,291,9],[292,4,292,5],[293,4,293,5],[294,4,294,5],[295,4,295,5],[163,4,163,5],[164,4,164,5],[165,4,165,5],[166,4,166,5],[257,1,257,9],[211,1,211,15],[212,4,212,5],[213,4,213,5],[232,1,232,7],[212,14,212,15],[212,12,212,13],[212,10,212,11],[212,8,212,9],[212,6,212,7],[213,12,213,13],[213,10,213,11],[212,2,212,3],[213,2,213,3],[230,1,230,9],[218,1,218,5],[219,2,219,3],[219,4,219,5],[253,4,253,5],[253,6,253,7],[65,26,65,28],[108,16,108,17],[108,2,108,3],[108,4,108,5],[108,6,108,7],[108,8,108,9],[108,10,108,11],[108,12,108,13],[106,1,106,28],[107,2,107,9],[107,10,107,13],[107,14,107,17],[107,18,107,21],[107,22,107,25],[107,26,107,28],[108,26,109,26],[108,27,109,27],[108,28,109,28],[108,18,108,19],[108,20,108,21],[108,22,108,23],[108,24,108,25],[65,29,65,31],[66,2,66,3],[66,4,66,5],[66,6,66,7],[66,8,66,9],[66,10,66,11],[66,12,66,13],[66,14,66,15],[66,16,66,17],[65,2,65,9],[65,10,65,13],[65,14,65,17],[65,18,65,21],[65,22,65,25],[66,28,67,28],[66,29,67,29],[66,30,67,30],[66,31,67,31],[66,18,66,19],[66,20,66,21],[66,22,66,23],[66,24,66,25],[66,26,67,26],[66,27,67,27],[0,1,0,31],[1,1,1,31],[2,1,2,31],[3,1,3,31],[4,1,4,31],[30,18,30,19],[30,20,30,21],[30,22,30,23],[30,24,30,25],[30,26,31,26],[29,26,29,28],[29,29,30,31],[30,2,30,3],[30,4,30,5],[30,6,30,7],[30,8,30,9],[30,10,30,11],[30,12,30,13],[30,14,30,15],[30,16,30,17],[29,2,29,9],[29,10,29,13],[29,14,29,17],[29,18,29,21],[6,21,6,23],[8,21,8,23],[6,13,6,17],[8,13,8,17],[10,13,10,17],[6,4,6,9],[8,4,8,9],[10,4,10,9],[63,1,64,31],[29,22,29,25],[30,28,31,28],[30,27,31,27],[56,1,56,5],[57,2,57,3],[57,4,57,5],[10,2,10,3]]}
[null,"DIRECCION REGIONAL DE SALUD CUSCO"]
[null,"DIRECCION EJECUTIVA DE INTELIGENCIA SANITARIA"]
[null,"DIRECCION DE ESTADISTICA Y TELECOMUNICACIONES"]
[null,"SALUD MENTAL"]
[null,"INFORME OPERACIONAL MENSUAL"]
[]
[null,null,"RED DE SALUD :",null,{"$f":"TD!F3","v":"LA CONVENCION"},null,null,null,null,null,null,"PROVINCIA :",null,{"$f":"TD!F6","v":"(All)"},null,null,null,null,null,null,"AÑO :",{"$f":"TD!C10","v":"2024"}]
[]
[null,null,"MICRO RED :",null,{"$f":"TD!F4","v":"(All)"},null,null,null,null,null,null,"DISTRITO :",null,{"$f":"TD!F7","v":"(All)"},null,null,null,null,null,null,"MES :",{"$f":"TD!O17","v":"ENERO - NOVIEMBRE"}]
[]
[null,null,"ESTABLECIMIENTO :",null,{"$f":"TD!F5","v":"(All)"},null,null,null,null,null,null,"U.E. :",null,{"$f":"TD!F8","v":"(All)"}]
[]
[null,"II. ACOMPAÑAMIENTO CLINICO PSICOSOCIAL"]
[]
[null,"N°ASISTENCIA TÉCNICA","1°\nReunión","N° participantes","2°\nReunión","N°  participantes","3°\nReunión","N° participantes","4°\nReunión","N°  participantes","5°\nReunión","N° participantes","6°\nReunión","N° participantes","7°\nReunión","N°  participantes","8°\nReunión","N° participantes","9°\nReunión","N° participantes","10°\nReunión","N°  participantes"]
[null,"CENTROS DE SALUD MENTAL COMUNITARIA",{"$f":"SUM(GETPIVOTDATA(\" CSMental_Reunion_1\",TD!$A$38))","v":4},{"$f":"SUM(GETPIVOTDATA(\" CSMental_Participa_1\",TD!$A$38))","v":25},{"$f":"SUM(GETPIVOTDATA(\" CSMental_Reunion_2\",TD!$A$38))","v":4},{"$f":"SUM(GETPIVOTDATA(\" CSMental_Participa_2\",TD!$A$38))","v":34},{"$f":"SUM(GETPIVOTDATA(\" CSMental_Reunion_3\",TD!$A$38))","v":4},{"$f":"SUM(GETPIVOTDATA(\" CSMental_Participa_3\",TD!$A$38))","v":29},{"$f":"SUM(GETPIVOTDATA(\" CSMental_Reunion_4\",TD!$A$38))","v":4},{"$f":"SUM(GETPIVOTDATA(\" CSMental_Participa_4\",TD!$A$38))","v":34},{"$f":"SUM(GETPIVOTDATA(\" CSMental_Reunion_5\",TD!$A$38))","v":4},{"$f":"SUM(GETPIVOTDATA(\" CSMental_Participa_5\",TD!$A$38))","v":35},{"$f":"SUM(GETPIVOTDATA(\" CSMental_Reunion_6\",TD!$A$38))","v":4},{"$f":"SUM(GETPIVOTDATA(\" CSMental_Participa_6\",TD!$A$38))","v":32},{"$f":"SUM(GETPIVOTDATA(\" CSMental_Reunion_7\",TD!$A$38))","v":4},{"$f":"SUM(GETPIVOTDATA(\" CSMental_Participa_7\",TD!$A$38))","v":34},{"$f":"SUM(GETPIVOTDATA(\" CSMental_Reunion_8\",TD!$A$38))","v":3},{"$f":"SUM(GETPIVOTDATA(\" CSMental_Participa_8\",TD!$A$38))","v":20},{"$f":"SUM(GETPIVOTDATA(\" CSMental_Reunion_9\",TD!$A$38))","v":4},{"$f":"SUM(GETPIVOTDATA(\" CSMental_Participa_9\",TD!$A$38))","v":40},{"$f":"SUM(GETPIVOTDATA(\" CSMental_Reunion_10\",TD!$A$38))","v":0},{"$f":"SUM(GETPIVOTDATA(\" CSMental_Participa_10\",TD!$A$38))","v":0}]
[]
[null,"PROFESIONAL QUE REALIZA EL ACOMPAÑAMIENTO","1° \nReunión","2° \nReunión","3° Reunión","4° \nReunión","5° Reunión","6° \nReunión","7° Reunión","8° \nReunión","9° Reunión","10° \nReunión"]
[null,"MÉDICO PSIQUIATRA",{"$f":"SUM(GETPIVOTDATA(\" MedicoPsiq_Reunion_1\",TD!$A$38))","v":1},{"$f":"SUM(GETPIVOTDATA(\" MedicoPsiq_Reunion_2\",TD!$A$38))","v":3},{"$f":"SUM(GETPIVOTDATA(\" MedicoPsiq_Reunion_3\",TD!$A$38))","v":2},{"$f":"SUM(GETPIVOTDATA(\" MedicoPsiq_Reunion_4\",TD!$A$38))","v":3},{"$f":"SUM(GETPIVOTDATA(\" MedicoPsiq_Reunion_5\",TD!$A$38))","v":2},{"$f":"SUM(GETPIVOTDATA(\" MedicoPsiq_Reunion_6\",TD!$A$38))","v":1},{"$f":"SUM(GETPIVOTDATA(\" MedicoPsiq_Reunion_7\",TD!$A$38))","v":1},{"$f":"SUM(GETPIVOTDATA(\" MedicoPsiq_Reunion_8\",TD!$A$38))","v":2},{"$f":"SUM(GETPIVOTDATA(\" MedicoPsiq_Reunion_9\",TD!$A$38))","v":2},{"$f":"SUM(GETPIVOTDATA(\" MedicoPsiq_Reunion_10\",TD!$A$38))","v":0}]
[null,"PSICÓLOGO(A)",{"$f":"SUM(GETPIVOTDATA(\" Psicol_Reunion_1\",TD!$A$38))","v":4},{"$f":"SUM(GETPIVOTDATA(\" Psicol_Reunion_2\",TD!$A$38))","v":4},{"$f":"SUM(GETPIVOTDATA(\" Psicol_Reunion_3\",TD!$A$38))","v":4},{"$f":"SUM(GETPIVOTDATA(\" Psicol_Reunion_4\",TD!$A$38))","v":4},{"$f":"SUM(GETPIVOTDATA(\" Psicol_Reunion_5\",TD!$A$38))","v":4},{"$f":"SUM(GETPIVOTDATA(\" Psicol_Reunion_6\",TD!$A$38))","v":4},{"$f":"SUM(GETPIVOTDATA(\" Psicol_Reunion_7\",TD!$A$38))","v":4},{"$f":"SUM(GETPIVOTDATA(\" Psicol_Reunion_8\",TD!$A$38))","v":4},{"$f":"SUM(GETPIVOTDATA(\" Psicol_Reunion_9\",TD!$A$38))","v":4},{"$f":"SUM(GETPIVOTDATA(\" Psicol_Reunion_10\",TD!$A$38))","v":0}]
[null,"ENFERMERO(A)",{"$f":"SUM(GETPIVOTDATA(\" Enferm_Reunion_1\",TD!$A$38))","v":4},{"$f":"SUM(GETPIVOTDATA(\" Enferm_Reunion_2\",TD!$A$38))","v":4},{"$f":"SUM(GETPIVOTDATA(\" Enferm_Reunion_3\",TD!$A$38))","v":4},{"$f":"SUM(GETPIVOTDATA(\" Enferm_Reunion_4\",TD!$A$38))","v":4},{"$f":"SUM(GETPIVOTDATA(\" Enferm_Reunion_5\",TD!$A$38))","v":4},{"$f":"SUM(GETPIVOTDATA(\" Enferm_Reunion_6\",TD!$A$38))","v":4},{"$f":"SUM(GETPIVOTDATA(\" Enferm_Reunion_7\",TD!$A$38))","v":4},{"$f":"SUM(GETPIVOTDATA(\" Enferm_Reunion_8\",TD!$A$38))","v":3},{"$f":"SUM(GETPIVOTDATA(\" Enferm_Reunion_9\",TD!$A$38))","v":4},{"$f":"SUM(GETPIVOTDATA(\" Enferm_Reunion_10\",TD!$A$38))","v":0}]
[null,"TRABAJADOR(A) SOCIAL",{"$f":"SUM(GETPIVOTDATA(\" Tsocial_Reunion_1\",TD!$A$38))","v":0},{"$f":"SUM(GETPIVOTDATA(\" Tsocial_Reunion_2\",TD!$A$38))","v":0},{"$f":"SUM(GETPIVOTDATA(\" Tsocial_Reunion_3\",TD!$A$38))","v":0},{"$f":"SUM(GETPIVOTDATA(\" Tsocial_Reunion_4\",TD!$A$38))","v":0},{"$f":"SUM(GETPIVOTDATA(\" Tsocial_Reunion_5\",TD!$A$38))","v":0},{"$f":"SUM(GETPIVOTDATA(\" Tsocial_Reunion_6\",TD!$A$38))","v":0},{"$f":"SUM(GETPIVOTDATA(\" Tsocial_Reunion_7\",TD!$A$38))","v":0},{"$f":"SUM(GETPIVOTDATA(\" Tsocial_Reunion_8\",TD!$A$38))","v":0},{"$f":"SUM(GETPIVOTDATA(\" Tsocial_Reunion_9\",TD!$A$38))","v":0},{"$f":"SUM(GETPIVOTDATA(\" Tsocial_Reunion_10\",TD!$A$38))","v":0}]
[null,"MEDICO DE FAMILIA",{"$f":"SUM(GETPIVOTDATA(\" MedicoFam_Reunion_1\",TD!$A$38))","v":0},{"$f":"SUM(GETPIVOTDATA(\" MedicoFam_Reunion_2\",TD!$A$38))","v":0},{"$f":"SUM(GETPIVOTDATA(\" MedicoFam_Reunion_3\",TD!$A$38))","v":0},{"$f":"SUM(GETPIVOTDATA(\" MedicoFam_Reunion_4\",TD!$A$38))","v":0},{"$f":"SUM(GETPIVOTDATA(\" MedicoFam_Reunion_5\",TD!$A$38))","v":0},{"$f":"SUM(GETPIVOTDATA(\" MedicoFam_Reunion_6\",TD!$A$38))","v":0},{"$f":"SUM(GETPIVOTDATA(\" MedicoFam_Reunion_7\",TD!$A$38))","v":0},{"$f":"SUM(GETPIVOTDATA(\" MedicoFam_Reunion_8\",TD!$A$38))","v":0},{"$f":"SUM(GETPIVOTDATA(\" MedicoFam_Reunion_9\",TD!$A$38))","v":0},{"$f":"SUM(GETPIVOTDATA(\" MedicoFam_Reunion_10\",TD!$A$38))","v":0}]
[null,"OTROS",{"$f":"SUM(GETPIVOTDATA(\" Otro_Reunion_1\",TD!$A$38))","v":3},{"$f":"SUM(GETPIVOTDATA(\" Otro_Reunion_2\",TD!$A$38))","v":1},{"$f":"SUM(GETPIVOTDATA(\" Otro_Reunion_3\",TD!$A$38))","v":2},{"$f":"SUM(GETPIVOTDATA(\" Otro_Reunion_4\",TD!$A$38))","v":0},{"$f":"SUM(GETPIVOTDATA(\" Otro_Reunion_5\",TD!$A$38))","v":0},{"$f":"SUM(GETPIVOTDATA(\" Otro_Reunion_6\",TD!$A$38))","v":0},{"$f":"SUM(GETPIVOTDATA(\" Otro_Reunion_7\",TD!$A$38))","v":3},{"$f":"SUM(GETPIVOTDATA(\" Otro_Reunion_8\",TD!$A$38))","v":2},{"$f":"SUM(GETPIVOTDATA(\" Otro_Reunion_9\",TD!$A$38))","v":2},{"$f":"SUM(GETPIVOTDATA(\" Otro_Reunion_10\",TD!$A$38))","v":0}]
[]
[null,"III. PERSONAS CON TRASTORNOS MENTALES Y PROBLEMAS PSICOSOCIALES DETECTADAS"]
[]
[null,"I. TAMIZAJE"]
[null,null,null,null,null,null,null,null,null,null,null,null,null,null,null,"TOTAL DE TAMIZAJES"]
[null,"ETAPA DE VIDA","NIÑO",null,null,null,null,null,null,null,"ADOLESCENTE",null,null,null,"JOVEN",null,null,null,"ADULTO",null,null,null,"ADULTO MAYOR",null,null,null,"TOTAL TAMIZAJES",null,null,"PERSONAS VICTIMAS DE VIOLENCIA POLITICA "]
[null,"EDAD","< 1 - 2",null,"3 - 5",null,"6 - 9",null,"10 - 11",null,"12 - 14",null,"15 - 17",null,"18 - 24",null,"25 - 29",null,"30 - 39",null,"40 - 59 ",null,"60 - 79",null,"80  +",null,"META ANUAL","AVANCE MES","ACUM. ANUAL"]
[null,"SEXO","M","F","M","F","M","F","M","F","M","F","M","F","M","F","M","F","M","F","M","F","M","F","M","F",null,null,null,"F","M","TOTAL"]
[null,"VIOLENCIA FAMILIAR / MALTRATO INFANTIL ",{"$f":"SUM(GETPIVOTDATA(\" Tam_VIF_0_2M\",TD!$A$38))","v":7003},{"$f":"SUM(GETPIVOTDATA(\" Tam_VIF_0_2F\",TD!$A$38))","v":6431},{"$f":"SUM(GETPIVOTDATA(\" Tam_VIF_3_5M\",TD!$A$38))","v":4067},{"$f":"SUM(GETPIVOTDATA(\" Tam_VIF_3_5F\",TD!$A$38))","v":3972},{"$f":"SUM(GETPIVOTDATA(\" Tam_VIF_6_9M\",TD!$A$38))","v":608},{"$f":"SUM(GETPIVOTDATA(\" Tam_VIF_6_9F\",TD!$A$38))","v":557},{"$f":"SUM(GETPIVOTDATA(\" Tam_VIF_10_11M\",TD!$A$38))","v":247},{"$f":"SUM(GETPIVOTDATA(\" Tam_VIF_10_11F\",TD!$A$38))","v":243},{"$f":"SUM(GETPIVOTDATA(\" Tam_VIF_12_14M\",TD!$A$38))","v":922},{"$f":"SUM(GETPIVOTDATA(\" Tam_VIF_12_14F\",TD!$A$38))","v":1244},{"$f":"SUM(GETPIVOTDATA(\" Tam_VIF_15_17M\",TD!$A$38))","v":1038},{"$f":"SUM(GETPIVOTDATA(\" Tam_VIF_15_17F\",TD!$A$38))","v":1654},{"$f":"SUM(GETPIVOTDATA(\" Tam_VIF_18_24M\",TD!$A$38))","v":227},{"$f":"SUM(GETPIVOTDATA(\" Tam_VIF_18_24F\",TD!$A$38))","v":2648},{"$f":"SUM(GETPIVOTDATA(\" Tam_VIF_25_29M\",TD!$A$38))","v":143},{"$f":"SUM(GETPIVOTDATA(\" Tam_VIF_25_29F\",TD!$A$38))","v":2268},{"$f":"SUM(GETPIVOTDATA(\" Tam_VIF_30_39M\",TD!$A$38))","v":318},{"$f":"SUM(GETPIVOTDATA(\" Tam_VIF_30_39F\",TD!$A$38))","v":4384},{"$f":"SUM(GETPIVOTDATA(\" Tam_VIF_40_59M\",TD!$A$38))","v":604},{"$f":"SUM(GETPIVOTDATA(\" Tam_VIF_40_59F\",TD!$A$38))","v":2767},{"$f":"SUM(GETPIVOTDATA(\" Tam_VIF_60_79M\",TD!$A$38))","v":425},{"$f":"SUM(GETPIVOTDATA(\" Tam_VIF_60_79F\",TD!$A$38))","v":547},{"$f":"SUM(GETPIVOTDATA(\" Tam_VIF_80M\",TD!$A$38))","v":66},{"$f":"SUM(GETPIVOTDATA(\" Tam_VIF_80F\",TD!$A$38))","v":67},null,{"$f":"SUM(C33:Z33)","v":42450},null,{"$f":"SUM(GETPIVOTDATA(\" Tam_AVP_VIF_F\",TD!$A$62))","v":60},{"$f":"SUM(GETPIVOTDATA(\" Tam_AVP_VIF_M\",TD!$A$62))","v":46},{"$f":"+AD33+AE33","v":106}]
[null,"TRASTORNO DEPRESIVO",null,null,null,null,null,null,{"$f":"SUM(GETPIVOTDATA(\" Tam_TD_10_11M\",TD!$A$38))","v":6},{"$f":"SUM(GETPIVOTDATA(\" Tam_TD_10_11F\",TD!$A$38))","v":8},{"$f":"SUM(GETPIVOTDATA(\" Tam_TD_12_14M\",TD!$A$38))","v":232},{"$f":"SUM(GETPIVOTDATA(\" Tam_TD_12_14F\",TD!$A$38))","v":290},{"$f":"SUM(GETPIVOTDATA(\" Tam_TD_15_17M\",TD!$A$38))","v":194},{"$f":"SUM(GETPIVOTDATA(\" Tam_TD_15_17F\",TD!$A$38))","v":230},{"$f":"SUM(GETPIVOTDATA(\" Tam_TD_18_24M\",TD!$A$38))","v":149},{"$f":"SUM(GETPIVOTDATA(\" Tam_TD_18_24F\",TD!$A$38))","v":408},{"$f":"SUM(GETPIVOTDATA(\" Tam_TD_25_29M\",TD!$A$38))","v":61},{"$f":"SUM(GETPIVOTDATA(\" Tam_TD_25_29F\",TD!$A$38))","v":362},{"$f":"SUM(GETPIVOTDATA(\" Tam_TD_30_39M\",TD!$A$38))","v":155},{"$f":"SUM(GETPIVOTDATA(\" Tam_TD_30_39F\",TD!$A$38))","v":690},{"$f":"SUM(GETPIVOTDATA(\" Tam_TD_40_59M\",TD!$A$38))","v":330},{"$f":"SUM(GETPIVOTDATA(\" Tam_TD_40_59F\",TD!$A$38))","v":779},{"$f":"SUM(GETPIVOTDATA(\" Tam_TD_60_79M\",TD!$A$38))","v":322},{"$f":"SUM(GETPIVOTDATA(\" Tam_TD_60_79F\",TD!$A$38))","v":397},{"$f":"SUM(GETPIVOTDATA(\" Tam_TD_80M\",TD!$A$38))","v":65},{"$f":"SUM(GETPIVOTDATA(\" Tam_TD_80F\",TD!$A$38))","v":60},null,{"$f":"SUM(I34:Z34)","v":4738},null,{"$f":"SUM(GETPIVOTDATA(\" Tam_AVP_TD_F\",TD!$A$62))","v":109},{"$f":"SUM(GETPIVOTDATA(\" Tam_AVP_TD_M\",TD!$A$62))","v":92},201]
[null,"ALCOHOL Y DROGAS",null,null,null,null,{"$f":"SUM(GETPIVOTDATA(\" Tam_AD_6_9M\",TD!$A$38))","v":1},{"$f":"SUM(GETPIVOTDATA(\" Tam_AD_6_9F\",TD!$A$38))","v":4},{"$f":"SUM(GETPIVOTDATA(\" Tam_AD_10_11M\",TD!$A$38))","v":2},{"$f":"SUM(GETPIVOTDATA(\" Tam_AD_10_11F\",TD!$A$38))","v":2},{"$f":"SUM(GETPIVOTDATA(\" Tam_AD_12_14M\",TD!$A$38))","v":348},{"$f":"SUM(GETPIVOTDATA(\" Tam_AD_12_14F\",TD!$A$38))","v":446},{"$f":"SUM(GETPIVOTDATA(\" Tam_AD_15_17M\",TD!$A$38))","v":349},{"$f":"SUM(GETPIVOTDATA(\" Tam_AD_15_17F\",TD!$A$38))","v":396},{"$f":"SUM(GETPIVOTDATA(\" Tam_AD_18_24M\",TD!$A$38))","v":157},{"$f":"SUM(GETPIVOTDATA(\" Tam_AD_18_24F\",TD!$A$38))","v":321},{"$f":"SUM(GETPIVOTDATA(\" Tam_AD_25_29M\",TD!$A$38))","v":85},{"$f":"SUM(GETPIVOTDATA(\" Tam_AD_25_29F\",TD!$A$38))","v":271},{"$f":"SUM(GETPIVOTDATA(\" Tam_AD_30_39M\",TD!$A$38))","v":221},{"$f":"SUM(GETPIVOTDATA(\" Tam_AD_30_39F\",TD!$A$38))","v":597},{"$f":"SUM(GETPIVOTDATA(\" Tam_AD_40_59M\",TD!$A$38))","v":418},{"$f":"SUM(GETPIVOTDATA(\" Tam_AD_40_59F\",TD!$A$38))","v":621},{"$f":"SUM(GETPIVOTDATA(\" Tam_AD_60_79M\",TD!$A$38))","v":280},{"$f":"SUM(GETPIVOTDATA(\" Tam_AD_60_79F\",TD!$A$38))","v":230},{"$f":"SUM(GETPIVOTDATA(\" Tam_AD_80M\",TD!$A$38))","v":36},{"$f":"SUM(GETPIVOTDATA(\" Tam_AD_80F\",TD!$A$38))","v":25},null,{"$f":"SUM(G35:Z35)","v":4810},null,{"$f":"SUM(GETPIVOTDATA(\" Tam_AVP_AD_F\",TD!$A$62))","v":9},{"$f":"SUM(GETPIVOTDATA(\" Tam_AVP_AD_M\",TD!$A$62))","v":15},24]
[null,"PSICOSIS",null,null,null,null,null,null,null,null,{"$f":"SUM(GETPIVOTDATA(\" Tam_EP_12_14M\",TD!$A$38))","v":176},{"$f":"SUM(GETPIVOTDATA(\" Tam_EP_12_14F\",TD!$A$38))","v":205},{"$f":"SUM(GETPIVOTDATA(\" Tam_EP_15_17M\",TD!$A$38))","v":185},{"$f":"SUM(GETPIVOTDATA(\" Tam_EP_15_17F\",TD!$A$38))","v":180},{"$f":"SUM(GETPIVOTDATA(\" Tam_EP_18_24M\",TD!$A$38))","v":75},{"$f":"SUM(GETPIVOTDATA(\" Tam_EP_18_24F\",TD!$A$38))","v":101},{"$f":"SUM(GETPIVOTDATA(\" Tam_EP_25_29M\",TD!$A$38))","v":20},{"$f":"SUM(GETPIVOTDATA(\" Tam_EP_25_29F\",TD!$A$38))","v":81},{"$f":"SUM(GETPIVOTDATA(\" Tam_EP_30_39M\",TD!$A$38))","v":46},{"$f":"SUM(GETPIVOTDATA(\" Tam_EP_30_39F\",TD!$A$38))","v":184},{"$f":"SUM(GETPIVOTDATA(\" Tam_EP_40_59M\",TD!$A$38))","v":92},{"$f":"SUM(GETPIVOTDATA(\" Tam_EP_40_59F\",TD!$A$38))","v":201},{"$f":"SUM(GETPIVOTDATA(\" Tam_EP_60_79M\",TD!$A$38))","v":114},{"$f":"SUM(GETPIVOTDATA(\" Tam_EP_60_79F\",TD!$A$38))","v":122},{"$f":"SUM(GETPIVOTDATA(\" Tam_EP_80M\",TD!$A$38))","v":16},{"$f":"SUM(GETPIVOTDATA(\" Tam_EP_80F\",TD!$A$38))","v":14},null,{"$f":"SUM(K36:Z36)","v":1812},null,{"$f":"SUM(GETPIVOTDATA(\" Tam_AVP_EP_F\",TD!$A$62))","v":36},{"$f":"SUM(GETPIVOTDATA(\" Tam_AVP_EP_M\",TD!$A$62))","v":64},100]
[null,"PROBLEMAS DEL NEURODESARROLLO EN NIÑAS Y NIÑOS DE 0 A 3 AÑOS",{"$f":"SUM(GETPIVOTDATA(\" Tam_PND_0_2M\",TD!$A$38))","v":26},{"$f":"SUM(GETPIVOTDATA(\" Tam_PND_0_2F\",TD!$A$38))","v":16},null,null,null,null,null,null,null,null,null,null,null,null,null,null,null,null,null,null,null,null,null,null,null,{"$f":"+C37+D37","v":42},null,{"$f":"SUM(GETPIVOTDATA(\" Tam_AVP_PND_F\",TD!$A$62))","v":0},{"$f":"SUM(GETPIVOTDATA(\" Tam_AVP_PND_M\",TD!$A$62))","v":0},0]
[null,"DETERIORO COGNITIVO - DEMENCIA EN PERSONAS DE 60 AÑOS Y MÁS.",null,null,null,null,null,null,null,null,null,null,null,null,null,null,null,null,null,null,null,null,{"$f":"SUM(GETPIVOTDATA(\" Tam_DCognitivo_60_79M\",TD!$A$38))","v":207},{"$f":"SUM(GETPIVOTDATA(\" Tam_DCognitivo_60_79F\",TD!$A$38))","v":206},{"$f":"SUM(GETPIVOTDATA(\" Tam_DCognitivo_80M\",TD!$A$38))","v":56},{"$f":"SUM(GETPIVOTDATA(\" Tam_DCognitivo_80F\",TD!$A$38))","v":50},null,{"$f":"+W38+X38+Y38+Z38","v":519},null,{"$f":"SUM(GETPIVOTDATA(\" Tam_AVP_DCognitivo_F\",TD!$A$62))","v":7},{"$f":"SUM(GETPIVOTDATA(\" Tam_AVP_DCognitivo_M\",TD!$A$62))","v":4},11]
[null,"TRASTORNOS MENTALES Y DEL COMPORTAMIENTO DE NIÑOS, NIÑAS Y ADOLESCENTES DE 3 DE 17 AÑOS",null,null,{"$f":"SUM(GETPIVOTDATA(\" Tam_TMentalComp_3_5M\",TD!$A$38))","v":73},{"$f":"SUM(GETPIVOTDATA(\" Tam_TMentalComp_3_5F\",TD!$A$38))","v":32},{"$f":"SUM(GETPIVOTDATA(\" Tam_TMentalComp_6_9M\",TD!$A$38))","v":131},{"$f":"SUM(GETPIVOTDATA(\" Tam_TMentalComp_6_9F\",TD!$A$38))","v":89},{"$f":"SUM(GETPIVOTDATA(\" Tam_TMentalComp_10_11M\",TD!$A$38))","v":56},{"$f":"SUM(GETPIVOTDATA(\" Tam_TMentalComp_10_11F\",TD!$A$38))","v":48},{"$f":"SUM(GETPIVOTDATA(\" Tam_TMentalComp_12_14M\",TD!$A$38))","v":117},{"$f":"SUM(GETPIVOTDATA(\" Tam_TMentalComp_12_14F\",TD!$A$38))","v":99},{"$f":"SUM(GETPIVOTDATA(\" Tam_TMentalComp_15_17M\",TD!$A$38))","v":73},{"$f":"SUM(GETPIVOTDATA(\" Tam_TMentalComp_15_17F\",TD!$A$38))","v":74},null,null,null,null,null,null,null,null,null,null,null,null,null,{"$f":"SUM(E39:N39)","v":792},null,{"$f":"SUM(GETPIVOTDATA(\" Tam_AVP_TMentalComp_F\",TD!$A$62))","v":0},{"$f":"SUM(GETPIVOTDATA(\" Tam_AVP_TMentalComp_M\",TD!$A$62))","v":1},1]
[null,"Nª DE GESTANTES CON TAMIZAJE DE VIOLENCIA",null,null,null,null,null,null,null,null,null,{"$f":"SUM(GETPIVOTDATA(\" Tam_VIF_g_12_14F\",TD!$A$38))","v":20},null,{"$f":"SUM(GETPIVOTDATA(\" Tam_VIF_g_15_17F\",TD!$A$38))","v":135},null,{"$f":"SUM(GETPIVOTDATA(\" Tam_VIF_g_18_24F\",TD!$A$38))","v":494},null,{"$f":"SUM(GETPIVOTDATA(\" Tam_VIF_g_25_29F\",TD!$A$38))","v":349},null,{"$f":"SUM(GETPIVOTDATA(\" Tam_VIF_g_30_39F\",TD!$A$38))","v":565},null,{"$f":"SUM(GETPIVOTDATA(\" Tam_VIF_g_40_59F\",TD!$A$38))","v":73},null,null,null,null,null,{"$f":"+L40+N40+P40+R40+T40+V40","v":1636},null,{"$f":"SUM(GETPIVOTDATA(\" Tam_AVP_VIF_g_F\",TD!$A$62))","v":0},null,{"$f":"AD40","v":0}]
[null,"Nª DE GESTANTES CON TAMIZAJE EN TRASTORNO DEPRESIVO",null,null,null,null,null,null,null,null,null,{"$f":"SUM(GETPIVOTDATA(\" Tam_td_g_12_14F\",TD!$A$38))","v":0},null,{"$f":"SUM(GETPIVOTDATA(\" Tam_td_g_15_17F\",TD!$A$38))","v":11},null,{"$f":"SUM(GETPIVOTDATA(\" Tam_td_g_18_24F\",TD!$A$38))","v":47},null,{"$f":"SUM(GETPIVOTDATA(\" Tam_td_g_25_29F\",TD!$A$38))","v":35},null,{"$f":"SUM(GETPIVOTDATA(\" Tam_td_g_30_39F\",TD!$A$38))","v":56},null,{"$f":"SUM(GETPIVOTDATA(\" Tam_td_g_40_59F\",TD!$A$38))","v":9},null,null,null,null,null,{"$f":"+L41+N41+P41+R41+T41+V41","v":158},null,{"$f":"SUM(GETPIVOTDATA(\" Tam_AVP_td_g_F\",TD!$A$62))","v":1},null,{"$f":"AD41","v":1}]
[null,null,null,null,null,null,null,null,null,null,null,null,null,null,null,"SOLO TAMIZAJES POSITIVOS"]
[null,"VIOLENCIA FAMILIAR / MALTRATO INFANTIL ",{"$f":"SUM(GETPIVOTDATA(\" Tam_VIFPOS_0_2M\",TD!$A$38))","v":1},{"$f":"SUM(GETPIVOTDATA(\" Tam_VIFPOS_0_2F\",TD!$A$38))","v":2},{"$f":"SUM(GETPIVOTDATA(\" Tam_VIFPOS_3_5M\",TD!$A$38))","v":14},{"$f":"SUM(GETPIVOTDATA(\" Tam_VIFPOS_3_5F\",TD!$A$38))","v":8},{"$f":"SUM(GETPIVOTDATA(\" Tam_VIFPOS_6_9M\",TD!$A$38))","v":28},{"$f":"SUM(GETPIVOTDATA(\" Tam_VIFPOS_6_9F\",TD!$A$38))","v":20},{"$f":"SUM(GETPIVOTDATA(\" Tam_VIFPOS_10_11M\",TD!$A$38))","v":14},{"$f":"SUM(GETPIVOTDATA(\" Tam_VIFPOS_10_11F\",TD!$A$38))","v":14},{"$f":"SUM(GETPIVOTDATA(\" Tam_VIFPOS_12_14M\",TD!$A$38))","v":18},{"$f":"SUM(GETPIVOTDATA(\" Tam_VIFPOS_12_14F\",TD!$A$38))","v":44},{"$f":"SUM(GETPIVOTDATA(\" Tam_VIFPOS_15_17M\",TD!$A$38))","v":20},{"$f":"SUM(GETPIVOTDATA(\" Tam_VIFPOS_15_17F\",TD!$A$38))","v":45},{"$f":"SUM(GETPIVOTDATA(\" Tam_VIFPOS_18_24M\",TD!$A$38))","v":7},{"$f":"SUM(GETPIVOTDATA(\" Tam_VIFPOS_18_24F\",TD!$A$38))","v":89},{"$f":"SUM(GETPIVOTDATA(\" Tam_VIFPOS_25_29M\",TD!$A$38))","v":4},{"$f":"SUM(GETPIVOTDATA(\" Tam_VIFPOS_25_29F\",TD!$A$38))","v":84},{"$f":"SUM(GETPIVOTDATA(\" Tam_VIFPOS_30_39M\",TD!$A$38))","v":21},{"$f":"SUM(GETPIVOTDATA(\" Tam_VIFPOS_30_39F\",TD!$A$38))","v":193},{"$f":"SUM(GETPIVOTDATA(\" Tam_VIFPOS_40_59M\",TD!$A$38))","v":25},{"$f":"SUM(GETPIVOTDATA(\" Tam_VIFPOS_40_59F\",TD!$A$38))","v":166},{"$f":"SUM(GETPIVOTDATA(\" Tam_VIFPOS_60_79M\",TD!$A$38))","v":4},{"$f":"SUM(GETPIVOTDATA(\" Tam_VIFPOS_60_79F\",TD!$A$38))","v":19},{"$f":"SUM(GETPIVOTDATA(\" Tam_VIFPOS_80M\",TD!$A$38))","v":1},{"$f":"SUM(GETPIVOTDATA(\" Tam_VIFPOS_80F\",TD!$A$38))","v":3},null,{"$f":"SUM(C43:Z43)","v":844},null,{"$f":"SUM(GETPIVOTDATA(\" Tam_AVP_VIFPOS_F\",TD!$A$62))","v":26},{"$f":"SUM(GETPIVOTDATA(\" Tam_AVP_VIFPOS_M\",TD!$A$62))","v":9},{"$f":"+AD43+AE43","v":35}]
[null,"TRASTORNO DEPRESIVO",null,null,null,null,null,null,{"$f":"SUM(GETPIVOTDATA(\"Tam_TDPOS_10_11M\",TD!$A$38))","v":1},{"$f":"SUM(GETPIVOTDATA(\" Tam_TDPOS_10_11F\",TD!$A$38))","v":2},{"$f":"SUM(GETPIVOTDATA(\" Tam_TDPOS_12_14M\",TD!$A$38))","v":8},{"$f":"SUM(GETPIVOTDATA(\" Tam_TDPOS_12_14F\",TD!$A$38))","v":20},{"$f":"SUM(GETPIVOTDATA(\" Tam_TDPOS_15_17M\",TD!$A$38))","v":11},{"$f":"SUM(GETPIVOTDATA(\" Tam_TDPOS_15_17F\",TD!$A$38))","v":37},{"$f":"SUM(GETPIVOTDATA(\" Tam_TDPOS_18_24M\",TD!$A$38))","v":21},{"$f":"SUM(GETPIVOTDATA(\" Tam_TDPOS_18_24F\",TD!$A$38))","v":104},{"$f":"SUM(GETPIVOTDATA(\" Tam_TDPOS_25_29M\",TD!$A$38))","v":21},{"$f":"SUM(GETPIVOTDATA(\" Tam_TDPOS_25_29F\",TD!$A$38))","v":69},{"$f":"SUM(GETPIVOTDATA(\" Tam_TDPOS_30_39M\",TD!$A$38))","v":31},{"$f":"SUM(GETPIVOTDATA(\" Tam_TDPOS_30_39F\",TD!$A$38))","v":135},{"$f":"SUM(GETPIVOTDATA(\" Tam_TDPOS_40_59M\",TD!$A$38))","v":46},{"$f":"SUM(GETPIVOTDATA(\" Tam_TDPOS_40_59F\",TD!$A$38))","v":161},{"$f":"SUM(GETPIVOTDATA(\" Tam_TDPOS_60_79M\",TD!$A$38))","v":38},{"$f":"SUM(GETPIVOTDATA(\" Tam_TDPOS_60_79F\",TD!$A$38))","v":92},{"$f":"SUM(GETPIVOTDATA(\" Tam_TDPOS_80M\",TD!$A$38))","v":13},{"$f":"SUM(GETPIVOTDATA(\" Tam_TDPOS_80F\",TD!$A$38))","v":9},null,{"$f":"SUM(I44:Z44)","v":819},null,{"$f":"SUM(GETPIVOTDATA(\" Tam_AVP_TDPOS_F\",TD!$A$62))","v":47},{"$f":"SUM(GETPIVOTDATA(\" Tam_AVP_TDPOS_M\",TD!$A$62))","v":25},72]
[null,"TRASTORNO DE CONSUMO DE ALCOHOL",null,null,null,null,null,null,{"$f":"SUM(GETPIVOTDATA(\" Tam_TCAPOS_10_11M\",TD!$A$62))","v":0},{"$f":"SUM(GETPIVOTDATA(\" Tam_TCAPOS_10_11F\",TD!$A$62))","v":0},{"$f":"SUM(GETPIVOTDATA(\" Tam_TCAPOS_12_14M\",TD!$A$62))","v":0},{"$f":"SUM(GETPIVOTDATA(\" Tam_TCAPOS_12_14F\",TD!$A$62))","v":3},{"$f":"SUM(GETPIVOTDATA(\" Tam_TCAPOS_15_17M\",TD!$A$62))","v":7},{"$f":"SUM(GETPIVOTDATA(\" Tam_TCAPOS_15_17F\",TD!$A$62))","v":5},{"$f":"SUM(GETPIVOTDATA(\" Tam_TCAPOS_18_24M\",TD!$A$62))","v":18},{"$f":"SUM(GETPIVOTDATA(\" Tam_TCAPOS_18_24F\",TD!$A$62))","v":1},{"$f":"SUM(GETPIVOTDATA(\" Tam_TCAPOS_25_29M\",TD!$A$62))","v":10},{"$f":"SUM(GETPIVOTDATA(\" Tam_TCAPOS_25_29F\",TD!$A$62))","v":2},{"$f":"SUM(GETPIVOTDATA(\" Tam_TCAPOS_30_39M\",TD!$A$62))","v":34},{"$f":"SUM(GETPIVOTDATA(\" Tam_TCAPOS_30_39F\",TD!$A$62))","v":6},{"$f":"SUM(GETPIVOTDATA(\" Tam_TCAPOS_40_59M\",TD!$A$62))","v":51},{"$f":"SUM(GETPIVOTDATA(\" Tam_TCAPOS_40_59F\",TD!$A$62))","v":3},{"$f":"SUM(GETPIVOTDATA(\" Tam_TCAPOS_60_79M\",TD!$A$62))","v":12},{"$f":"SUM(GETPIVOTDATA(\" Tam_TCAPOS_60_79F\",TD!$A$62))","v":1},{"$f":"SUM(GETPIVOTDATA(\" Tam_TCAPOS_80M\",TD!$A$62))","v":0},{"$f":"SUM(GETPIVOTDATA(\" Tam_TCAPOS_80F\",TD!$A$62))","v":0},null,{"$f":"SUM(I45:Z45)","v":153},null,{"$f":"SUM(GETPIVOTDATA(\" Tam_AVP_ALCOHOLPOS_F\",TD!$A$62))","v":0},{"$f":"SUM(GETPIVOTDATA(\" Tam_AVP_ALCOHOLPOS_M\",TD!$A$62))","v":1},1]
[null,"TRASTORNO DE CONSUMO DE TABACO",null,null,null,null,null,null,{"$f":"SUM(GETPIVOTDATA(\" Tam_TCTPOS_10_11M\",TD!$A$62))","v":0},{"$f":"SUM(GETPIVOTDATA(\" Tam_TCTPOS_10_11F\",TD!$A$62))","v":0},{"$f":"SUM(GETPIVOTDATA(\" Tam_TCTPOS_12_14M\",TD!$A$62))","v":0},{"$f":"SUM(GETPIVOTDATA(\" Tam_TCTPOS_12_14F\",TD!$A$62))","v":0},{"$f":"SUM(GETPIVOTDATA(\" Tam_TCTPOS_15_17M\",TD!$A$62))","v":3},{"$f":"SUM(GETPIVOTDATA(\" Tam_TCTPOS_15_17F\",TD!$A$62))","v":0},{"$f":"SUM(GETPIVOTDATA(\" Tam_TCTPOS_18_24M\",TD!$A$62))","v":0},{"$f":"SUM(GETPIVOTDATA(\" Tam_TCTPOS_18_24F\",TD!$A$62))","v":0},{"$f":"SUM(GETPIVOTDATA(\" Tam_TCTPOS_25_29M\",TD!$A$62))","v":0},{"$f":"SUM(GETPIVOTDATA(\" Tam_TCTPOS_25_29F\",TD!$A$62))","v":0},{"$f":"SUM(GETPIVOTDATA(\" Tam_TCTPOS_30_39M\",TD!$A$62))","v":0},{"$f":"SUM(GETPIVOTDATA(\" Tam_TCTPOS_30_39F\",TD!$A$62))","v":0},{"$f":"SUM(GETPIVOTDATA(\" Tam_TCTPOS_40_59M\",TD!$A$62))","v":0},{"$f":"SUM(GETPIVOTDATA(\" Tam_TCTPOS_40_59F\",TD!$A$62))","v":0},{"$f":"SUM(GETPIVOTDATA(\" Tam_TCTPOS_60_79M\",TD!$A$62))","v":0},{"$f":"SUM(GETPIVOTDATA(\" Tam_TCTPOS_60_79F\",TD!$A$62))","v":0},{"$f":"SUM(GETPIVOTDATA(\" Tam_TCTPOS_80M\",TD!$A$62))","v":0},{"$f":"SUM(GETPIVOTDATA(\" Tam_TCTPOS_80F\",TD!$A$62))","v":0},null,{"$f":"SUM(I46:Z46)","v":3},null,{"$f":"SUM(GETPIVOTDATA(\" Tam_AVP_TABACOPOS_F\",TD!$A$62))","v":0},{"$f":"SUM(GETPIVOTDATA(\" Tam_AVP_TABACOPOS_M\",TD!$A$62))","v":0},0]
[null,"TRASTORNO DE CONSUMO DE DROGAS",null,null,null,null,null,null,{"$f":"SUM(GETPIVOTDATA(\" Tam_TCDPOS_10_11M\",TD!$A$62))","v":0},{"$f":"SUM(GETPIVOTDATA(\" Tam_TCDPOS_10_11F\",TD!$A$62))","v":0},{"$f":"SUM(GETPIVOTDATA(\" Tam_TCDPOS_12_14M\",TD!$A$62))","v":0},{"$f":"SUM(GETPIVOTDATA(\" Tam_TCDPOS_12_14F\",TD!$A$62))","v":0},{"$f":"SUM(GETPIVOTDATA(\" Tam_TCDPOS_15_17M\",TD!$A$62))","v":1},{"$f":"SUM(GETPIVOTDATA(\" Tam_TCDPOS_15_17F\",TD!$A$62))","v":0},{"$f":"SUM(GETPIVOTDATA(\" Tam_TCDPOS_18_24M\",TD!$A$62))","v":2},{"$f":"SUM(GETPIVOTDATA(\" Tam_TCDPOS_18_24F\",TD!$A$62))","v":2},{"$f":"SUM(GETPIVOTDATA(\" Tam_TCDPOS_25_29M\",TD!$A$62))","v":0},{"$f":"SUM(GETPIVOTDATA(\" Tam_TCDPOS_25_29F\",TD!$A$62))","v":0},{"$f":"SUM(GETPIVOTDATA(\" Tam_TCDPOS_30_39M\",TD!$A$62))","v":0},{"$f":"SUM(GETPIVOTDATA(\" Tam_TCDPOS_30_39F\",TD!$A$62))","v":0},{"$f":"SUM(GETPIVOTDATA(\" Tam_TCDPOS_40_59M\",TD!$A$62))","v":0},{"$f":"SUM(GETPIVOTDATA(\" Tam_TCDPOS_40_59F\",TD!$A$62))","v":0},{"$f":"SUM(GETPIVOTDATA(\" Tam_TCDPOS_60_79M\",TD!$A$62))","v":0},{"$f":"SUM(GETPIVOTDATA(\" Tam_TCDPOS_60_79F\",TD!$A$62))","v":0},{"$f":"SUM(GETPIVOTDATA(\" Tam_TCDPOS_80M\",TD!$A$62))","v":0},{"$f":"SUM(GETPIVOTDATA(\" Tam_TCDPOS_80F\",TD!$A$62))","v":0},null,{"$f":"SUM(I47:Z47)","v":5},null,{"$f":"SUM(GETPIVOTDATA(\" Tam_AVP_DROGAPOS_F\",TD!$A$62))","v":0},{"$f":"SUM(GETPIVOTDATA(\" Tam_AVP_DROGAPOS_M\",TD!$A$62))","v":0},0]
[null,"SINDROME Y/O TRASTORNO PSICÓTICO ",null,null,null,null,null,null,null,null,{"$f":"SUM(GETPIVOTDATA(\" Tam_EPPOS_12_14M\",TD!$A$62))","v":5},{"$f":"SUM(GETPIVOTDATA(\" Tam_EPPOS_12_14F\",TD!$A$62))","v":1},{"$f":"SUM(GETPIVOTDATA(\" Tam_EPPOS_15_17M\",TD!$A$62))","v":4},{"$f":"SUM(GETPIVOTDATA(\" Tam_EPPOS_15_17F\",TD!$A$62))","v":3},{"$f":"SUM(GETPIVOTDATA(\" Tam_EPPOS_18_24M\",TD!$A$62))","v":4},{"$f":"SUM(GETPIVOTDATA(\" Tam_EPPOS_18_24F\",TD!$A$62))","v":5},{"$f":"SUM(GETPIVOTDATA(\" Tam_EPPOS_25_29M\",TD!$A$62))","v":3},{"$f":"SUM(GETPIVOTDATA(\" Tam_EPPOS_25_29F\",TD!$A$62))","v":2},{"$f":"SUM(GETPIVOTDATA(\" Tam_EPPOS_30_39M\",TD!$A$62))","v":8},{"$f":"SUM(GETPIVOTDATA(\" Tam_EPPOS_30_39F\",TD!$A$62))","v":16},{"$f":"SUM(GETPIVOTDATA(\" Tam_EPPOS_40_59M\",TD!$A$62))","v":4},{"$f":"SUM(GETPIVOTDATA(\" Tam_EPPOS_40_59F\",TD!$A$62))","v":14},{"$f":"SUM(GETPIVOTDATA(\" Tam_EPPOS_60_79M\",TD!$A$62))","v":8},{"$f":"SUM(GETPIVOTDATA(\" Tam_EPPOS_60_79F\",TD!$A$62))","v":15},{"$f":"SUM(GETPIVOTDATA(\" Tam_EPPOS_80M\",TD!$A$62))","v":1},{"$f":"SUM(GETPIVOTDATA(\" Tam_EPPOS_80F\",TD!$A$62))","v":0},null,{"$f":"SUM(K48:Z48)","v":93},null,{"$f":"SUM(GETPIVOTDATA(\" Tam_AVP_EPPOS_F\",TD!$A$62))","v":0},{"$f":"SUM(GETPIVOTDATA(\" Tam_AVP_EPPOS_M\",TD!$A$62))","v":0},0]
[null,"PROBLEMAS DEL NEURODESARROLLO EN NIÑAS Y NIÑOS DE 0 A 3 AÑOS",{"$f":"SUM(GETPIVOTDATA(\" Tam_PND_POS_0_2M\",TD!$A$62))","v":3},{"$f":"SUM(GETPIVOTDATA(\" Tam_PND_POS_0_2F\",TD!$A$62))","v":0},null,null,null,null,null,null,null,null,null,null,null,null,null,null,null,null,null,null,null,null,null,null,null,{"$f":"+C49+D49","v":3},null,{"$f":"SUM(GETPIVOTDATA(\" Tam_AVP_PNDPOS_F\",TD!$A$62))","v":0},{"$f":"SUM(GETPIVOTDATA(\" Tam_AVP_PNDPOS_M\",TD!$A$62))","v":0},0]
[null,"DETERIORO COGNITIVO - DEMENCIA EN PERSONAS DE 60 AÑOS Y MÁS.",null,null,null,null,null,null,null,null,null,null,null,null,null,null,null,null,null,null,null,null,{"$f":"SUM(GETPIVOTDATA(\" Tam_DCognitivo_POS_60_79M\",TD!$A$62))","v":14},{"$f":"SUM(GETPIVOTDATA(\" Tam_DCognitivo_POS_60_79F\",TD!$A$62))","v":19},{"$f":"SUM(GETPIVOTDATA(\" Tam_DCognitivo_POS_80M\",TD!$A$62))","v":7},{"$f":"SUM(GETPIVOTDATA(\" Tam_DCognitivo_POS_80F\",TD!$A$62))","v":5},null,{"$f":"SUM(W50:Z50)","v":45},null,{"$f":"SUM(GETPIVOTDATA(\" Tam_AVP_DCognitivoPOS_F\",TD!$A$62))","v":0},{"$f":"SUM(GETPIVOTDATA(\" Tam_AVP_DCognitivoPOS_M\",TD!$A$62))","v":0},0]
[null,"TRASTORNOS MENTALES Y DEL COMPORTAMIENTO DE NIÑOS, NIÑAS Y ADOLESCENTES DE 3 DE 17 AÑOS",null,null,{"$f":"SUM(GETPIVOTDATA(\" Tam_TMentalComp_POS_3_5M\",TD!$A$62))","v":29},{"$f":"SUM(GETPIVOTDATA(\" Tam_TMentalComp_POS_3_5F\",TD!$A$62))","v":10},{"$f":"SUM(GETPIVOTDATA(\" Tam_TMentalComp_POS_6_9M\",TD!$A$62))","v":71},{"$f":"SUM(GETPIVOTDATA(\" Tam_TMentalComp_POS_6_9F\",TD!$A$62))","v":37},{"$f":"SUM(GETPIVOTDATA(\" Tam_TMentalComp_POS_10_11M\",TD!$A$62))","v":20},{"$f":"SUM(GETPIVOTDATA(\" Tam_TMentalComp_POS_10_11F\",TD!$A$62))","v":19},{"$f":"SUM(GETPIVOTDATA(\" Tam_TMentalComp_POS_12_14M\",TD!$A$62))","v":34},{"$f":"SUM(GETPIVOTDATA(\" Tam_TMentalComp_POS_12_14F\",TD!$A$62))","v":24},{"$f":"SUM(GETPIVOTDATA(\" Tam_TMentalComp_POS_15_17M\",TD!$A$62))","v":15},{"$f":"SUM(GETPIVOTDATA(\" Tam_TMentalComp_POS_15_17F\",TD!$A$62))","v":24},null,null,null,null,null,null,null,null,null,null,null,null,null,{"$f":"SUM(E51:N51)","v":283},null,{"$f":"SUM(GETPIVOTDATA(\" Tam_AVP_TMentalCompPOS_F\",TD!$A$62))","v":0},{"$f":"SUM(GETPIVOTDATA(\" Tam_AVP_TMentalCompPOS_M\",TD!$A$62))","v":1},1]
[null,"Nª DE GESTANTES CON TAMIZAJE POSITIVO EN VIOLENCIA",null,null,null,null,null,null,null,null,null,{"$f":"SUM(GETPIVOTDATA(\" Tam_VIFPOS_g_12_14F\",TD!$A$38))","v":0},null,{"$f":"SUM(GETPIVOTDATA(\" Tam_VIFPOS_g_15_17F\",TD!$A$38))","v":2},null,{"$f":"SUM(GETPIVOTDATA(\" Tam_VIFPOS_g_18_24F\",TD!$A$38))","v":4},null,{"$f":"SUM(GETPIVOTDATA(\" Tam_VIFPOS_g_25_29F\",TD!$A$38))","v":1},null,{"$f":"SUM(GETPIVOTDATA(\" Tam_VIFPOS_g_30_39F\",TD!$A$38))","v":4},null,{"$f":"SUM(GETPIVOTDATA(\" Tam_VIFPOS_g_40_59F\",TD!$A$38))","v":1},null,null,null,null,null,{"$f":"+L52+N52+P52+R52+T52+V52","v":12},null,{"$f":"SUM(GETPIVOTDATA(\" Tam_AVP_VIFpos_g_F\",TD!$A$62))","v":0},null,{"$f":"AD52","v":0}]
[null,"Nª DE GESTANTES CON TAMIZAJE POSITIVO EN TRASTORNO DEPRESIVO",null,null,null,null,null,null,null,null,null,{"$f":"SUM(GETPIVOTDATA(\" Tam_tdPOS_g_12_14F\",TD!$A$62))","v":0},null,{"$f":"SUM(GETPIVOTDATA(\" Tam_tdPOS_g_15_17F\",TD!$A$62))","v":1},null,{"$f":"SUM(GETPIVOTDATA(\" Tam_tdPOS_g_18_24F\",TD!$A$62))","v":4},null,{"$f":"SUM(GETPIVOTDATA(\" Tam_tdPOS_g_25_29F\",TD!$A$62))","v":3},null,{"$f":"SUM(GETPIVOTDATA(\" Tam_tdPOS_g_30_39F\",TD!$A$62))","v":2},null,{"$f":"SUM(GETPIVOTDATA(\" Tam_tdPOS_g_40_59F\",TD!$A$62))","v":0},null,null,null,null,null,{"$f":"+L53+N53+P53+R53+T53+V53","v":10},null,{"$f":"SUM(GETPIVOTDATA(\" Tam_AVP_tdpos_g_F\",TD!$A$62))","v":0},null,{"$f":"AD53","v":0}]
[null,"* Todo tamizaje tiene una consejería, sea  positivo o negativo.",null,null,null,null,null,null,null,null,null,null,null,"."]
[]
[]
[null,"TAMIZAJE TRASTORNOS MENTALES Y DEL COMPORTAMIENTO EN NIÑAS, NIÑOS Y ADOLESCENTES 3 - 17a"]
[null,"ETAPA DE VIDA/\nSEXO","NIÑO\n3 a 11",null,"ADOLESCENTE\n12 a 17"]
[null,"SEXO","M","F","M","F"]
[null,"Problemas emocionales",{"$f":"SUM(GETPIVOTDATA(\" Tam_TrasMental_PE_3_11M\",TD!$A$62))","v":29},{"$f":"SUM(GETPIVOTDATA(\" Tam_TrasMental_PE_3_11F\",TD!$A$62))","v":22},{"$f":"SUM(GETPIVOTDATA(\" Tam_TrasMental_PE_12_17M\",TD!$A$62))","v":23},{"$f":"SUM(GETPIVOTDATA(\" Tam_TrasMental_PE_12_17F\",TD!$A$62))","v":26}]
[null,"Problemas de atención",{"$f":"SUM(GETPIVOTDATA(\" Tam_TrasMental_PA_3_11M\",TD!$A$62))","v":26},{"$f":"SUM(GETPIVOTDATA(\" Tam_TrasMental_PA_3_11F\",TD!$A$62))","v":10},{"$f":"SUM(GETPIVOTDATA(\" Tam_TrasMental_PA_12_17M\",TD!$A$62))","v":9},{"$f":"SUM(GETPIVOTDATA(\" Tam_TrasMental_PA_12_17F\",TD!$A$62))","v":2}]
[null,"Problemas de  conducta.",{"$f":"SUM(GETPIVOTDATA(\" Tam_TrasMental_PC_3_11M\",TD!$A$62))","v":30},{"$f":"SUM(GETPIVOTDATA(\" Tam_TrasMental_PC_3_11F\",TD!$A$62))","v":24},{"$f":"SUM(GETPIVOTDATA(\" Tam_TrasMental_PC_12_17M\",TD!$A$62))","v":3},{"$f":"SUM(GETPIVOTDATA(\" Tam_TrasMental_PC_12_17F\",TD!$A$62))","v":4}]
[]
[null,"PERSONAS CON TRASTORNOS MENTALES Y PROBLEMAS PSICOSOCIALES: ATENDIDOS Y ATENCIONES"]
[]
[null,"ETAPA DE VIDA","NIÑO",null,null,null,null,null,null,null,"ADOLESCENTE",null,null,null,"JOVEN",null,null,null,"ADULTO",null,null,null,"ADULTO MAYOR",null,null,null,"TOTAL ATENDIDOS",null,null,"TOTAL ATENCIONES"]
[null,"EDAD","< 1-2",null,"3 - 5",null,"6-9",null,"10 - 11",null,"12 - 14",null,"15 - 17",null,"18 - 24",null,"25 - 29",null,"30 - 39",null,"40 - 59 ",null,"60 - 79",null,"80  +",null,"TOTAL\n F","TOTAL\n M","AVANCE TOTAL","TOTAL\n F","TOTAL\n M","AVANCE TOTAL"]
[null,"SEXO","M","F","M","F","M","F","M","F","M","F","M","F","M","F","M","F","M","F","M","F","M","F","M","F"]
[null,"ACOGIDA EN LOS CSMC",{"$f":"SUM(GETPIVOTDATA(\" Atd_acogida_csm_0_2M\",TD!$A$62))","v":10},{"$f":"SUM(GETPIVOTDATA(\" Atd_acogida_csm_0_2F\",TD!$A$62))","v":3},{"$f":"SUM(GETPIVOTDATA(\" Atd_acogida_csm_3_5M\",TD!$A$62))","v":45},{"$f":"SUM(GETPIVOTDATA(\" Atd_acogida_csm_3_5F\",TD!$A$62))","v":21},{"$f":"SUM(GETPIVOTDATA(\" Atd_acogida_csm_6_9M\",TD!$A$62))","v":36},{"$f":"SUM(GETPIVOTDATA(\" Atd_acogida_csm_6_9F\",TD!$A$62))","v":23},{"$f":"SUM(GETPIVOTDATA(\" Atd_acogida_csm_10_11M\",TD!$A$62))","v":16},{"$f":"SUM(GETPIVOTDATA(\" Atd_acogida_csm_10_11F\",TD!$A$62))","v":11},{"$f":"SUM(GETPIVOTDATA(\" Atd_acogida_csm_12_14M\",TD!$A$62))","v":27},{"$f":"SUM(GETPIVOTDATA(\" Atd_acogida_csm_12_14F\",TD!$A$62))","v":43},{"$f":"SUM(GETPIVOTDATA(\" Atd_acogida_csm_15_17M\",TD!$A$62))","v":18},{"$f":"SUM(GETPIVOTDATA(\" Atd_acogida_csm_15_17F\",TD!$A$62))","v":31},{"$f":"SUM(GETPIVOTDATA(\" Atd_acogida_csm_18_24M\",TD!$A$62))","v":42},{"$f":"SUM(GETPIVOTDATA(\" Atd_acogida_csm_18_24F\",TD!$A$62))","v":58},{"$f":"SUM(GETPIVOTDATA(\" Atd_acogida_csm_25_29M\",TD!$A$62))","v":40},{"$f":"SUM(GETPIVOTDATA(\" Atd_acogida_csm_25_29F\",TD!$A$62))","v":38},{"$f":"SUM(GETPIVOTDATA(\" Atd_acogida_csm_30_39M\",TD!$A$62))","v":60},{"$f":"SUM(GETPIVOTDATA(\" Atd_acogida_csm_30_39F\",TD!$A$62))","v":82},{"$f":"SUM(GETPIVOTDATA(\" Atd_acogida_csm_40_59M\",TD!$A$62))","v":98},{"$f":"SUM(GETPIVOTDATA(\" Atd_acogida_csm_40_59F\",TD!$A$62))","v":75},{"$f":"SUM(GETPIVOTDATA(\" Atd_acogida_csm_60_79M\",TD!$A$62))","v":26},{"$f":"SUM(GETPIVOTDATA(\" Atd_acogida_csm_60_79F\",TD!$A$62))","v":18},{"$f":"SUM(GETPIVOTDATA(\" Atd_acogida_csm_80M\",TD!$A$62))","v":4},{"$f":"SUM(GETPIVOTDATA(\" Atd_acogida_csm_80F\",TD!$A$62))","v":1},{"$f":"+D69+F69+H69+J69+L69+N69+P69+R69+T69+V69+X69+Z69","v":404},{"$f":"C69+E69+G69+I69+K69+M69+O69+Q69+S69+U69+W69+Y69","v":422},{"$f":"+AA69+AB69","v":826}]
[null,"VIOLENCIA FAMILIAR / MALTRATO INFANTIL",{"$f":"SUM(GETPIVOTDATA(\" Atd_VIF_0_2M\",TD!$A$62))","v":2},{"$f":"SUM(GETPIVOTDATA(\" Atd_VIF_0_2F\",TD!$A$62))","v":3},{"$f":"SUM(GETPIVOTDATA(\" Atd_VIF_3_5M\",TD!$A$62))","v":18},{"$f":"SUM(GETPIVOTDATA(\" Atd_VIF_3_5F\",TD!$A$62))","v":12},{"$f":"SUM(GETPIVOTDATA(\" Atd_VIF_6_9M\",TD!$A$62))","v":32},{"$f":"SUM(GETPIVOTDATA(\" Atd_VIF_6_9F\",TD!$A$62))","v":37},{"$f":"SUM(GETPIVOTDATA(\" Atd_VIF_10_11M\",TD!$A$62))","v":30},{"$f":"SUM(GETPIVOTDATA(\" Atd_VIF_10_11F\",TD!$A$62))","v":18},{"$f":"SUM(GETPIVOTDATA(\" Atd_VIF_12_14M\",TD!$A$62))","v":25},{"$f":"SUM(GETPIVOTDATA(\" Atd_VIF_12_14F\",TD!$A$62))","v":54},{"$f":"SUM(GETPIVOTDATA(\" Atd_VIF_15_17M\",TD!$A$62))","v":18},{"$f":"SUM(GETPIVOTDATA(\" Atd_VIF_15_17F\",TD!$A$62))","v":48},{"$f":"SUM(GETPIVOTDATA(\" Atd_VIF_18_24M\",TD!$A$62))","v":10},{"$f":"SUM(GETPIVOTDATA(\" Atd_VIF_18_24F\",TD!$A$62))","v":125},{"$f":"SUM(GETPIVOTDATA(\" Atd_VIF_25_29M\",TD!$A$62))","v":4},{"$f":"SUM(GETPIVOTDATA(\" Atd_VIF_25_29F\",TD!$A$62))","v":106},{"$f":"SUM(GETPIVOTDATA(\" Atd_VIF_30_39M\",TD!$A$62))","v":29},{"$f":"SUM(GETPIVOTDATA(\" Atd_VIF_30_39F\",TD!$A$62))","v":219},{"$f":"SUM(GETPIVOTDATA(\" Atd_VIF_40_59M\",TD!$A$62))","v":22},{"$f":"SUM(GETPIVOTDATA(\" Atd_VIF_40_59F\",TD!$A$62))","v":190},{"$f":"SUM(GETPIVOTDATA(\" Atd_VIF_60_79M\",TD!$A$62))","v":1},{"$f":"SUM(GETPIVOTDATA(\" Atd_VIF_60_79F\",TD!$A$62))","v":22},{"$f":"SUM(GETPIVOTDATA(\" Atd_VIF_80M\",TD!$A$62))","v":1},{"$f":"SUM(GETPIVOTDATA(\" Atd_VIF_80F\",TD!$A$62))","v":3},{"$f":"+D70+F70+H70+J70+L70+N70+P70+R70+T70+V70+X70+Z70","v":837},{"$f":"C70+E70+G70+I70+K70+M70+O70+Q70+S70+U70+W70+Y70","v":192},{"$f":"+AA70+AB70","v":1029},{"$f":"SUM(GETPIVOTDATA(\" Atc_VIF_Totalf\",TD!$A$62))","v":1928},{"$f":"SUM(GETPIVOTDATA(\" Atc_VIF_TOTALM\",TD!$A$62))","v":510},{"$f":"+AD70+AE70","v":2438}]
[null,"VIOLENCIA O ABUSO SEXUAL",{"$f":"SUM(GETPIVOTDATA(\" Atd_AbusoS_0_2M\",TD!$A$62))","v":0},{"$f":"SUM(GETPIVOTDATA(\" Atd_AbusoS_0_2F\",TD!$A$62))","v":0},{"$f":"SUM(GETPIVOTDATA(\" Atd_AbusoS_3_5M\",TD!$A$62))","v":0},{"$f":"SUM(GETPIVOTDATA(\" Atd_AbusoS_3_5F\",TD!$A$62))","v":1},{"$f":"SUM(GETPIVOTDATA(\" Atd_AbusoS_6_9M\",TD!$A$62))","v":0},{"$f":"SUM(GETPIVOTDATA(\" Atd_AbusoS_6_9F\",TD!$A$62))","v":4},{"$f":"SUM(GETPIVOTDATA(\" Atd_AbusoS_10_11M\",TD!$A$62))","v":1},{"$f":"SUM(GETPIVOTDATA(\" Atd_AbusoS_10_11F\",TD!$A$62))","v":11},{"$f":"SUM(GETPIVOTDATA(\" Atd_AbusoS_12_14M\",TD!$A$62))","v":4},{"$f":"SUM(GETPIVOTDATA(\" Atd_AbusoS_12_14F\",TD!$A$62))","v":30},{"$f":"SUM(GETPIVOTDATA(\" Atd_AbusoS_15_17M\",TD!$A$62))","v":1},{"$f":"SUM(GETPIVOTDATA(\" Atd_AbusoS_15_17F\",TD!$A$62))","v":23},{"$f":"SUM(GETPIVOTDATA(\" Atd_AbusoS_18_24M\",TD!$A$62))","v":0},{"$f":"SUM(GETPIVOTDATA(\" Atd_AbusoS_18_24F\",TD!$A$62))","v":8},{"$f":"SUM(GETPIVOTDATA(\" Atd_AbusoS_25_29M\",TD!$A$62))","v":0},{"$f":"SUM(GETPIVOTDATA(\" Atd_AbusoS_25_29F\",TD!$A$62))","v":6},{"$f":"SUM(GETPIVOTDATA(\" Atd_AbusoS_30_39M\",TD!$A$62))","v":1},{"$f":"SUM(GETPIVOTDATA(\" Atd_AbusoS_30_39F\",TD!$A$62))","v":10},{"$f":"SUM(GETPIVOTDATA(\" Atd_AbusoS_40_59M\",TD!$A$62))","v":0},{"$f":"SUM(GETPIVOTDATA(\" Atd_AbusoS_40_59F\",TD!$A$62))","v":5},{"$f":"SUM(GETPIVOTDATA(\" Atd_AbusoS_60_79M\",TD!$A$62))","v":0},{"$f":"SUM(GETPIVOTDATA(\" Atd_AbusoS_60_79F\",TD!$A$62))","v":0},{"$f":"SUM(GETPIVOTDATA(\" Atd_AbusoS_80M\",TD!$A$62))","v":0},{"$f":"SUM(GETPIVOTDATA(\" Atd_AbusoS_80F\",TD!$A$62))","v":0},{"$f":"+D71+F71+H71+J71+L71+N71+P71+R71+T71+V71+X71+Z71","v":98},{"$f":"C71+E71+G71+I71+K71+M71+O71+Q71+S71+U71+W71+Y71","v":7},{"$f":"+AA71+AB71","v":105},{"$f":"SUM(GETPIVOTDATA(\" Atc_AbusoS_TotalF\",TD!$A$62))","v":391},{"$f":"SUM(GETPIVOTDATA(\" Atc_AbusoS_TotalM\",TD!$A$62))","v":23},{"$f":"+AD71+AE71","v":414}]
[null,"TRASTORNO DEL ESPECTRO AUTISTA",{"$f":"SUM(GETPIVOTDATA(\" Atd_EAutista_0_2M\",TD!$A$86))","v":9},{"$f":"SUM(GETPIVOTDATA(\" Atd_EAutista_0_2F\",TD!$A$86))","v":0},{"$f":"SUM(GETPIVOTDATA(\" Atd_EAutista_3_5M\",TD!$A$86))","v":26},{"$f":"SUM(GETPIVOTDATA(\" Atd_EAutista_3_5F\",TD!$A$86))","v":3},{"$f":"SUM(GETPIVOTDATA(\" Atd_EAutista_6_9M\",TD!$A$86))","v":4},{"$f":"SUM(GETPIVOTDATA(\" Atd_EAutista_6_9F\",TD!$A$86))","v":7},{"$f":"SUM(GETPIVOTDATA(\" Atd_EAutista_10_11M\",TD!$A$86))","v":2},{"$f":"SUM(GETPIVOTDATA(\" Atd_EAutista_10_11F\",TD!$A$86))","v":0},{"$f":"SUM(GETPIVOTDATA(\" Atd_EAutista_12_14M\",TD!$A$86))","v":4},{"$f":"SUM(GETPIVOTDATA(\" Atd_EAutista_12_14F\",TD!$A$86))","v":1},{"$f":"SUM(GETPIVOTDATA(\" Atd_EAutista_15_17M\",TD!$A$86))","v":1},{"$f":"SUM(GETPIVOTDATA(\" Atd_EAutista_15_17F\",TD!$A$86))","v":2},{"$f":"SUM(GETPIVOTDATA(\" Atd_EAutista_18_24M\",TD!$A$86))","v":8},{"$f":"SUM(GETPIVOTDATA(\" Atd_EAutista_18_24F\",TD!$A$86))","v":2},{"$f":"SUM(GETPIVOTDATA(\" Atd_EAutista_25_29M\",TD!$A$86))","v":0},{"$f":"SUM(GETPIVOTDATA(\" Atd_EAutista_25_29F\",TD!$A$86))","v":0},{"$f":"SUM(GETPIVOTDATA(\" Atd_EAutista_30_39M\",TD!$A$86))","v":5},{"$f":"SUM(GETPIVOTDATA(\" Atd_EAutista_30_39F\",TD!$A$86))","v":0},{"$f":"SUM(GETPIVOTDATA(\" Atd_EAutista_40_59M\",TD!$A$86))","v":0},{"$f":"SUM(GETPIVOTDATA(\" Atd_EAutista_40_59F\",TD!$A$86))","v":0},{"$f":"SUM(GETPIVOTDATA(\" Atd_EAutista_60_79M\",TD!$A$86))","v":1},{"$f":"SUM(GETPIVOTDATA(\" Atd_EAutista_60_79F\",TD!$A$86))","v":0},{"$f":"SUM(GETPIVOTDATA(\" Atd_EAutista_80M\",TD!$A$86))","v":0},{"$f":"SUM(GETPIVOTDATA(\" Atd_EAutista_80F\",TD!$A$86))","v":0},{"$f":"+D72+F72+H72+J72+L72+N72+P72+R72+T72+V72+X72+Z72","v":15},{"$f":"C72+E72+G72+I72+K72+M72+O72+Q72+S72+U72+W72+Y72","v":60},75,{"$f":"SUM(GETPIVOTDATA(\" Atc_EAutista_TotalF\",TD!$A$86))","v":130},{"$f":"SUM(GETPIVOTDATA(\" Atc_EAutista_TotalM\",TD!$A$86))","v":419},549]
[null,"TRASTORNOS MENTALES Y DEL COMPORTAMIENTO DE 0 -17 años",{"$f":"SUM(GETPIVOTDATA(\" Atd_TmentalC_0_2M\",TD!$A$86))","v":21},{"$f":"SUM(GETPIVOTDATA(\" Atd_TmentalC_0_2F\",TD!$A$86))","v":6},{"$f":"SUM(GETPIVOTDATA(\" Atd_TmentalC_3_5M\",TD!$A$86))","v":98},{"$f":"SUM(GETPIVOTDATA(\" Atd_TmentalC_3_5F\",TD!$A$86))","v":39},{"$f":"SUM(GETPIVOTDATA(\" Atd_TmentalC_6_9M\",TD!$A$86))","v":153},{"$f":"SUM(GETPIVOTDATA(\" Atd_TmentalC_6_9F\",TD!$A$86))","v":82},{"$f":"SUM(GETPIVOTDATA(\" Atd_TmentalC_10_11M\",TD!$A$86))","v":47},{"$f":"SUM(GETPIVOTDATA(\" Atd_TmentalC_10_11F\",TD!$A$86))","v":47},{"$f":"SUM(GETPIVOTDATA(\" Atd_TmentalC_12_14M\",TD!$A$86))","v":105},{"$f":"SUM(GETPIVOTDATA(\" Atd_TmentalC_12_14F\",TD!$A$86))","v":74},{"$f":"SUM(GETPIVOTDATA(\" Atd_TmentalC_15_17M\",TD!$A$86))","v":37},{"$f":"SUM(GETPIVOTDATA(\" Atd_TmentalC_15_17F\",TD!$A$86))","v":29},null,null,null,null,null,null,null,null,null,null,null,null,{"$f":"+D73+F73+H73+J73+L73+N73","v":277},{"$f":"C73+E73+G73+I73+K73+M73","v":461},738,{"$f":"SUM(GETPIVOTDATA(\" Atc_TmentalC_TotalF\",TD!$A$86))","v":676},{"$f":"SUM(GETPIVOTDATA(\" Atc_TmentalC_TotalM\",TD!$A$86))","v":1381},2057]
[null,"TRASTORNO DEPRESIVO",{"$f":"SUM(GETPIVOTDATA(\" Atd_TD_0_2M\",TD!$A$86))","v":0},{"$f":"SUM(GETPIVOTDATA(\" Atd_TD_0_2F\",TD!$A$86))","v":0},{"$f":"SUM(GETPIVOTDATA(\" Atd_TD_3_5M\",TD!$A$86))","v":0},{"$f":"SUM(GETPIVOTDATA(\" Atd_TD_3_5F\",TD!$A$86))","v":0},{"$f":"SUM(GETPIVOTDATA(\" Atd_TD_6_9M\",TD!$A$86))","v":0},{"$f":"SUM(GETPIVOTDATA(\" Atd_TD_6_9F\",TD!$A$86))","v":2},{"$f":"SUM(GETPIVOTDATA(\" Atd_TD_10_11M\",TD!$A$86))","v":2},{"$f":"SUM(GETPIVOTDATA(\" Atd_TD_10_11F\",TD!$A$86))","v":5},{"$f":"SUM(GETPIVOTDATA(\" Atd_TD_12_14M\",TD!$A$86))","v":9},{"$f":"SUM(GETPIVOTDATA(\" Atd_TD_12_14F\",TD!$A$86))","v":48},{"$f":"SUM(GETPIVOTDATA(\" Atd_TD_15_17M\",TD!$A$86))","v":21},{"$f":"SUM(GETPIVOTDATA(\" Atd_TD_15_17F\",TD!$A$86))","v":87},{"$f":"SUM(GETPIVOTDATA(\" Atd_TD_18_24M\",TD!$A$86))","v":60},{"$f":"SUM(GETPIVOTDATA(\" Atd_TD_18_24F\",TD!$A$86))","v":165},{"$f":"SUM(GETPIVOTDATA(\" Atd_TD_25_29M\",TD!$A$86))","v":22},{"$f":"SUM(GETPIVOTDATA(\" Atd_TD_25_29F\",TD!$A$86))","v":91},{"$f":"SUM(GETPIVOTDATA(\" Atd_TD_30_39M\",TD!$A$86))","v":71},{"$f":"SUM(GETPIVOTDATA(\" Atd_TD_30_39F\",TD!$A$86))","v":184},{"$f":"SUM(GETPIVOTDATA(\" Atd_TD_40_59M\",TD!$A$86))","v":78},{"$f":"SUM(GETPIVOTDATA(\" Atd_TD_40_59F\",TD!$A$86))","v":224},{"$f":"SUM(GETPIVOTDATA(\" Atd_TD_60_79M\",TD!$A$86))","v":42},{"$f":"SUM(GETPIVOTDATA(\" Atd_TD_60_79F\",TD!$A$86))","v":84},{"$f":"SUM(GETPIVOTDATA(\" Atd_TD_80M\",TD!$A$86))","v":4},{"$f":"SUM(GETPIVOTDATA(\" Atd_TD_80F\",TD!$A$86))","v":7},{"$f":"+D74+F74+H74+J74+L74+N74+P74+R74+T74+V74+X74+Z74","v":897},{"$f":"C74+E74+G74+I74+K74+M74+O74+Q74+S74+U74+W74+Y74","v":309},1206,{"$f":"SUM(GETPIVOTDATA(\" Atc_TD_TotalF\",TD!$A$86))","v":2291},{"$f":"SUM(GETPIVOTDATA(\" Atc_TD_TotalM\",TD!$A$86))","v":667},2958]
[null,"TRASTORNO DE ANSIEDAD",{"$f":"SUM(GETPIVOTDATA(\" Atd_TAN_0_2M\",TD!$A$86))","v":0},{"$f":"SUM(GETPIVOTDATA(\" Atd_TAN_0_2F\",TD!$A$86))","v":0},{"$f":"SUM(GETPIVOTDATA(\" Atd_TAN_3_5M\",TD!$A$86))","v":0},{"$f":"SUM(GETPIVOTDATA(\" Atd_TAN_3_5F\",TD!$A$86))","v":1},{"$f":"SUM(GETPIVOTDATA(\" Atd_TAN_6_9M\",TD!$A$86))","v":3},{"$f":"SUM(GETPIVOTDATA(\" Atd_TAN_6_9F\",TD!$A$86))","v":2},{"$f":"SUM(GETPIVOTDATA(\" Atd_TAN_10_11M\",TD!$A$86))","v":1},{"$f":"SUM(GETPIVOTDATA(\" Atd_TAN_10_11F\",TD!$A$86))","v":7},{"$f":"SUM(GETPIVOTDATA(\" Atd_TAN_12_14M\",TD!$A$86))","v":14},{"$f":"SUM(GETPIVOTDATA(\" Atd_TAN_12_14F\",TD!$A$86))","v":11},{"$f":"SUM(GETPIVOTDATA(\" Atd_TAN_15_17M\",TD!$A$86))","v":9},{"$f":"SUM(GETPIVOTDATA(\" Atd_TAN_15_17F\",TD!$A$86))","v":29},{"$f":"SUM(GETPIVOTDATA(\" Atd_TAN_18_24M\",TD!$A$86))","v":53},{"$f":"SUM(GETPIVOTDATA(\" Atd_TAN_18_24F\",TD!$A$86))","v":71},{"$f":"SUM(GETPIVOTDATA(\" Atd_TAN_25_29M\",TD!$A$86))","v":39},{"$f":"SUM(GETPIVOTDATA(\" Atd_TAN_25_29F\",TD!$A$86))","v":71},{"$f":"SUM(GETPIVOTDATA(\" Atd_TAN_30_39M\",TD!$A$86))","v":53},{"$f":"SUM(GETPIVOTDATA(\" Atd_TAN_30_39F\",TD!$A$86))","v":83},{"$f":"SUM(GETPIVOTDATA(\" Atd_TAN_40_59M\",TD!$A$86))","v":62},{"$f":"SUM(GETPIVOTDATA(\" Atd_TAN_40_59F\",TD!$A$86))","v":108},{"$f":"SUM(GETPIVOTDATA(\" Atd_TAN_60_79M\",TD!$A$86))","v":31},{"$f":"SUM(GETPIVOTDATA(\" Atd_TAN_60_79F\",TD!$A$86))","v":54},{"$f":"SUM(GETPIVOTDATA(\" Atd_TAN_80M\",TD!$A$86))","v":6},{"$f":"SUM(GETPIVOTDATA(\" Atd_TAN_80F\",TD!$A$86))","v":4},{"$f":"+D75+F75+H75+J75+L75+N75+P75+R75+T75+V75+X75+Z75","v":441},{"$f":"C75+E75+G75+I75+K75+M75+O75+Q75+S75+U75+W75+Y75","v":271},712,{"$f":"SUM(GETPIVOTDATA(\" Atc_TAN_TotalF\",TD!$A$86))","v":1150},{"$f":"SUM(GETPIVOTDATA(\" Atc_TAN_TotalM\",TD!$A$86))","v":596},1746]
[null,"CONDUCTA SUICIDA",null,null,{"$f":"SUM(GETPIVOTDATA(\" Atd_Csuicida_3_5M\",TD!$A$86))","v":0},{"$f":"SUM(GETPIVOTDATA(\" Atd_Csuicida_3_5F\",TD!$A$86))","v":0},{"$f":"SUM(GETPIVOTDATA(\" Atd_Csuicida_6_9M\",TD!$A$86))","v":0},{"$f":"SUM(GETPIVOTDATA(\" Atd_Csuicida_6_9F\",TD!$A$86))","v":0},{"$f":"SUM(GETPIVOTDATA(\" Atd_Csuicida_10_11M\",TD!$A$86))","v":0},{"$f":"SUM(GETPIVOTDATA(\" Atd_Csuicida_10_11F\",TD!$A$86))","v":0},{"$f":"SUM(GETPIVOTDATA(\" Atd_TCsuicida_12_14M\",TD!$A$86))","v":2},{"$f":"SUM(GETPIVOTDATA(\" Atd_Csuicida_12_14F\",TD!$A$86))","v":1},{"$f":"SUM(GETPIVOTDATA(\" Atd_Csuicida_15_17M\",TD!$A$86))","v":1},{"$f":"SUM(GETPIVOTDATA(\" Atd_Csuicida_15_17F\",TD!$A$86))","v":1},{"$f":"SUM(GETPIVOTDATA(\" Atd_Csuicida_18_24M\",TD!$A$86))","v":0},{"$f":"SUM(GETPIVOTDATA(\" Atd_Csuicida_18_24F\",TD!$A$86))","v":4},{"$f":"SUM(GETPIVOTDATA(\" Atd_Csuicida_25_29M\",TD!$A$86))","v":0},{"$f":"SUM(GETPIVOTDATA(\" Atd_Csuicida_25_29F\",TD!$A$86))","v":2},{"$f":"SUM(GETPIVOTDATA(\" Atd_Csuicida_30_39M\",TD!$A$86))","v":1},{"$f":"SUM(GETPIVOTDATA(\" Atd_Csuicida_30_39F\",TD!$A$86))","v":1},{"$f":"SUM(GETPIVOTDATA(\" Atd_Csuicida_40_59M\",TD!$A$86))","v":1},{"$f":"SUM(GETPIVOTDATA(\" Atd_Csuicida_40_59F\",TD!$A$86))","v":1},{"$f":"SUM(GETPIVOTDATA(\" Atd_Csuicida_60_79M\",TD!$A$86))","v":0},{"$f":"SUM(GETPIVOTDATA(\" Atd_Csuicida_60_79F\",TD!$A$86))","v":0},{"$f":"SUM(GETPIVOTDATA(\" Atd_Csuicida_80M\",TD!$A$86))","v":0},{"$f":"SUM(GETPIVOTDATA(\" Atd_Csuicida_80F\",TD!$A$86))","v":0},{"$f":"+F76+H76+J76+L76+N76+P76+R76+T76+V76+X76+Z76","v":10},{"$f":"E76+G76+I76+K76+M76+O76+Q76+S76+U76+W76+Y76","v":5},15,{"$f":"SUM(GETPIVOTDATA(\" Atc_Csuicida_TotalF\",TD!$A$86))","v":15},{"$f":"SUM(GETPIVOTDATA(\" Atc_Csuicida_TotalM\",TD!$A$86))","v":11},26]
[null,"CONSUMO PERJUDICIAL DE ALCOHOL, TABACO Y OTRAS DROGAS",{"$f":"SUM(GETPIVOTDATA(\" Atd_TCA_0_2M\",TD!$A$86))","v":0},{"$f":"SUM(GETPIVOTDATA(\" Atd_TCA_0_2F\",TD!$A$86))","v":0},{"$f":"SUM(GETPIVOTDATA(\" Atd_TCA_3_5M\",TD!$A$86))","v":0},{"$f":"SUM(GETPIVOTDATA(\" Atd_TCA_3_5F\",TD!$A$86))","v":0},{"$f":"SUM(GETPIVOTDATA(\" Atd_TCA_6_9M\",TD!$A$86))","v":0},{"$f":"SUM(GETPIVOTDATA(\" Atd_TCA_6_9F\",TD!$A$86))","v":0},{"$f":"SUM(GETPIVOTDATA(\" Atd_TCA_10_11M\",TD!$A$86))","v":0},{"$f":"SUM(GETPIVOTDATA(\" Atd_TCA_10_11F\",TD!$A$86))","v":0},{"$f":"SUM(GETPIVOTDATA(\" Atd_TCA_12_14M\",TD!$A$86))","v":0},{"$f":"SUM(GETPIVOTDATA(\" Atd_TCA_12_14F\",TD!$A$86))","v":2},{"$f":"SUM(GETPIVOTDATA(\" Atd_TCA_15_17M\",TD!$A$86))","v":12},{"$f":"SUM(GETPIVOTDATA(\" Atd_TCA_15_17F\",TD!$A$86))","v":3},{"$f":"SUM(GETPIVOTDATA(\" Atd_TCA_18_24M\",TD!$A$86))","v":16},{"$f":"SUM(GETPIVOTDATA(\" Atd_TCA_18_24F\",TD!$A$86))","v":4},{"$f":"SUM(GETPIVOTDATA(\" Atd_TCA_25_29M\",TD!$A$86))","v":11},{"$f":"SUM(GETPIVOTDATA(\" Atd_TCA_25_29F\",TD!$A$86))","v":2},{"$f":"SUM(GETPIVOTDATA(\" Atd_TCA_30_39M\",TD!$A$86))","v":24},{"$f":"SUM(GETPIVOTDATA(\" Atd_TCA_30_39F\",TD!$A$86))","v":3},{"$f":"SUM(GETPIVOTDATA(\" Atd_TCA_40_59M\",TD!$A$86))","v":49},{"$f":"SUM(GETPIVOTDATA(\" Atd_TCA_40_59F\",TD!$A$86))","v":2},{"$f":"SUM(GETPIVOTDATA(\" Atd_TCA_60_79M\",TD!$A$86))","v":6},{"$f":"SUM(GETPIVOTDATA(\" Atd_TCA_60_79F\",TD!$A$86))","v":0},{"$f":"SUM(GETPIVOTDATA(\" Atd_TCA_80M\",TD!$A$86))","v":0},{"$f":"SUM(GETPIVOTDATA(\" Atd_TCA_80F\",TD!$A$86))","v":0},{"$f":"+D77+F77+H77+J77+L77+N77+P77+R77+T77+V77+X77+Z77","v":16},{"$f":"C77+E77+G77+I77+K77+M77+O77+Q77+S77+U77+W77+Y77","v":118},134,{"$f":"SUM(GETPIVOTDATA(\" Atc_TCA_TotalF\",TD!$A$86))","v":54},{"$f":"SUM(GETPIVOTDATA(\" Atc_TCA_TotalM\",TD!$A$86))","v":377},431]
[null,"DEPENDENCIA DEL ALCOHOL, TABACO Y OTRAS DROGAS",{"$f":"SUM(GETPIVOTDATA(\" Atd_DAOD_0_2M\",TD!$A$86))","v":0},{"$f":"SUM(GETPIVOTDATA(\" Atd_DAOD_0_2F\",TD!$A$86))","v":0},{"$f":"SUM(GETPIVOTDATA(\" Atd_DAOD_3_5M\",TD!$A$86))","v":0},{"$f":"SUM(GETPIVOTDATA(\" Atd_DAOD_3_5F\",TD!$A$86))","v":0},{"$f":"SUM(GETPIVOTDATA(\" Atd_DAOD_6_9M\",TD!$A$86))","v":0},{"$f":"SUM(GETPIVOTDATA(\" Atd_DAOD_6_9F\",TD!$A$86))","v":0},{"$f":"SUM(GETPIVOTDATA(\" Atd_DAOD_10_11M\",TD!$A$86))","v":0},{"$f":"SUM(GETPIVOTDATA(\" Atd_DAOD_10_11F\",TD!$A$86))","v":0},{"$f":"SUM(GETPIVOTDATA(\" Atd_DAOD_12_14M\",TD!$A$86))","v":0},{"$f":"SUM(GETPIVOTDATA(\" Atd_DAOD_12_14F\",TD!$A$86))","v":0},{"$f":"SUM(GETPIVOTDATA(\" Atd_DAOD_15_17M\",TD!$A$86))","v":0},{"$f":"SUM(GETPIVOTDATA(\" Atd_DAOD_15_17F\",TD!$A$86))","v":0},{"$f":"SUM(GETPIVOTDATA(\" Atd_DAOD_18_24M\",TD!$A$86))","v":3},{"$f":"SUM(GETPIVOTDATA(\" Atd_DAOD_18_24F\",TD!$A$86))","v":6},{"$f":"SUM(GETPIVOTDATA(\" Atd_DAOD_25_29M\",TD!$A$86))","v":8},{"$f":"SUM(GETPIVOTDATA(\" Atd_DAOD_25_29F\",TD!$A$86))","v":4},{"$f":"SUM(GETPIVOTDATA(\" Atd_DAOD_30_39M\",TD!$A$86))","v":15},{"$f":"SUM(GETPIVOTDATA(\" Atd_DAOD_30_39F\",TD!$A$86))","v":3},{"$f":"SUM(GETPIVOTDATA(\" Atd_DAOD_40_59M\",TD!$A$86))","v":47},{"$f":"SUM(GETPIVOTDATA(\" Atd_DAOD_40_59F\",TD!$A$86))","v":5},{"$f":"SUM(GETPIVOTDATA(\" Atd_DAOD_60_79M\",TD!$A$86))","v":9},{"$f":"SUM(GETPIVOTDATA(\" Atd_DAOD_60_79F\",TD!$A$86))","v":0},{"$f":"SUM(GETPIVOTDATA(\" Atd_DAOD_80M\",TD!$A$86))","v":0},{"$f":"SUM(GETPIVOTDATA(\" Atd_DAOD_80F\",TD!$A$86))","v":0},{"$f":"+D78+F78+H78+J78+L78+N78+P78+R78+T78+V78+X78+Z78","v":18},82,100,{"$f":"SUM(GETPIVOTDATA(\" Atc_DAOD_TotalF\",TD!$A$86))","v":61},{"$f":"SUM(GETPIVOTDATA(\" Atc_DAOD_TotalM\",TD!$A$86))","v":315},376]
[null,"SÍNDROME y/o TRASTORNO PSICÓTICO ",{"$f":"SUM(GETPIVOTDATA(\" Atd_TPS_0_2M\",TD!$A$86))","v":0},{"$f":"SUM(GETPIVOTDATA(\" Atd_TPS_0_2F\",TD!$A$86))","v":0},{"$f":"SUM(GETPIVOTDATA(\" Atd_TPS_3_5M\",TD!$A$86))","v":0},{"$f":"SUM(GETPIVOTDATA(\" Atd_TPS_3_5F\",TD!$A$86))","v":0},{"$f":"SUM(GETPIVOTDATA(\" Atd_TPS_6_9M\",TD!$A$86))","v":1},{"$f":"SUM(GETPIVOTDATA(\" Atd_TPS_6_9F\",TD!$A$86))","v":0},{"$f":"SUM(GETPIVOTDATA(\" Atd_TPS_10_11M\",TD!$A$86))","v":0},{"$f":"SUM(GETPIVOTDATA(\" Atd_TPS_10_11F\",TD!$A$86))","v":0},{"$f":"SUM(GETPIVOTDATA(\" Atd_TPS_12_14M\",TD!$A$86))","v":4},{"$f":"SUM(GETPIVOTDATA(\" Atd_TPS_12_14F\",TD!$A$86))","v":2},{"$f":"SUM(GETPIVOTDATA(\" Atd_TPS_15_17M\",TD!$A$86))","v":9},{"$f":"SUM(GETPIVOTDATA(\" Atd_TPS_15_17F\",TD!$A$86))","v":6},{"$f":"SUM(GETPIVOTDATA(\" Atd_TPS_18_24M\",TD!$A$86))","v":20},{"$f":"SUM(GETPIVOTDATA(\" Atd_TPS_18_24F\",TD!$A$86))","v":8},{"$f":"SUM(GETPIVOTDATA(\" Atd_TPS_25_29M\",TD!$A$86))","v":21},{"$f":"SUM(GETPIVOTDATA(\" Atd_TPS_25_29F\",TD!$A$86))","v":7},{"$f":"SUM(GETPIVOTDATA(\" Atd_TPS_30_39M\",TD!$A$86))","v":29},{"$f":"SUM(GETPIVOTDATA(\" Atd_TPS_30_39F\",TD!$A$86))","v":24},{"$f":"SUM(GETPIVOTDATA(\" Atd_TPS_40_59M\",TD!$A$86))","v":27},{"$f":"SUM(GETPIVOTDATA(\" Atd_TPS_40_59F\",TD!$A$86))","v":22},{"$f":"SUM(GETPIVOTDATA(\" Atd_TPS_60_79M\",TD!$A$86))","v":11},{"$f":"SUM(GETPIVOTDATA(\" Atd_TPS_60_79F\",TD!$A$86))","v":5},{"$f":"SUM(GETPIVOTDATA(\" Atd_TPS_80M\",TD!$A$86))","v":0},{"$f":"SUM(GETPIVOTDATA(\" Atd_TPS_80F\",TD!$A$86))","v":0},74,{"$f":"C79+E79+G79+I79+K79+M79+O79+Q79+S79+U79+W79+Y79","v":122},196,{"$f":"SUM(GETPIVOTDATA(\" Atc_TPS_TotalF\",TD!$A$86))","v":512},{"$f":"SUM(GETPIVOTDATA(\" Atc_TPS_TotalM\",TD!$A$86))","v":814},1326]
[null,"PRIMER EPISODIO PSICOTICO",{"$f":"SUM(GETPIVOTDATA(\" Atd_TPS1_0_2M\",TD!$A$86))","v":0},{"$f":"SUM(GETPIVOTDATA(\" Atd_TPS1_0_2F\",TD!$A$86))","v":0},{"$f":"SUM(GETPIVOTDATA(\" Atd_TPS1_3_5M\",TD!$A$86))","v":0},{"$f":"SUM(GETPIVOTDATA(\" Atd_TPS1_3_5F\",TD!$A$86))","v":0},{"$f":"SUM(GETPIVOTDATA(\" Atd_TPS1_6_9M\",TD!$A$86))","v":0},{"$f":"SUM(GETPIVOTDATA(\" Atd_TPS1_6_9F\",TD!$A$86))","v":0},{"$f":"SUM(GETPIVOTDATA(\" Atd_TPS1_10_11M\",TD!$A$86))","v":0},{"$f":"SUM(GETPIVOTDATA(\" Atd_TPS1_10_11F\",TD!$A$86))","v":0},{"$f":"SUM(GETPIVOTDATA(\" Atd_TPS1_12_14M\",TD!$A$86))","v":0},{"$f":"SUM(GETPIVOTDATA(\" Atd_TPS1_12_14F\",TD!$A$86))","v":0},{"$f":"SUM(GETPIVOTDATA(\" Atd_TPS1_15_17M\",TD!$A$86))","v":0},{"$f":"SUM(GETPIVOTDATA(\" Atd_TPS1_15_17F\",TD!$A$86))","v":0},{"$f":"SUM(GETPIVOTDATA(\" Atd_TPS1_18_24M\",TD!$A$86))","v":0},{"$f":"SUM(GETPIVOTDATA(\" Atd_TPS1_18_24F\",TD!$A$86))","v":0},{"$f":"SUM(GETPIVOTDATA(\" Atd_TPS1_25_29M\",TD!$A$86))","v":0},{"$f":"SUM(GETPIVOTDATA(\" Atd_TPS1_25_29F\",TD!$A$86))","v":0},{"$f":"SUM(GETPIVOTDATA(\" Atd_TPS1_30_39M\",TD!$A$86))","v":0},{"$f":"SUM(GETPIVOTDATA(\" Atd_TPS1_30_39F\",TD!$A$86))","v":0},{"$f":"SUM(GETPIVOTDATA(\" Atd_TPS1_40_59M\",TD!$A$86))","v":0},{"$f":"SUM(GETPIVOTDATA(\" Atd_TPS1_40_59F\",TD!$A$86))","v":0},{"$f":"SUM(GETPIVOTDATA(\" Atd_TPS1_60_79M\",TD!$A$86))","v":0},{"$f":"SUM(GETPIVOTDATA(\" Atd_TPS1_60_79F\",TD!$A$86))","v":0},{"$f":"SUM(GETPIVOTDATA(\" Atd_TPS1_80M\",TD!$A$86))","v":0},{"$f":"SUM(GETPIVOTDATA(\" Atd_TPS1_80F\",TD!$A$86))","v":0},0,0,0,{"$f":"SUM(GETPIVOTDATA(\" Atc_TPS1_TotalF\",TD!$A$86))","v":0},{"$f":"SUM(GETPIVOTDATA(\" Atc_TPS1_TotalM\",TD!$A$86))","v":0},0]
[null,"TRASTORNO MENTAL GRAVE",{"$f":"SUM(GETPIVOTDATA(\" Atd_TPS_Grav_0_2M\",TD!$A$110))","v":0},{"$f":"SUM(GETPIVOTDATA(\" Atd_TPS_Grav_0_2F\",TD!$A$110))","v":0},{"$f":"SUM(GETPIVOTDATA(\" Atd_TPS_Grav_3_5M\",TD!$A$110))","v":0},{"$f":"SUM(GETPIVOTDATA(\" Atd_TPS_Grav_3_5F\",TD!$A$110))","v":0},{"$f":"SUM(GETPIVOTDATA(\" Atd_TPS_Grav_6_9M\",TD!$A$110))","v":0},{"$f":"SUM(GETPIVOTDATA(\" Atd_TPS_Grav_6_9F\",TD!$A$110))","v":0},{"$f":"SUM(GETPIVOTDATA(\" Atd_TPS_Grav_10_11M\",TD!$A$110))","v":0},{"$f":"SUM(GETPIVOTDATA(\" Atd_TPS_Grav_10_11F\",TD!$A$110))","v":0},{"$f":"SUM(GETPIVOTDATA(\" Atd_TPS_Grav_12_14M\",TD!$A$110))","v":0},{"$f":"SUM(GETPIVOTDATA(\" Atd_TPS_Grav_12_14F\",TD!$A$110))","v":0},{"$f":"SUM(GETPIVOTDATA(\" Atd_TPS_Grav_15_17M\",TD!$A$110))","v":0},{"$f":"SUM(GETPIVOTDATA(\" Atd_TPS_Grav_15_17F\",TD!$A$110))","v":0},{"$f":"SUM(GETPIVOTDATA(\" Atd_TPS_Grav_18_24M\",TD!$A$110))","v":0},{"$f":"SUM(GETPIVOTDATA(\" Atd_TPS_Grav_18_24F\",TD!$A$110))","v":0},{"$f":"SUM(GETPIVOTDATA(\" Atd_TPS_Grav_25_29M\",TD!$A$110))","v":2},{"$f":"SUM(GETPIVOTDATA(\" Atd_TPS_Grav_25_29F\",TD!$A$110))","v":1},{"$f":"SUM(GETPIVOTDATA(\" Atd_TPS_Grav_30_39M\",TD!$A$110))","v":4},{"$f":"SUM(GETPIVOTDATA(\" Atd_TPS_Grav_30_39F\",TD!$A$110))","v":2},{"$f":"SUM(GETPIVOTDATA(\" Atd_TPS_Grav_40_59M\",TD!$A$110))","v":1},{"$f":"SUM(GETPIVOTDATA(\" Atd_TPS_Grav_40_59F\",TD!$A$110))","v":0},{"$f":"SUM(GETPIVOTDATA(\" Atd_TPS_Grav_60_79M\",TD!$A$110))","v":1},{"$f":"SUM(GETPIVOTDATA(\" Atd_TPS_Grav_60_79F\",TD!$A$110))","v":1},{"$f":"SUM(GETPIVOTDATA(\" Atd_TPS_Grav_80M\",TD!$A$110))","v":0},{"$f":"SUM(GETPIVOTDATA(\" Atd_TPS_Grav_80F\",TD!$A$110))","v":0},4,8,12,{"$f":"SUM(GETPIVOTDATA(\" Atc_TPS_Grav_TotalF\",TD!$A$110))","v":60},{"$f":"SUM(GETPIVOTDATA(\" Atc_TPS_Grav_TotalM\",TD!$A$110))","v":126},186]
[null,"VIOLENCIA ESCOLAR (Y062 - BULLYNG)",{"$f":"SUM(GETPIVOTDATA(\" Atd_BUL_0_2M\",TD!$A$110))","v":0},{"$f":"SUM(GETPIVOTDATA(\" Atd_BUL_0_2F\",TD!$A$110))","v":0},{"$f":"SUM(GETPIVOTDATA(\" Atd_BUL_3_5M\",TD!$A$110))","v":0},{"$f":"SUM(GETPIVOTDATA(\" Atd_BUL_3_5F\",TD!$A$110))","v":1},{"$f":"SUM(GETPIVOTDATA(\" Atd_BUL_6_9M\",TD!$A$110))","v":0},{"$f":"SUM(GETPIVOTDATA(\" Atd_BUL_6_9F\",TD!$A$110))","v":3},{"$f":"SUM(GETPIVOTDATA(\" Atd_BUL_10_11M\",TD!$A$110))","v":4},{"$f":"SUM(GETPIVOTDATA(\" Atd_BUL_10_11F\",TD!$A$110))","v":0},{"$f":"SUM(GETPIVOTDATA(\" Atd_BUL_12_14M\",TD!$A$110))","v":2},{"$f":"SUM(GETPIVOTDATA(\" Atd_BUL_12_14F\",TD!$A$110))","v":5},{"$f":"SUM(GETPIVOTDATA(\" Atd_BUL_15_17M\",TD!$A$110))","v":0},{"$f":"SUM(GETPIVOTDATA(\" Atd_BUL_15_17F\",TD!$A$110))","v":3},{"$f":"SUM(GETPIVOTDATA(\" Atd_BUL_18_24M\",TD!$A$110))","v":0},{"$f":"SUM(GETPIVOTDATA(\" Atd_BUL_18_24F\",TD!$A$110))","v":0},{"$f":"SUM(GETPIVOTDATA(\" Atd_BUL_25_29M\",TD!$A$110))","v":0},{"$f":"SUM(GETPIVOTDATA(\" Atd_BUL_25_29F\",TD!$A$110))","v":0},{"$f":"SUM(GETPIVOTDATA(\" Atd_BUL_30_39M\",TD!$A$110))","v":0},{"$f":"SUM(GETPIVOTDATA(\" Atd_BUL_30_39F\",TD!$A$110))","v":0},{"$f":"SUM(GETPIVOTDATA(\" Atd_BUL_40_59M\",TD!$A$110))","v":0},{"$f":"SUM(GETPIVOTDATA(\" Atd_BUL_40_59F\",TD!$A$110))","v":0},{"$f":"SUM(GETPIVOTDATA(\" Atd_BUL_60_79M\",TD!$A$110))","v":0},{"$f":"SUM(GETPIVOTDATA(\" Atd_BUL_60_79F\",TD!$A$110))","v":0},{"$f":"SUM(GETPIVOTDATA(\" Atd_BUL_80M\",TD!$A$110))","v":0},{"$f":"SUM(GETPIVOTDATA(\" Atd_BUL_80F\",TD!$A$110))","v":0},12,6,18,{"$f":"SUM(GETPIVOTDATA(\" Atc_BUL_totalF\",TD!$A$110))","v":23},{"$f":"SUM(GETPIVOTDATA(\" Atc_BUL_TotalM\",TD!$A$110))","v":21},44]
[null,"DETERIORO COGNITIVO",{"$f":"SUM(GETPIVOTDATA(\" Atd_DCog_0_2M\",TD!$A$110))","v":0},{"$f":"SUM(GETPIVOTDATA(\" Atd_DCog_0_2F\",TD!$A$110))","v":0},{"$f":"SUM(GETPIVOTDATA(\" Atd_DCog_3_5M\",TD!$A$110))","v":0},{"$f":"SUM(GETPIVOTDATA(\" Atd_DCog_3_5F\",TD!$A$110))","v":0},{"$f":"SUM(GETPIVOTDATA(\" Atd_DCog_6_9M\",TD!$A$110))","v":0},{"$f":"SUM(GETPIVOTDATA(\" Atd_DCog_6_9F\",TD!$A$110))","v":1},{"$f":"SUM(GETPIVOTDATA(\" Atd_DCog_10_11M\",TD!$A$110))","v":0},{"$f":"SUM(GETPIVOTDATA(\" Atd_DCog_10_11F\",TD!$A$110))","v":0},{"$f":"SUM(GETPIVOTDATA(\" Atd_DCog_12_14M\",TD!$A$110))","v":2},{"$f":"SUM(GETPIVOTDATA(\" Atd_DCog_12_14F\",TD!$A$110))","v":2},{"$f":"SUM(GETPIVOTDATA(\" Atd_DCog_15_17M\",TD!$A$110))","v":0},{"$f":"SUM(GETPIVOTDATA(\" Atd_DCog_15_17F\",TD!$A$110))","v":1},{"$f":"SUM(GETPIVOTDATA(\" Atd_DCog_18_24M\",TD!$A$110))","v":1},{"$f":"SUM(GETPIVOTDATA(\" Atd_DCog_18_24F\",TD!$A$110))","v":1},{"$f":"SUM(GETPIVOTDATA(\" Atd_DCog_25_29M\",TD!$A$110))","v":1},{"$f":"SUM(GETPIVOTDATA(\" Atd_DCog_25_29F\",TD!$A$110))","v":2},{"$f":"SUM(GETPIVOTDATA(\" Atd_DCog_30_39M\",TD!$A$110))","v":3},{"$f":"SUM(GETPIVOTDATA(\" Atd_DCog_30_39F\",TD!$A$110))","v":1},{"$f":"SUM(GETPIVOTDATA(\" Atd_DCog_40_59M\",TD!$A$110))","v":5},{"$f":"SUM(GETPIVOTDATA(\" Atd_DCog_40_59F\",TD!$A$110))","v":7},{"$f":"SUM(GETPIVOTDATA(\" Atd_DCog_60_79M\",TD!$A$110))","v":28},{"$f":"SUM(GETPIVOTDATA(\" Atd_DCog_60_79F\",TD!$A$110))","v":25},{"$f":"SUM(GETPIVOTDATA(\" Atd_DCog_80M\",TD!$A$110))","v":19},{"$f":"SUM(GETPIVOTDATA(\" Atd_DCog_80F\",TD!$A$110))","v":20},60,59,119,{"$f":"SUM(GETPIVOTDATA(\" Atc_DCog_TotalF\",TD!$A$110))","v":196},{"$f":"SUM(GETPIVOTDATA(\" Atc_DCog_TotalM\",TD!$A$110))","v":201},397]
[null,"PRIMEROS AUXILIOS PSICOLÓGICOS EN SITUACIONES DE CRISIS Y EMERGENCIAS HUMANITARIAS  ",{"$f":"SUM(GETPIVOTDATA(\" Atd_Pauxi_0_2M\",TD!$A$110))","v":1},{"$f":"SUM(GETPIVOTDATA(\" Atd_Pauxi_0_2F\",TD!$A$110))","v":0},{"$f":"SUM(GETPIVOTDATA(\" Atd_Pauxi_3_5M\",TD!$A$110))","v":1},{"$f":"SUM(GETPIVOTDATA(\" Atd_Pauxi_3_5F\",TD!$A$110))","v":0},{"$f":"SUM(GETPIVOTDATA(\" Atd_Pauxi_6_9M\",TD!$A$110))","v":2},{"$f":"SUM(GETPIVOTDATA(\" Atd_Pauxi_6_9F\",TD!$A$110))","v":3},{"$f":"SUM(GETPIVOTDATA(\" Atd_Pauxi_10_11M\",TD!$A$110))","v":0},{"$f":"SUM(GETPIVOTDATA(\" Atd_Pauxi_10_11F\",TD!$A$110))","v":0},{"$f":"SUM(GETPIVOTDATA(\" Atd_Pauxi_12_14M\",TD!$A$110))","v":0},{"$f":"SUM(GETPIVOTDATA(\" Atd_Pauxi_12_14F\",TD!$A$110))","v":1},{"$f":"SUM(GETPIVOTDATA(\" Atd_Pauxi_15_17M\",TD!$A$110))","v":0},{"$f":"SUM(GETPIVOTDATA(\" Atd_Pauxi_15_17F\",TD!$A$110))","v":3},{"$f":"SUM(GETPIVOTDATA(\" Atd_Pauxi_18_24M\",TD!$A$110))","v":1},{"$f":"SUM(GETPIVOTDATA(\" Atd_Pauxi_18_24F\",TD!$A$110))","v":9},{"$f":"SUM(GETPIVOTDATA(\" Atd_Pauxi_25_29M\",TD!$A$110))","v":1},{"$f":"SUM(GETPIVOTDATA(\" Atd_Pauxi_25_29F\",TD!$A$110))","v":1},{"$f":"SUM(GETPIVOTDATA(\" Atd_Pauxi_30_39M\",TD!$A$110))","v":2},{"$f":"SUM(GETPIVOTDATA(\" Atd_Pauxi_30_39F\",TD!$A$110))","v":13},{"$f":"SUM(GETPIVOTDATA(\" Atd_Pauxi_40_59M\",TD!$A$110))","v":2},{"$f":"SUM(GETPIVOTDATA(\" Atd_Pauxi_40_59F\",TD!$A$110))","v":9},{"$f":"SUM(GETPIVOTDATA(\" Atd_Pauxi_60_79M\",TD!$A$110))","v":0},{"$f":"SUM(GETPIVOTDATA(\" Atd_Pauxi_60_79F\",TD!$A$110))","v":2},{"$f":"SUM(GETPIVOTDATA(\" Atd_Pauxi_80M\",TD!$A$110))","v":0},{"$f":"SUM(GETPIVOTDATA(\" Atd_Pauxi_80F\",TD!$A$110))","v":3},44,10,54,{"$f":"SUM(GETPIVOTDATA(\" Atc_Pauxi_TotalF\",TD!$A$110))","v":46},{"$f":"SUM(GETPIVOTDATA(\" Atc_Pauxi_TotalM\",TD!$A$110))","v":10},56]
[null,"AFECTADO POR VIOLENCIA POLITICA",null,null,null,null,null,null,null,null,{"$f":"SUM(GETPIVOTDATA(\" Atd_ViolenciaP_12_14M\",TD!$A$110))","v":1},{"$f":"SUM(GETPIVOTDATA(\" Atd_ViolenciaP_12_14F\",TD!$A$110))","v":0},{"$f":"SUM(GETPIVOTDATA(\" Atd_ViolenciaP_15_17M\",TD!$A$110))","v":1},{"$f":"SUM(GETPIVOTDATA(\" Atd_ViolenciaP_15_17F\",TD!$A$110))","v":2},{"$f":"SUM(GETPIVOTDATA(\" Atd_ViolenciaP_18_24M\",TD!$A$110))","v":1},{"$f":"SUM(GETPIVOTDATA(\" Atd_ViolenciaP_18_24F\",TD!$A$110))","v":0},{"$f":"SUM(GETPIVOTDATA(\" Atd_ViolenciaP_25_29M\",TD!$A$110))","v":0},{"$f":"SUM(GETPIVOTDATA(\" Atd_ViolenciaP_25_29F\",TD!$A$110))","v":0},{"$f":"SUM(GETPIVOTDATA(\" Atd_ViolenciaP_30_39M\",TD!$A$110))","v":0},{"$f":"SUM(GETPIVOTDATA(\" Atd_ViolenciaP_30_39F\",TD!$A$110))","v":4},{"$f":"SUM(GETPIVOTDATA(\" Atd_ViolenciaP_40_59M\",TD!$A$110))","v":3},{"$f":"SUM(GETPIVOTDATA(\" Atd_ViolenciaP_40_59F\",TD!$A$110))","v":3},{"$f":"SUM(GETPIVOTDATA(\" Atd_ViolenciaP_60_79M\",TD!$A$110))","v":1},{"$f":"SUM(GETPIVOTDATA(\" Atd_ViolenciaP_60_79F\",TD!$A$110))","v":0},{"$f":"SUM(GETPIVOTDATA(\" Atd_ViolenciaP_80M\",TD!$A$110))","v":0},{"$f":"SUM(GETPIVOTDATA(\" Atd_ViolenciaP_80F\",TD!$A$110))","v":0},{"$f":"+L85+N85+P85+R85+T85+V85+X85+Z85","v":9},{"$f":"K85+M85+O85+Q85+S85+U85+W85+Y85","v":7},16,{"$f":"SUM(GETPIVOTDATA(\" Atc_ViolenciaP_TotalF\",TD!$A$110))","v":122},{"$f":"SUM(GETPIVOTDATA(\" Atc_ViolenciaP_TotalM\",TD!$A$110))","v":83},205]
[null,"JUDICIALIZADOS",{"$f":"SUM(GETPIVOTDATA(\" Atd_Judi_0_2M\",TD!$A$110))","v":0},{"$f":"SUM(GETPIVOTDATA(\" Atd_Judi_0_2F\",TD!$A$110))","v":0},{"$f":"SUM(GETPIVOTDATA(\" Atd_Judi_3_5M\",TD!$A$110))","v":0},{"$f":"SUM(GETPIVOTDATA(\" Atd_Judi_3_5F\",TD!$A$110))","v":0},{"$f":"SUM(GETPIVOTDATA(\" Atd_Judi_6_9M\",TD!$A$110))","v":4},{"$f":"SUM(GETPIVOTDATA(\" Atd_Judi_6_9F\",TD!$A$110))","v":7},{"$f":"SUM(GETPIVOTDATA(\" Atd_Judi_10_11M\",TD!$A$110))","v":5},{"$f":"SUM(GETPIVOTDATA(\" Atd_Judi_10_11F\",TD!$A$110))","v":10},{"$f":"SUM(GETPIVOTDATA(\" Atd_Judi_12_14M\",TD!$A$110))","v":1},{"$f":"SUM(GETPIVOTDATA(\" Atd_Judi_12_14F\",TD!$A$110))","v":19},{"$f":"SUM(GETPIVOTDATA(\" Atd_Judi_15_17M\",TD!$A$110))","v":1},{"$f":"SUM(GETPIVOTDATA(\" Atd_Judi_15_17F\",TD!$A$110))","v":17},{"$f":"SUM(GETPIVOTDATA(\" Atd_Judi_18_24M\",TD!$A$110))","v":12},{"$f":"SUM(GETPIVOTDATA(\" Atd_Judi_18_24F\",TD!$A$110))","v":19},{"$f":"SUM(GETPIVOTDATA(\" Atd_Judi_25_29M\",TD!$A$110))","v":3},{"$f":"SUM(GETPIVOTDATA(\" Atd_Judi_25_29F\",TD!$A$110))","v":19},{"$f":"SUM(GETPIVOTDATA(\" Atd_Judi_30_39M\",TD!$A$110))","v":29},{"$f":"SUM(GETPIVOTDATA(\" Atd_Judi_30_39F\",TD!$A$110))","v":39},{"$f":"SUM(GETPIVOTDATA(\" Atd_Judi_40_59M\",TD!$A$110))","v":30},{"$f":"SUM(GETPIVOTDATA(\" Atd_Judi_40_59F\",TD!$A$110))","v":37},{"$f":"SUM(GETPIVOTDATA(\" Atd_Judi_60_79M\",TD!$A$110))","v":2},{"$f":"SUM(GETPIVOTDATA(\" Atd_Judi_60_79F\",TD!$A$110))","v":4},{"$f":"SUM(GETPIVOTDATA(\" Atd_Judi_80M\",TD!$A$110))","v":0},{"$f":"SUM(GETPIVOTDATA(\" Atd_Judi_80F\",TD!$A$110))","v":0},171,87,258,{"$f":"SUM(GETPIVOTDATA(\" Atc_Judi_TotalF\",TD!$A$110))","v":795},{"$f":"SUM(GETPIVOTDATA(\" Atc_Judi_TotalM\",TD!$A$110))","v":292},1087]
[null,"TRATA DE PERSONAS",{"$f":"SUM(GETPIVOTDATA(\" Atd_Tperso_0_2M\",TD!$A$110))","v":0},{"$f":"SUM(GETPIVOTDATA(\" Atd_Tperso_0_2F\",TD!$A$110))","v":0},{"$f":"SUM(GETPIVOTDATA(\" Atd_Tperso_3_5M\",TD!$A$110))","v":0},{"$f":"SUM(GETPIVOTDATA(\" Atd_Tperso_3_5F\",TD!$A$110))","v":0},{"$f":"SUM(GETPIVOTDATA(\" Atd_Tperso_6_9M\",TD!$A$110))","v":0},{"$f":"SUM(GETPIVOTDATA(\" Atd_Tperso_6_9F\",TD!$A$110))","v":0},{"$f":"SUM(GETPIVOTDATA(\" Atd_Tperso_10_11M\",TD!$A$110))","v":0},{"$f":"SUM(GETPIVOTDATA(\" Atd_Tperso_10_11F\",TD!$A$110))","v":1},{"$f":"SUM(GETPIVOTDATA(\" Atd_Tperso_12_14M\",TD!$A$110))","v":0},{"$f":"SUM(GETPIVOTDATA(\" Atd_Tperso_12_14F\",TD!$A$110))","v":0},{"$f":"SUM(GETPIVOTDATA(\" Atd_Tperso_15_17M\",TD!$A$110))","v":0},{"$f":"SUM(GETPIVOTDATA(\" Atd_Tperso_15_17F\",TD!$A$110))","v":0},{"$f":"SUM(GETPIVOTDATA(\" Atd_Tperso_18_24M\",TD!$A$110))","v":0},{"$f":"SUM(GETPIVOTDATA(\" Atd_Tperso_18_24F\",TD!$A$110))","v":0},{"$f":"SUM(GETPIVOTDATA(\" Atd_Tperso_25_29M\",TD!$A$110))","v":0},{"$f":"SUM(GETPIVOTDATA(\" Atd_Tperso_25_29F\",TD!$A$110))","v":0},{"$f":"SUM(GETPIVOTDATA(\" Atd_Tperso_30_39M\",TD!$A$110))","v":0},{"$f":"SUM(GETPIVOTDATA(\" Atd_Tperso_30_39F\",TD!$A$110))","v":0},{"$f":"SUM(GETPIVOTDATA(\" Atd_Tperso_40_59M\",TD!$A$110))","v":0},{"$f":"SUM(GETPIVOTDATA(\" Atd_Tperso_40_59F\",TD!$A$110))","v":0},{"$f":"SUM(GETPIVOTDATA(\" Atd_Tperso_60_79M\",TD!$A$110))","v":0},{"$f":"SUM(GETPIVOTDATA(\" Atd_Tperso_60_79F\",TD!$A$110))","v":0},{"$f":"SUM(GETPIVOTDATA(\" Atd_Tperso_80M\",TD!$A$110))","v":0},{"$f":"SUM(GETPIVOTDATA(\" Atd_Tperso_80F\",TD!$A$110))","v":0},1,0,1,{"$f":"SUM(GETPIVOTDATA(\" Atc_Tperso_TotalF\",TD!$A$110))","v":4},{"$f":"SUM(GETPIVOTDATA(\" Atc_Tperso_TotalM\",TD!$A$110))","v":0},4]
[null,"GESTANTE",null,null,null,null,null,null,null,{"$f":"SUM(GETPIVOTDATA(\" Atd_Gestante_10_11F\",TD!$A$110))","v":1},null,{"$f":"SUM(GETPIVOTDATA(\" Atd_Gestante_12_14F\",TD!$A$110))","v":4},null,{"$f":"SUM(GETPIVOTDATA(\" Atd_Gestante_15_17F\",TD!$A$110))","v":13},null,{"$f":"SUM(GETPIVOTDATA(\" Atd_Gestante_18_24F\",TD!$A$110))","v":30},null,{"$f":"SUM(GETPIVOTDATA(\" Atd_Gestante_25_29F\",TD!$A$110))","v":19},null,{"$f":"SUM(GETPIVOTDATA(\" Atd_Gestante_30_39F\",TD!$A$110))","v":28},null,{"$f":"SUM(GETPIVOTDATA(\" Atd_Gestante_40_59F\",TD!$A$110))","v":4},null,null,null,null,{"$f":"J88+L88+N88+P88+R88+T88+V88","v":99},null,{"$f":"AA88","v":99},{"$f":"SUM(GETPIVOTDATA(\" Atc_Gestante_TotalF\",TD!$A$110))","v":178},null,{"$f":"AD88","v":178}]
[null,"TOTAL",{"$f":"SUM(C69:C88)","v":43},{"$f":"SUM(D69:D88)","v":12},{"$f":"SUM(E69:E88)","v":188},{"$f":"SUM(F69:F88)","v":78},{"$f":"SUM(G69:G88)","v":235},{"$f":"SUM(H69:H88)","v":171},108,111,200,{"$f":"SUM(L69:L88)","v":297},129,298,227,510,152,369,326,{"$f":"SUM(T69:T88)","v":696},425,{"$f":"SUM(V69:V88)","v":692},159,215,34,38,{"$f":"SUM(AA69:AA88)","v":3487},{"$f":"SUM(AB69:AB88)","v":2226},{"$f":"SUM(AC69:AC88)","v":5713},8632,5846,14478]
[]
[null,"MOTIVOS DE A ENTREGA DE LOS PRIMEROS AUXILIOS PSICOLOGICO"]
[null,"CAUSA","N° PRESTACIONES"]
[null,null,"M","F","TOTAL"]
[null,"Z63.0 PROBLEMAS EN LA RELACIÓN ENTRE ESPOSOS O PAREJA",{"$f":"SUM(GETPIVOTDATA(\" Atd_Ppareja_TotalM\",TD!$A$110))","v":0},{"$f":"SUM(GETPIVOTDATA(\" Atd_Ppareja_TotalF\",TD!$A$110))","v":9},{"$f":"+C94+D94","v":9}]
[null,"Z63.1 PROBLEMAS EN LA RELACIÓN CON LOS PADRES Y LOS FAMILIARES POLÍTICOS",{"$f":"SUM(GETPIVOTDATA(\" Atd_PpadresFam_TotalM\",TD!$A$110))","v":0},{"$f":"SUM(GETPIVOTDATA(\" Atd_PpadresFam_TotalF\",TD!$A$110))","v":1},{"$f":"+C95+D95","v":1}]
[null,"Z63.2 PROBLEMAS RELACIONADOS CON EL APOYO FAMILIAR INADECUADO",{"$f":"SUM(GETPIVOTDATA(\" Atd_PapoyoFam_TotalM\",TD!$A$110))","v":0},{"$f":"SUM(GETPIVOTDATA(\" Atd_PapoyoFam_TotalF\",TD!$A$110))","v":4},4]
[null,"Z63.3 PROBLEMAS RELACIONADOS CON LA AUSENCIA DE UN MIEMBRO DE LA FAMILIA (HOSPITALIZACIÓN)",{"$f":"SUM(GETPIVOTDATA(\" Atd_PausenciaFam_TotalM\",TD!$A$110))","v":0},{"$f":"SUM(GETPIVOTDATA(\" Atd_PausenciaFam_TotalF\",TD!$A$110))","v":0},0]
[null,"Z63.4 PROBLEMAS RELACIONADOS CON LA DESAPARICIÓN O MUERTE DE UN MIEMBRO DE LA FAMILIA",{"$f":"SUM(GETPIVOTDATA(\" Atd_PdesapareceFam_TotalM\",TD!$A$110))","v":0},{"$f":"SUM(GETPIVOTDATA(\" Atd_PdesapareceFam_TotalF\",TD!$A$110))","v":2},2]
[null,"Z63.5 PROBLEMAS RELACIONADOS CON LA RUPTURA FAMILIAR POR SEPARACIÓN O DIVORCIO",{"$f":"SUM(GETPIVOTDATA(\" Atd_PrupturaFam_TotalM\",TD!$A$110))","v":0},{"$f":"SUM(GETPIVOTDATA(\" Atd_PrupturaFam_TotalF\",TD!$A$110))","v":6},6]
[null,"Z636 PROBLEMAS RELACIONADOS CON FAMILIAR DEPENDIENTE, NECESITADO DE CUIDADO EN CASA",{"$f":"SUM(GETPIVOTDATA(\" Atd_PfamiliarDepende_TotalM\",TD!$A$110))","v":0},{"$f":"SUM(GETPIVOTDATA(\" Atd_PfamiliarDepende_TotalF\",TD!$A$110))","v":0},0]
[null,"Z65.4 VÍCTIMA DE CRIMEN Y TERRORISMO INCLUYE TORTURA",{"$f":"SUM(GETPIVOTDATA(\" Atd_PVictimaCrimen_TotalM\",TD!$A$110))","v":0},{"$f":"SUM(GETPIVOTDATA(\" Atd_PVictimaCrimen_TotalF\",TD!$A$110))","v":0},0]
[]
[]
[]
[]
[]
[null,"VALORACIÓN DE RIESGOS (VIOLENCIA)"]
[null,"ETAPA DE VIDA","NIÑO",null,null,null,null,null,null,null,"ADOLESCENTE",null,null,null,"JOVEN",null,null,null,"ADULTO",null,null,null,"ADULTO MAYOR",null,null,null,"TOTALES"]
[null,"EDAD","< 1-2",null,"3 - 5",null,"6-9",null,"10 - 11",null,"12 - 14",null,"15 - 17",null,"18 - 24",null,"25 - 29",null,"30 - 39",null,"40 - 59 ",null,"60 - 79",null,"80  +",null,"M","F","TOTAL GENERAL"]
[null,"SEXO","M","F","M","F","M","F","M","F","M","F","M","F","M","F","M","F","M","F","M","F","M","F","M","F"]
[null,"FICHA DE VALORACIÓN DE RIESGOS APLICADAS \n99207.06",{"$f":"SUM(GETPIVOTDATA(\" Atd_VRiesgo_0_2M\",TD!$A$110))","v":0},{"$f":"SUM(GETPIVOTDATA(\" Atd_VRiesgo_0_2F\",TD!$A$110))","v":1},{"$f":"SUM(GETPIVOTDATA(\" Atd_VRiesgo_3_5M\",TD!$A$110))","v":2},{"$f":"SUM(GETPIVOTDATA(\" Atd_VRiesgo_3_5F\",TD!$A$110))","v":1},{"$f":"SUM(GETPIVOTDATA(\" Atd_VRiesgo_6_9M\",TD!$A$110))","v":5},{"$f":"SUM(GETPIVOTDATA(\" Atd_VRiesgo_6_9F\",TD!$A$110))","v":5},{"$f":"SUM(GETPIVOTDATA(\" Atd_VRiesgo_10_11M\",TD!$A$110))","v":6},{"$f":"SUM(GETPIVOTDATA(\" Atd_VRiesgo_10_11F\",TD!$A$110))","v":3},{"$f":"SUM(GETPIVOTDATA(\" Atd_VRiesgo_12_14M\",TD!$A$110))","v":3},{"$f":"SUM(GETPIVOTDATA(\" Atd_VRiesgo_12_14F\",TD!$A$110))","v":19},{"$f":"SUM(GETPIVOTDATA(\" Atd_VRiesgo_15_17M\",TD!$A$110))","v":3},{"$f":"SUM(GETPIVOTDATA(\" Atd_VRiesgo_15_17F\",TD!$A$110))","v":25},{"$f":"SUM(GETPIVOTDATA(\" Atd_VRiesgo_18_24M\",TD!$A$110))","v":2},{"$f":"SUM(GETPIVOTDATA(\" Atd_VRiesgo_18_24F\",TD!$A$110))","v":65},{"$f":"SUM(GETPIVOTDATA(\" Atd_VRiesgo_25_29M\",TD!$A$110))","v":0},{"$f":"SUM(GETPIVOTDATA(\" Atd_VRiesgo_25_29F\",TD!$A$110))","v":61},{"$f":"SUM(GETPIVOTDATA(\" Atd_VRiesgo_30_39M\",TD!$A$110))","v":2},{"$f":"SUM(GETPIVOTDATA(\" Atd_VRiesgo_30_39F\",TD!$A$110))","v":122},{"$f":"SUM(GETPIVOTDATA(\" Atd_VRiesgo_40_59M\",TD!$A$110))","v":0},{"$f":"SUM(GETPIVOTDATA(\" Atd_VRiesgo_40_59F\",TD!$A$110))","v":108},{"$f":"SUM(GETPIVOTDATA(\" Atd_VRiesgo_60_79M\",TD!$A$110))","v":1},{"$f":"SUM(GETPIVOTDATA(\" Atd_VRiesgo_60_79F\",TD!$A$110))","v":13},{"$f":"SUM(GETPIVOTDATA(\" Atd_VRiesgo_80M\",TD!$A$110))","v":0},{"$f":"SUM(GETPIVOTDATA(\" Atd_VRiesgo_80F\",TD!$A$110))","v":0},{"$f":"SUM(GETPIVOTDATA(\" Atd_VRiesgo_TotalM\",TD!$A$110))","v":24},{"$f":"SUM(GETPIVOTDATA(\" Atd_VRiesgo_TotalF\",TD!$A$110))","v":423},{"$f":"+AA111+AB111","v":447}]
[]
[null,"NIVEL DE LA VALORACIÓN DE RIESGOS"]
[null,"ETAPA DE VIDA/\nSEXO","NIÑO",null,"ADOLESCENTE",null,"JOVEN",null,"ADULTO",null,"ADULTO MAYOR",null,"TOTALES"]
[null,null,"M","F","M","F","M","F","M","F","M","F","M","F","TOTAL GENERAL"]
[null,"LEVE",{"$f":"SUM(GETPIVOTDATA(\" Atd_NVRiesgoL_NiñoM\",TD!$A$134))","v":10},{"$f":"SUM(GETPIVOTDATA(\" Atd_NVRiesgoL_NiñoF\",TD!$A$134))","v":6},{"$f":"SUM(GETPIVOTDATA(\" Atd_NVRiesgoL_AdoslM\",TD!$A$134))","v":6},{"$f":"SUM(GETPIVOTDATA(\" Atd_NVRiesgoL_AdoslF\",TD!$A$134))","v":32},{"$f":"SUM(GETPIVOTDATA(\" Atd_NVRiesgoL_JovenM\",TD!$A$134))","v":0},{"$f":"SUM(GETPIVOTDATA(\" Atd_NVRiesgoL_JovenF\",TD!$A$134))","v":88},{"$f":"SUM(GETPIVOTDATA(\" Atd_NVRiesgoL_AdultoM\",TD!$A$134))","v":2},{"$f":"SUM(GETPIVOTDATA(\" Atd_NVRiesgoL_AdultoF\",TD!$A$134))","v":165},{"$f":"SUM(GETPIVOTDATA(\" Atd_NVRiesgoL_AdultomaM\",TD!$A$134))","v":0},{"$f":"SUM(GETPIVOTDATA(\" Atd_NVRiesgoL_AdultomaF\",TD!$A$134))","v":11},{"$f":"+C116+E116+G116+I116+K116","v":18},302,{"$f":"+M116+N116","v":320}]
[null,"MODERADO",{"$f":"SUM(GETPIVOTDATA(\" Atd_NVRiesgoM_NiñoM\",TD!$A$134))","v":3},{"$f":"SUM(GETPIVOTDATA(\" Atd_NVRiesgoM_NiñoF\",TD!$A$134))","v":3},{"$f":"SUM(GETPIVOTDATA(\" Atd_NVRiesgoM_AdoslM\",TD!$A$134))","v":0},{"$f":"SUM(GETPIVOTDATA(\" Atd_NVRiesgoM_AdoslF\",TD!$A$134))","v":9},{"$f":"SUM(GETPIVOTDATA(\" Atd_NVRiesgoM_JovenM\",TD!$A$134))","v":0},{"$f":"SUM(GETPIVOTDATA(\" Atd_NVRiesgoM_JovenF\",TD!$A$134))","v":23},{"$f":"SUM(GETPIVOTDATA(\" Atd_NVRiesgoM_AdultoM\",TD!$A$134))","v":0},{"$f":"SUM(GETPIVOTDATA(\" Atd_NVRiesgoM_AdultoF\",TD!$A$134))","v":33},{"$f":"SUM(GETPIVOTDATA(\" Atd_NVRiesgoM_AdultomaM\",TD!$A$134))","v":0},{"$f":"SUM(GETPIVOTDATA(\" Atd_NVRiesgoM_AdultomaF\",TD!$A$134))","v":2},3,70,{"$f":"+M117+N117","v":73}]
[null,"SEVERO",{"$f":"SUM(GETPIVOTDATA(\" Atd_NVRiesgoS_NiñoM\",TD!$A$134))","v":0},{"$f":"SUM(GETPIVOTDATA(\" Atd_NVRiesgoS_NiñoF\",TD!$A$134))","v":0},{"$f":"SUM(GETPIVOTDATA(\" Atd_NVRiesgoS_AdoslM\",TD!$A$134))","v":0},{"$f":"SUM(GETPIVOTDATA(\" Atd_NVRiesgoS_AdoslF\",TD!$A$134))","v":2},{"$f":"SUM(GETPIVOTDATA(\" Atd_NVRiesgoS_JovenM\",TD!$A$134))","v":1},{"$f":"SUM(GETPIVOTDATA(\" Atd_NVRiesgoS_JovenF\",TD!$A$134))","v":5},{"$f":"SUM(GETPIVOTDATA(\" Atd_NVRiesgoS_AdultoM\",TD!$A$134))","v":0},{"$f":"SUM(GETPIVOTDATA(\" Atd_NVRiesgoS_AdultoF\",TD!$A$134))","v":18},{"$f":"SUM(GETPIVOTDATA(\" Atd_NVRiesgoS_AdultomaM\",TD!$A$134))","v":0},{"$f":"SUM(GETPIVOTDATA(\" Atd_NVRiesgoS_AdultomaF\",TD!$A$134))","v":0},1,25,{"$f":"+M118+N118","v":26}]
[]
[null,"N° CASOS DERIVADOS",null,{"$f":"SUM(GETPIVOTDATA(\" Atd_NVRiesgo_CasoDerivado\",TD!$A$134))","v":31}]
[null,"N° CASOS REFERIDOS",null,{"$f":"SUM(GETPIVOTDATA(\" Atd_NVRiesgo_CasoReferido\",TD!$A$134))","v":1}]
[]
[null,"EVALUACIÓN INTEGRAL INTERDISCIPLINARIA (CSMC Y HOSPITALES)"]
[null,"ETAPA DE VIDA/\nSEXO","NIÑO",null,"ADOLESCENTE",null,"JOVEN",null,"ADULTO",null,"ADULTO MAYOR",null,"TOTALES"]
[null,null,"M","F","M","F","M","F","M","F","M","F","M","F","TOTAL GENERAL"]
[null,"VIOLENCIA FAMILIAR / MALTRATO INFANTIL",{"$f":"SUM(GETPIVOTDATA(\" Atd_EIID_VIF_NiñoM\",TD!$A$134))","v":13},{"$f":"SUM(GETPIVOTDATA(\" Atd_EIID_VIF_NiñoF\",TD!$A$134))","v":14},{"$f":"SUM(GETPIVOTDATA(\" Atd_EIID_VIF_AdoslM\",TD!$A$134))","v":8},{"$f":"SUM(GETPIVOTDATA(\" Atd_EIID_VIF_AdoslF\",TD!$A$134))","v":9},{"$f":"SUM(GETPIVOTDATA(\" Atd_EIID_VIF_JovenM\",TD!$A$134))","v":0},{"$f":"SUM(GETPIVOTDATA(\" Atd_EIID_VIF_JovenF\",TD!$A$134))","v":12},{"$f":"SUM(GETPIVOTDATA(\" Atd_EIID_VIF_AdultoM\",TD!$A$134))","v":2},{"$f":"SUM(GETPIVOTDATA(\" Atd_EIID_VIF_AdultoF\",TD!$A$134))","v":25},{"$f":"SUM(GETPIVOTDATA(\" Atd_EIID_VIF_AdultomaM\",TD!$A$134))","v":0},{"$f":"SUM(GETPIVOTDATA(\" Atd_EIID_VIF_AdultomaF\",TD!$A$134))","v":2},{"$f":"SUM(GETPIVOTDATA(\" Atd_EIID_VIF_TotalM\",TD!$A$134))","v":23},{"$f":"SUM(GETPIVOTDATA(\" Atd_EIID_VIF_TotalF\",TD!$A$134))","v":62},{"$f":"+M126+N126","v":85}]
[null,"VIOLENCIA O ABUSO SEXUAL",{"$f":"SUM(GETPIVOTDATA(\" Atd_EIID_AS_NiñoM\",TD!$A$134))","v":0},{"$f":"SUM(GETPIVOTDATA(\" Atd_EIID_AS_NiñoF\",TD!$A$134))","v":7},{"$f":"SUM(GETPIVOTDATA(\" Atd_EIID_AS_AdoslM\",TD!$A$134))","v":1},{"$f":"SUM(GETPIVOTDATA(\" Atd_EIID_AS_AdoslF\",TD!$A$134))","v":13},{"$f":"SUM(GETPIVOTDATA(\" Atd_EIID_AS_JovenM\",TD!$A$134))","v":0},{"$f":"SUM(GETPIVOTDATA(\" Atd_EIID_AS_JovenF\",TD!$A$134))","v":2},{"$f":"SUM(GETPIVOTDATA(\" Atd_EIID_AS_AdultoM\",TD!$A$134))","v":0},{"$f":"SUM(GETPIVOTDATA(\" Atd_EIID_AS_AdultoF\",TD!$A$134))","v":2},{"$f":"SUM(GETPIVOTDATA(\" Atd_EIID_AS_AdultomaM\",TD!$A$134))","v":0},{"$f":"SUM(GETPIVOTDATA(\" Atd_EIID_AS_AdultomaF\",TD!$A$134))","v":1},{"$f":"SUM(GETPIVOTDATA(\" Atd_EIID_AS_TotalM\",TD!$A$134))","v":1},{"$f":"SUM(GETPIVOTDATA(\" Atd_EIID_AS_TotalF\",TD!$A$134))","v":25},{"$f":"+M127+N127","v":26}]
[null,"TRASTORNO DEL ESPECTRO AUTISTA",{"$f":"SUM(GETPIVOTDATA(\" Atd_EIID_TEA_NiñoM\",TD!$A$134))","v":11},{"$f":"SUM(GETPIVOTDATA(\" Atd_EIID_TEA_NiñoF\",TD!$A$134))","v":4},{"$f":"SUM(GETPIVOTDATA(\" Atd_EIID_TEA_AdoslM\",TD!$A$134))","v":0},{"$f":"SUM(GETPIVOTDATA(\" Atd_EIID_TEA_AdoslF\",TD!$A$134))","v":0},{"$f":"SUM(GETPIVOTDATA(\" Atd_EIID_TEA_JovenM\",TD!$A$134))","v":0},{"$f":"SUM(GETPIVOTDATA(\" Atd_EIID_TEA_JovenF\",TD!$A$134))","v":0},{"$f":"SUM(GETPIVOTDATA(\" Atd_EIID_TEA_AdultoM\",TD!$A$134))","v":0},{"$f":"SUM(GETPIVOTDATA(\" Atd_EIID_TEA_AdultoF\",TD!$A$134))","v":0},{"$f":"SUM(GETPIVOTDATA(\" Atd_EIID_TEA_AdultomaM\",TD!$A$134))","v":0},{"$f":"SUM(GETPIVOTDATA(\" Atd_EIID_TEA_AdultomaF\",TD!$A$134))","v":0},{"$f":"SUM(GETPIVOTDATA(\" Atd_EIID_TEA_TotalM\",TD!$A$134))","v":11},{"$f":"SUM(GETPIVOTDATA(\" Atd_EIID_TEA_TotalF\",TD!$A$134))","v":4},{"$f":"+M128+N128","v":15}]
[null,"TRASTORNOS MENTALES Y DEL COMPORTAMIENTO DE o-17 años",{"$f":"SUM(GETPIVOTDATA(\" Atd_EIID_TMC_NiñoM\",TD!$A$134))","v":40},{"$f":"SUM(GETPIVOTDATA(\" Atd_EIID_TMC_NiñoF\",TD!$A$134))","v":15},{"$f":"SUM(GETPIVOTDATA(\" Atd_EIID_TMC_AdoslM\",TD!$A$134))","v":9},{"$f":"SUM(GETPIVOTDATA(\" Atd_EIID_TMC_AdoslF\",TD!$A$134))","v":4},null,null,null,null,null,null,{"$f":"SUM(GETPIVOTDATA(\" Atd_EIID_TMC_TotalM\",TD!$A$134))","v":49},{"$f":"SUM(GETPIVOTDATA(\" Atd_EIID_TMC_TotalF\",TD!$A$134))","v":19},68]
[null,"TRASTORNO DEPRESIVO",{"$f":"SUM(GETPIVOTDATA(\" Atd_EIID_TD_NiñoM\",TD!$A$134))","v":0},{"$f":"SUM(GETPIVOTDATA(\" Atd_EIID_TD_NiñoF\",TD!$A$134))","v":0},{"$f":"SUM(GETPIVOTDATA(\" Atd_EIID_TD_AdoslM\",TD!$A$134))","v":6},{"$f":"SUM(GETPIVOTDATA(\" Atd_EIID_TD_AdoslF\",TD!$A$134))","v":15},{"$f":"SUM(GETPIVOTDATA(\" Atd_EIID_TD_JovenM\",TD!$A$134))","v":6},{"$f":"SUM(GETPIVOTDATA(\" Atd_EIID_TD_JovenF\",TD!$A$134))","v":15},{"$f":"SUM(GETPIVOTDATA(\" Atd_EIID_TD_AdultoM\",TD!$A$134))","v":7},{"$f":"SUM(GETPIVOTDATA(\" Atd_EIID_TD_AdultoF\",TD!$A$134))","v":36},{"$f":"SUM(GETPIVOTDATA(\" Atd_EIID_TD_AdultomaM\",TD!$A$134))","v":5},{"$f":"SUM(GETPIVOTDATA(\" Atd_EIID_TD_AdultomaF\",TD!$A$134))","v":7},{"$f":"SUM(GETPIVOTDATA(\" Atd_EIID_TD_TotalM\",TD!$A$134))","v":24},{"$f":"SUM(GETPIVOTDATA(\" Atd_EIID_TD_TotalF\",TD!$A$134))","v":73},97]
[null,"TRASTORNO DE ANSIEDAD",{"$f":"SUM(GETPIVOTDATA(\" Atd_EIID_TA_NiñoM\",TD!$A$134))","v":0},{"$f":"SUM(GETPIVOTDATA(\" Atd_EIID_TA_NiñoF\",TD!$A$134))","v":2},{"$f":"SUM(GETPIVOTDATA(\" Atd_EIID_TA_AdoslM\",TD!$A$134))","v":0},{"$f":"SUM(GETPIVOTDATA(\" Atd_EIID_TA_AdoslF\",TD!$A$134))","v":4},{"$f":"SUM(GETPIVOTDATA(\" Atd_EIID_TA_JovenM\",TD!$A$134))","v":7},{"$f":"SUM(GETPIVOTDATA(\" Atd_EIID_TA_JovenF\",TD!$A$134))","v":18},{"$f":"SUM(GETPIVOTDATA(\" Atd_EIID_TA_AdultoM\",TD!$A$134))","v":7},{"$f":"SUM(GETPIVOTDATA(\" Atd_EIID_TA_AdultoF\",TD!$A$134))","v":20},{"$f":"SUM(GETPIVOTDATA(\" Atd_EIID_TA_AdultomaM\",TD!$A$134))","v":3},{"$f":"SUM(GETPIVOTDATA(\" Atd_EIID_TA_AdultomaF\",TD!$A$134))","v":5},{"$f":"SUM(GETPIVOTDATA(\" Atd_EIID_TA_TotalM\",TD!$A$134))","v":17},{"$f":"SUM(GETPIVOTDATA(\" Atd_EIID_TA_TotalF\",TD!$A$134))","v":49},66]
[null,"CONDUCTA SUICIDA",{"$f":"SUM(GETPIVOTDATA(\" Atd_EIID_CS_NiñoM\",TD!$A$134))","v":0},{"$f":"SUM(GETPIVOTDATA(\" Atd_EIID_CS_NiñoF\",TD!$A$134))","v":0},{"$f":"SUM(GETPIVOTDATA(\" Atd_EIID_CS_AdoslM\",TD!$A$134))","v":0},{"$f":"SUM(GETPIVOTDATA(\" Atd_EIID_CS_AdoslF\",TD!$A$134))","v":0},{"$f":"SUM(GETPIVOTDATA(\" Atd_EIID_CS_JovenM\",TD!$A$134))","v":0},{"$f":"SUM(GETPIVOTDATA(\" Atd_EIID_CS_JovenF\",TD!$A$134))","v":0},{"$f":"SUM(GETPIVOTDATA(\" Atd_EIID_CS_AdultoM\",TD!$A$134))","v":0},{"$f":"SUM(GETPIVOTDATA(\" Atd_EIID_CS_AdultoF\",TD!$A$134))","v":0},{"$f":"SUM(GETPIVOTDATA(\" Atd_EIID_CS_AdultomaM\",TD!$A$134))","v":0},{"$f":"SUM(GETPIVOTDATA(\" Atd_EIID_CS_AdultomaF\",TD!$A$134))","v":0},{"$f":"SUM(GETPIVOTDATA(\" Atd_EIID_CS_TotalM\",TD!$A$134))","v":0},{"$f":"SUM(GETPIVOTDATA(\" Atd_EIID_CS_TotalF\",TD!$A$134))","v":0},0]
[null,"CONSUMO PERJUDICIAL DE ALCOHOL, TABACO Y OTRAS DROGAS",{"$f":"SUM(GETPIVOTDATA(\" Atd_EIID_ATD_NiñoM\",TD!$A$134))","v":0},{"$f":"SUM(GETPIVOTDATA(\" Atd_EIID_ATD_NiñoF\",TD!$A$134))","v":0},{"$f":"SUM(GETPIVOTDATA(\" Atd_EIID_ATD_AdoslM\",TD!$A$134))","v":1},{"$f":"SUM(GETPIVOTDATA(\" Atd_EIID_ATD_AdoslF\",TD!$A$134))","v":0},{"$f":"SUM(GETPIVOTDATA(\" Atd_EIID_ATD_JovenM\",TD!$A$134))","v":6},{"$f":"SUM(GETPIVOTDATA(\" Atd_EIID_ATD_JovenF\",TD!$A$134))","v":3},{"$f":"SUM(GETPIVOTDATA(\" Atd_EIID_ATD_AdultoM\",TD!$A$134))","v":18},{"$f":"SUM(GETPIVOTDATA(\" Atd_EIID_ATD_AdultoF\",TD!$A$134))","v":2},{"$f":"SUM(GETPIVOTDATA(\" Atd_EIID_ATD_AdultomaM\",TD!$A$134))","v":1},{"$f":"SUM(GETPIVOTDATA(\" Atd_EIID_ATD_AdultomaF\",TD!$A$134))","v":0},{"$f":"SUM(GETPIVOTDATA(\" Atd_EIID_ATD_TotalM\",TD!$A$134))","v":26},{"$f":"SUM(GETPIVOTDATA(\" Atd_EIID_ATD_TotalF\",TD!$A$134))","v":5},31]
[null,"DEPENDENCIA DEL ALCOHOL, TABACO Y OTRAS DROGAS",{"$f":"SUM(GETPIVOTDATA(\" Atd_EIID_DATD_NiñoM\",TD!$A$134))","v":0},{"$f":"SUM(GETPIVOTDATA(\" Atd_EIID_DATD_NiñoF\",TD!$A$134))","v":0},{"$f":"SUM(GETPIVOTDATA(\" Atd_EIID_DATD_AdoslM\",TD!$A$134))","v":0},{"$f":"SUM(GETPIVOTDATA(\" Atd_EIID_DATD_AdoslF\",TD!$A$134))","v":0},{"$f":"SUM(GETPIVOTDATA(\" Atd_EIID_DATD_JovenM\",TD!$A$134))","v":0},{"$f":"SUM(GETPIVOTDATA(\" Atd_EIID_DATD_JovenF\",TD!$A$134))","v":0},{"$f":"SUM(GETPIVOTDATA(\" Atd_EIID_DATD_AdultoM\",TD!$A$134))","v":6},{"$f":"SUM(GETPIVOTDATA(\" Atd_EIID_DATD_AdultoF\",TD!$A$134))","v":4},{"$f":"SUM(GETPIVOTDATA(\" Atd_EIID_DATD_AdultomaM\",TD!$A$134))","v":2},{"$f":"SUM(GETPIVOTDATA(\" Atd_EIID_DATD_AdultomaF\",TD!$A$134))","v":0},{"$f":"SUM(GETPIVOTDATA(\" Atd_EIID_DATD_TotalM\",TD!$A$134))","v":8},{"$f":"SUM(GETPIVOTDATA(\" Atd_EIID_DATD_TotalF\",TD!$A$134))","v":4},12]
[null,"SÍNDROME y/o TRASTORNO PSICÓTICO ",{"$f":"SUM(GETPIVOTDATA(\" Atd_EIID_TPS_NiñoM\",TD!$A$134))","v":0},{"$f":"SUM(GETPIVOTDATA(\" Atd_EIID_TPS_NiñoF\",TD!$A$134))","v":0},{"$f":"SUM(GETPIVOTDATA(\" Atd_EIID_TPS_AdoslM\",TD!$A$134))","v":1},{"$f":"SUM(GETPIVOTDATA(\" Atd_EIID_TPS_AdoslF\",TD!$A$134))","v":2},{"$f":"SUM(GETPIVOTDATA(\" Atd_EIID_TPS_JovenM\",TD!$A$134))","v":1},{"$f":"SUM(GETPIVOTDATA(\" Atd_EIID_TPS_JovenF\",TD!$A$134))","v":2},{"$f":"SUM(GETPIVOTDATA(\" Atd_EIID_TPS_AdultoM\",TD!$A$134))","v":5},{"$f":"SUM(GETPIVOTDATA(\" Atd_EIID_TPS_AdultoF\",TD!$A$134))","v":9},{"$f":"SUM(GETPIVOTDATA(\" Atd_EIID_TPS_AdultomaM\",TD!$A$134))","v":0},{"$f":"SUM(GETPIVOTDATA(\" Atd_EIID_TPS_AdultomaF\",TD!$A$134))","v":1},{"$f":"SUM(GETPIVOTDATA(\" Atd_EIID_TPS_TotalM\",TD!$A$134))","v":7},{"$f":"SUM(GETPIVOTDATA(\" Atd_EIID_TPS_TotalF\",TD!$A$134))","v":14},21]
[null,"PRIMER EPISODIO PSICOTICO",{"$f":"SUM(GETPIVOTDATA(\" Atd_EIID_1EPS_NiñoM\",TD!$A$134))","v":0},{"$f":"SUM(GETPIVOTDATA(\" Atd_EIID_1EPS_NiñoF\",TD!$A$134))","v":0},{"$f":"SUM(GETPIVOTDATA(\" Atd_EIID_1EPS_AdoslM\",TD!$A$134))","v":0},{"$f":"SUM(GETPIVOTDATA(\" Atd_EIID_1EPS_AdoslF\",TD!$A$134))","v":0},{"$f":"SUM(GETPIVOTDATA(\" Atd_EIID_1EPS_JovenM\",TD!$A$134))","v":0},{"$f":"SUM(GETPIVOTDATA(\" Atd_EIID_1EPS_JovenF\",TD!$A$134))","v":0},{"$f":"SUM(GETPIVOTDATA(\" Atd_EIID_1EPS_AdultoM\",TD!$A$134))","v":0},{"$f":"SUM(GETPIVOTDATA(\" Atd_EIID_1EPS_AdultoF\",TD!$A$134))","v":0},{"$f":"SUM(GETPIVOTDATA(\" Atd_EIID_1EPS_AdultomaM\",TD!$A$134))","v":0},{"$f":"SUM(GETPIVOTDATA(\" Atd_EIID_1EPS_AdultomaF\",TD!$A$134))","v":0},{"$f":"SUM(GETPIVOTDATA(\" Atd_EIID_1EPS_TotalM\",TD!$A$134))","v":0},{"$f":"SUM(GETPIVOTDATA(\" Atd_EIID_1EPS_TotalF\",TD!$A$134))","v":0},0]
[null,"TRASTORNO MENTAL GRAVE",{"$f":"SUM(GETPIVOTDATA(\" Atd_EIID_TMG_NiñoM\",TD!$A$134))","v":0},{"$f":"SUM(GETPIVOTDATA(\" Atd_EIID_TMG_NiñoF\",TD!$A$134))","v":0},{"$f":"SUM(GETPIVOTDATA(\" Atd_EIID_TMG_AdoslM\",TD!$A$134))","v":0},{"$f":"SUM(GETPIVOTDATA(\" Atd_EIID_TMG_AdoslF\",TD!$A$134))","v":0},{"$f":"SUM(GETPIVOTDATA(\" Atd_EIID_TMG_JovenM\",TD!$A$134))","v":0},{"$f":"SUM(GETPIVOTDATA(\" Atd_EIID_TMG_JovenF\",TD!$A$134))","v":0},{"$f":"SUM(GETPIVOTDATA(\" Atd_EIID_TMG_AdultoM\",TD!$A$134))","v":0},{"$f":"SUM(GETPIVOTDATA(\" Atd_EIID_TMG_AdultoF\",TD!$A$134))","v":1},{"$f":"SUM(GETPIVOTDATA(\" Atd_EIID_TMG_AdultomaM\",TD!$A$134))","v":0},{"$f":"SUM(GETPIVOTDATA(\" Atd_EIID_TMG_AdultomaF\",TD!$A$134))","v":0},{"$f":"SUM(GETPIVOTDATA(\" Atd_EIID_TMG_TotalM\",TD!$A$134))","v":0},{"$f":"SUM(GETPIVOTDATA(\" Atd_EIID_TMG_TotalF\",TD!$A$134))","v":1},1]
[null,"DETERIORO COGNITIVO",{"$f":"SUM(GETPIVOTDATA(\" Atd_EIID_DC_NiñoM\",TD!$A$134))","v":1},{"$f":"SUM(GETPIVOTDATA(\" Atd_EIID_DC_NiñoF\",TD!$A$134))","v":1},{"$f":"SUM(GETPIVOTDATA(\" Atd_EIID_DC_AdoslM\",TD!$A$134))","v":0},{"$f":"SUM(GETPIVOTDATA(\" Atd_EIID_DC_AdoslF\",TD!$A$134))","v":0},{"$f":"SUM(GETPIVOTDATA(\" Atd_EIID_DC_JovenM\",TD!$A$134))","v":0},{"$f":"SUM(GETPIVOTDATA(\" Atd_EIID_DC_JovenF\",TD!$A$134))","v":0},{"$f":"SUM(GETPIVOTDATA(\" Atd_EIID_DC_AdultoM\",TD!$A$134))","v":0},{"$f":"SUM(GETPIVOTDATA(\" Atd_EIID_DC_AdultoF\",TD!$A$134))","v":1},{"$f":"SUM(GETPIVOTDATA(\" Atd_EIID_DC_AdultomaM\",TD!$A$134))","v":0},{"$f":"SUM(GETPIVOTDATA(\" Atd_EIID_DC_AdultomaF\",TD!$A$134))","v":2},{"$f":"SUM(GETPIVOTDATA(\" Atd_EIID_DC_TotalM\",TD!$A$134))","v":1},{"$f":"SUM(GETPIVOTDATA(\" Atd_EIID_DC_TotalF\",TD!$A$134))","v":4},5]
[]
[null,"PROFESION","N° DE PARTICIPANTES EN FORMULACIÓN DE PAI"]
[null,"MÉDICO PSIQUIATRA",{"$f":"SUM(GETPIVOTDATA(\" Part_Formula_PAI_Psiq\",TD!$A$134))","v":105}]
[null,"PSICÓLOGO(A)",{"$f":"SUM(GETPIVOTDATA(\" Part_Formula_PAI_Psic\",TD!$A$134))","v":269}]
[null,"ENFERMERO(A)",{"$f":"SUM(GETPIVOTDATA(\" Part_Formula_PAI_Enf\",TD!$A$134))","v":250}]
[null,"TRABAJADOR(A) SOCIAL",{"$f":"SUM(GETPIVOTDATA(\" Part_Formula_PAI_Trabs\",TD!$A$134))","v":23}]
[null,"MEDICO DE FAMILIA",{"$f":"SUM(GETPIVOTDATA(\" Part_Formula_PAI_Medf\",TD!$A$134))","v":22}]
[null,"OTROS",{"$f":"SUM(GETPIVOTDATA(\" Part_Formula_PAI_Otro\",TD!$A$134))","v":110}]
[]
[]
[]
[]
[]
[]
[null,"7.7 HOGARES PROTEGIDOS"]
[null,"ATENCIONES EN HOGARES PROTEGIDOS"]
[]
[null,"ACTIVIDADES DE LA COORDINADORA DEL HP"]
[null,"ACTIVIDAD","JOVEN",null,"ADULTO",null,"ADULTO MAYOR",null,"TOTALES"]
[null,null,"M","F","M","F","M","F","M","F","TOTAL GENERAL"]
[null,"INGRESO DE USUARIOS",{"$f":"SUM(GETPIVOTDATA(\" Act_HP_IngUsua_JovenM\",TD!$A$134))","v":2},{"$f":"SUM(GETPIVOTDATA(\" Act_HP_IngUsua_JovenF\",TD!$A$134))","v":0},{"$f":"SUM(GETPIVOTDATA(\" Act_HP_IngUsua_AdultoM\",TD!$A$134))","v":3},{"$f":"SUM(GETPIVOTDATA(\" Act_HP_IngUsua_AdultoF\",TD!$A$134))","v":4},{"$f":"SUM(GETPIVOTDATA(\" Act_HP_IngUsua_AdultomaM\",TD!$A$134))","v":0},{"$f":"SUM(GETPIVOTDATA(\" Act_HP_IngUsua_AdultomaF\",TD!$A$134))","v":0},{"$f":"SUM(GETPIVOTDATA(\" Act_HP_IngUsua_TotalM\",TD!$A$134))","v":5},{"$f":"SUM(GETPIVOTDATA(\" Act_HP_IngUsua_TotalF\",TD!$A$134))","v":4},{"$f":"+I159+J159","v":9}]
[null,"PLANES INDIVIDUALIZADOS DE CUIDADO FORMULADOS",{"$f":"SUM(GETPIVOTDATA(\" Plan_indi_CuidadoF_JovenM\",TD!$A$134))","v":0},{"$f":"SUM(GETPIVOTDATA(\" Plan_indi_CuidadoF_JovenF\",TD!$A$134))","v":0},{"$f":"SUM(GETPIVOTDATA(\" Plan_indi_CuidadoF_AdultoM\",TD!$A$134))","v":4},{"$f":"SUM(GETPIVOTDATA(\" Plan_indi_CuidadoF_AdultoF\",TD!$A$134))","v":5},{"$f":"SUM(GETPIVOTDATA(\" Plan_indi_CuidadoF_AdultomaM\",TD!$A$134))","v":0},{"$f":"SUM(GETPIVOTDATA(\" Plan_indi_CuidadoF_AdultomaF\",TD!$A$134))","v":0},{"$f":"SUM(GETPIVOTDATA(\" Plan_indi_CuidadoF_TotalM\",TD!$A$134))","v":4},{"$f":"SUM(GETPIVOTDATA(\" Plan_indi_CuidadoF_TotalF\",TD!$A$134))","v":5},{"$f":"+I160+J160","v":9}]
[null,"EGRESO DE USUARIOS",{"$f":"SUM(GETPIVOTDATA(\" Act_HP_EgrUsua_JovenM\",TD!$A$134))","v":1},{"$f":"SUM(GETPIVOTDATA(\" Act_HP_EgrUsua_JovenF\",TD!$A$134))","v":0},{"$f":"SUM(GETPIVOTDATA(\" Act_HP_EgrUsua_AdultoM\",TD!$A$134))","v":2},{"$f":"SUM(GETPIVOTDATA(\" Act_HP_EgrUsua_AdultoF\",TD!$A$134))","v":1},{"$f":"SUM(GETPIVOTDATA(\" Act_HP_EgrUsua_AdultomaM\",TD!$A$134))","v":0},{"$f":"SUM(GETPIVOTDATA(\" Act_HP_EgrUsua_AdultomaF\",TD!$A$134))","v":0},{"$f":"SUM(GETPIVOTDATA(\" Act_HP_EgrUsua_TotalM\",TD!$A$134))","v":3},{"$f":"SUM(GETPIVOTDATA(\" Act_HP_EgrUsua_TotalF\",TD!$A$134))","v":1},{"$f":"+I161+J161","v":4}]
[]
[null,"ACTIVIDADES","N° Reuniones / Monitoreos",null,"N° Personas"]
[null,"MONITOREO DEL PLAN INDIVIDUALIZADO DE CUIDADO",{"$f":"SUM(GETPIVOTDATA(\" monitoreo_reunion\",TD!$A$134))","v":17},null,{"$f":"SUM(GETPIVOTDATA(\" monitoreo_persona\",TD!$A$134))","v":2}]
[null,"CAPACITACIÓN A CUIDADORAS",{"$f":"SUM(GETPIVOTDATA(\" capacita_reunion\",TD!$A$134))","v":7},null,{"$f":"SUM(GETPIVOTDATA(\" capacita_persona\",TD!$A$134))","v":56}]
[null,"MOVILIZACIÓN DE REDES DE APOYO",{"$f":"SUM(GETPIVOTDATA(\" moviliza_reunion\",TD!$A$134))","v":11},null,{"$f":"SUM(GETPIVOTDATA(\"moviliza_persona\",TD!$A$134))","v":6}]
[null,"PARTICIPACIÓN  COMUNITARIA Y EMPODERAMIENTO SOCIAL",{"$f":"SUM(GETPIVOTDATA(\" partipaComuni_reunion\",TD!$A$134))","v":13},null,{"$f":"SUM(GETPIVOTDATA(\" partipaComuni_persona\",TD!$A$134))","v":7}]
[null,"ADMINISTRACIÓN DE MEDICAMENTOS",{"$f":"SUM(GETPIVOTDATA(\" admMedica_reunion\",TD!$A$134))","v":24},null,{"$f":"SUM(GETPIVOTDATA(\" admMedica_persona\",TD!$A$134))","v":3}]
[]
[null,"ACTIVIDADES DE LAS CUIDADORAS DEL HP"]
[null," N° DE REUNIÓN","NÚMERO DE PERSONAS"]
[null,null,"1 SESION","2 SESION","3 SESION","4 SESION","5 SESION","6 SESION","7 SESION","8 SESION","+ de 8 SESIONES"]
[null,"CONSEJERÍA PARA EL AUTOCUIDADO",{"$f":"SUM(GETPIVOTDATA(\" Conseja_ACuiada_HP_S1\",TD!$A$134))","v":40},{"$f":"SUM(GETPIVOTDATA(\" Conseja_ACuiada_HP_S2\",TD!$A$134))","v":18},{"$f":"SUM(GETPIVOTDATA(\" Conseja_ACuiada_HP_S3\",TD!$A$134))","v":21},{"$f":"SUM(GETPIVOTDATA(\" Conseja_ACuiada_HP_S4\",TD!$A$134))","v":5},{"$f":"SUM(GETPIVOTDATA(\" Conseja_ACuiada_HP_S5\",TD!$A$134))","v":5},{"$f":"SUM(GETPIVOTDATA(\" Conseja_ACuiada_HP_S6\",TD!$A$134))","v":8},{"$f":"SUM(GETPIVOTDATA(\" Conseja_ACuiada_HP_S7\",TD!$A$134))","v":3},{"$f":"SUM(GETPIVOTDATA(\" Conseja_ACuiada_HP_S8\",TD!$A$134))","v":3},{"$f":"SUM(GETPIVOTDATA(\" Conseja_ACuiada_HP_S9\",TD!$A$134))","v":0}]
[null,"SESIONES DEMOSTRATIVAS DE ESTILO DE VIDA SALUDABLE Y AMBIENTES SALUDABLES",{"$f":"SUM(GETPIVOTDATA(\" EstiloVida_AmbienteSalud_S1\",TD!$A$134))","v":25},{"$f":"SUM(GETPIVOTDATA(\" EstiloVida_AmbienteSalud_S2\",TD!$A$134))","v":21},{"$f":"SUM(GETPIVOTDATA(\" EstiloVida_AmbienteSalud_S3\",TD!$A$134))","v":10},{"$f":"SUM(GETPIVOTDATA(\" EstiloVida_AmbienteSalud_S4\",TD!$A$134))","v":7},{"$f":"SUM(GETPIVOTDATA(\" EstiloVida_AmbienteSalud_S5\",TD!$A$134))","v":3},{"$f":"SUM(GETPIVOTDATA(\" EstiloVida_AmbienteSalud_S6\",TD!$A$134))","v":0},{"$f":"SUM(GETPIVOTDATA(\" EstiloVida_AmbienteSalud_S7\",TD!$A$134))","v":0},{"$f":"SUM(GETPIVOTDATA(\" EstiloVida_AmbienteSalud_S8\",TD!$A$134))","v":0},{"$f":"SUM(GETPIVOTDATA(\" EstiloVida_AmbienteSalud_S9\",TD!$A$134))","v":0}]
[null,"SESIONES EDUCATIVAS PARA EL EMPODERAMIENTO DE LOS DERECHOS EN SALUD DE LA POBLACIÓN",{"$f":"SUM(GETPIVOTDATA(\" Emp_DerechoSalud_S1\",TD!$A$134))","v":6},{"$f":"SUM(GETPIVOTDATA(\" Emp_DerechoSalud_S2\",TD!$A$134))","v":0},{"$f":"SUM(GETPIVOTDATA(\" Emp_DerechoSalud_S3\",TD!$A$134))","v":0},{"$f":"SUM(GETPIVOTDATA(\" Emp_DerechoSalud_S4\",TD!$A$134))","v":0},{"$f":"SUM(GETPIVOTDATA(\" Emp_DerechoSalud_S5\",TD!$A$134))","v":0},{"$f":"SUM(GETPIVOTDATA(\" Emp_DerechoSalud_S6\",TD!$A$134))","v":0},{"$f":"SUM(GETPIVOTDATA(\" Emp_DerechoSalud_S7\",TD!$A$134))","v":0},{"$f":"SUM(GETPIVOTDATA(\" Emp_DerechoSalud_S8\",TD!$A$134))","v":0},{"$f":"SUM(GETPIVOTDATA(\" Emp_DerechoSalud_S9\",TD!$A$134))","v":0}]
[null,"SESIONES EDUCATIVAS PARA LA PARTICIPACIÓN DE LA FAMILIA Y COMUNIDAD PARA EL CUIDADO DE LAS PERSONAS CON DISCAPACIDAD (RBC)",{"$f":"SUM(GETPIVOTDATA(\" Participa_FC_PDisca_S1\",TD!$A$158))","v":1},{"$f":"SUM(GETPIVOTDATA(\" Participa_FC_PDisca_S2\",TD!$A$158))","v":1},{"$f":"SUM(GETPIVOTDATA(\" Participa_FC_PDisca_S3\",TD!$A$158))","v":1},{"$f":"SUM(GETPIVOTDATA(\" Participa_FC_PDisca_S4\",TD!$A$158))","v":1},{"$f":"SUM(GETPIVOTDATA(\" Participa_FC_PDisca_S5\",TD!$A$158))","v":2},{"$f":"SUM(GETPIVOTDATA(\" Participa_FC_PDisca_S6\",TD!$A$158))","v":1},{"$f":"SUM(GETPIVOTDATA(\" Participa_FC_PDisca_S7\",TD!$A$158))","v":2},{"$f":"SUM(GETPIVOTDATA(\" Participa_FC_PDisca_S8\",TD!$A$158))","v":1},{"$f":"SUM(GETPIVOTDATA(\" Participa_FC_PDisca_S9\",TD!$A$158))","v":4}]
[null,"SESIONES DEMOSTRATIVAS SOBRE INOCUIDAD ALIMENTARIA (BUENAS PRÁCTICAS DE MANIPULACIÓN Y ALMACENAMIENTO DE ALIMENTOS)",{"$f":"SUM(GETPIVOTDATA(\" Inocuidad_Alimenta_S1\",TD!$A$158))","v":15},{"$f":"SUM(GETPIVOTDATA(\" Inocuidad_Alimenta_S2\",TD!$A$158))","v":8},{"$f":"SUM(GETPIVOTDATA(\" Inocuidad_Alimenta_S3\",TD!$A$158))","v":5},{"$f":"SUM(GETPIVOTDATA(\" Inocuidad_Alimenta_S4\",TD!$A$158))","v":2},{"$f":"SUM(GETPIVOTDATA(\" Inocuidad_Alimenta_S5\",TD!$A$158))","v":1},{"$f":"SUM(GETPIVOTDATA(\" Inocuidad_Alimenta_S6\",TD!$A$158))","v":1},{"$f":"SUM(GETPIVOTDATA(\" Inocuidad_Alimenta_S7\",TD!$A$158))","v":1},{"$f":"SUM(GETPIVOTDATA(\" Inocuidad_Alimenta_S8\",TD!$A$158))","v":1},{"$f":"SUM(GETPIVOTDATA(\" Inocuidad_Alimenta_S9\",TD!$A$158))","v":4}]
[null,"ORIENTACIÓN FAMILIAR",{"$f":"SUM(GETPIVOTDATA(\" Orienta_Familiar_S1\",TD!$A$158))","v":1},{"$f":"SUM(GETPIVOTDATA(\" Orienta_Familiar_S2\",TD!$A$158))","v":6},{"$f":"SUM(GETPIVOTDATA(\" Orienta_Familiar_S3\",TD!$A$158))","v":0},{"$f":"SUM(GETPIVOTDATA(\" Orienta_Familiar_S4\",TD!$A$158))","v":0},{"$f":"SUM(GETPIVOTDATA(\" Orienta_Familiar_S5\",TD!$A$158))","v":0},{"$f":"SUM(GETPIVOTDATA(\" Orienta_Familiar_S6\",TD!$A$158))","v":0},{"$f":"SUM(GETPIVOTDATA(\" Orienta_Familiar_S7\",TD!$A$158))","v":0},{"$f":"SUM(GETPIVOTDATA(\" Orienta_Familiar_S8\",TD!$A$158))","v":0},{"$f":"SUM(GETPIVOTDATA(\" Orienta_Familiar_S9\",TD!$A$158))","v":0}]
[null,"ACTIVIDADES TERAPÉUTICAS, CONTACTO DIRECTO ENTRE EL PACIENTE Y LA PERSONA ENCARGADA",{"$f":"SUM(GETPIVOTDATA(\" Act_Terap_Cto_pte_S1\",TD!$A$158))","v":52},{"$f":"SUM(GETPIVOTDATA(\" Act_Terap_Cto_pte_S2\",TD!$A$158))","v":53},{"$f":"SUM(GETPIVOTDATA(\" Act_Terap_Cto_pte_S3\",TD!$A$158))","v":37},{"$f":"SUM(GETPIVOTDATA(\" Act_Terap_Cto_pte_S4\",TD!$A$158))","v":28},{"$f":"SUM(GETPIVOTDATA(\" Act_Terap_Cto_pte_S5\",TD!$A$158))","v":19},{"$f":"SUM(GETPIVOTDATA(\" Act_Terap_Cto_pte_S6\",TD!$A$158))","v":16},{"$f":"SUM(GETPIVOTDATA(\" Act_Terap_Cto_pte_S7\",TD!$A$158))","v":12},{"$f":"SUM(GETPIVOTDATA(\" Act_Terap_Cto_pte_S8\",TD!$A$158))","v":10},{"$f":"SUM(GETPIVOTDATA(\" Act_Terap_Cto_pte_S9\",TD!$A$158))","v":29}]
[null,"ENTRENAMIENTO PARA AUTO-CUIDADO Y MANEJO EN EL HOGAR",{"$f":"SUM(GETPIVOTDATA(\" Entrena_Autocuidado_S1\",TD!$A$158))","v":51},{"$f":"SUM(GETPIVOTDATA(\" Entrena_Autocuidado_S2\",TD!$A$158))","v":40},{"$f":"SUM(GETPIVOTDATA(\" Entrena_Autocuidado_S3\",TD!$A$158))","v":30},{"$f":"SUM(GETPIVOTDATA(\" Entrena_Autocuidado_S4\",TD!$A$158))","v":28},{"$f":"SUM(GETPIVOTDATA(\" Entrena_Autocuidado_S5\",TD!$A$158))","v":14},{"$f":"SUM(GETPIVOTDATA(\" Entrena_Autocuidado_S6\",TD!$A$158))","v":17},{"$f":"SUM(GETPIVOTDATA(\" Entrena_Autocuidado_S7\",TD!$A$158))","v":7},{"$f":"SUM(GETPIVOTDATA(\" Entrena_Autocuidado_S8\",TD!$A$158))","v":8},{"$f":"SUM(GETPIVOTDATA(\" Entrena_Autocuidado_S9\",TD!$A$158))","v":19}]
[null,"ENTRENAMIENTO PARA LA REINTEGRACIÓN A LA COMUNIDAD Y AL TRABAJO ",{"$f":"SUM(GETPIVOTDATA(\" Entrena_Reintegra_CT_S1\",TD!$A$158))","v":33},{"$f":"SUM(GETPIVOTDATA(\" Entrena_Reintegra_CT_S2\",TD!$A$158))","v":26},{"$f":"SUM(GETPIVOTDATA(\" Entrena_Reintegra_CT_S3\",TD!$A$158))","v":24},{"$f":"SUM(GETPIVOTDATA(\" Entrena_Reintegra_CT_S4\",TD!$A$158))","v":9},{"$f":"SUM(GETPIVOTDATA(\" Entrena_Reintegra_CT_S5\",TD!$A$158))","v":7},{"$f":"SUM(GETPIVOTDATA(\" Entrena_Reintegra_CT_S6\",TD!$A$158))","v":3},{"$f":"SUM(GETPIVOTDATA(\" Entrena_Reintegra_CT_S7\",TD!$A$158))","v":4},{"$f":"SUM(GETPIVOTDATA(\" Entrena_Reintegra_CT_S8\",TD!$A$158))","v":5},{"$f":"SUM(GETPIVOTDATA(\" Entrena_Reintegra_CT_S9\",TD!$A$158))","v":14}]
[null,"CONSEJERÍA DE ACTIVIDAD FÍSICA",{"$f":"SUM(GETPIVOTDATA(\" Conseja_Act_Fisica_S1\",TD!$A$158))","v":21},{"$f":"SUM(GETPIVOTDATA(\" Conseja_Act_Fisica_S2\",TD!$A$158))","v":23},{"$f":"SUM(GETPIVOTDATA(\" Conseja_Act_Fisica_S3\",TD!$A$158))","v":11},{"$f":"SUM(GETPIVOTDATA(\" Conseja_Act_Fisica_S4\",TD!$A$158))","v":6},{"$f":"SUM(GETPIVOTDATA(\" Conseja_Act_Fisica_S5\",TD!$A$158))","v":2},{"$f":"SUM(GETPIVOTDATA(\" Conseja_Act_Fisica_S6\",TD!$A$158))","v":2},{"$f":"SUM(GETPIVOTDATA(\" Conseja_Act_Fisica_S7\",TD!$A$158))","v":2},{"$f":"SUM(GETPIVOTDATA(\" Conseja_Act_Fisica_S8\",TD!$A$158))","v":2},{"$f":"SUM(GETPIVOTDATA(\" Conseja_Act_Fisica_S9\",TD!$A$158))","v":0}]
[null,"VIAJES FUERA DE LO HABITUAL (P. EJ. PARA TRANSPORTAR Y ACOMPAÑAR AL PACIENTE)",{"$f":"SUM(GETPIVOTDATA(\" Viaje_FHabitual_AP_S1\",TD!$A$158))","v":18},{"$f":"SUM(GETPIVOTDATA(\" Viaje_FHabitual_AP_S2\",TD!$A$158))","v":10},{"$f":"SUM(GETPIVOTDATA(\" Viaje_FHabitual_AP_S3\",TD!$A$158))","v":6},{"$f":"SUM(GETPIVOTDATA(\" Viaje_FHabitual_AP_S4\",TD!$A$158))","v":1},{"$f":"SUM(GETPIVOTDATA(\" Viaje_FHabitual_AP_S5\",TD!$A$158))","v":2},{"$f":"SUM(GETPIVOTDATA(\" Viaje_FHabitual_AP_S6\",TD!$A$158))","v":0},{"$f":"SUM(GETPIVOTDATA(\" Viaje_FHabitual_AP_S7\",TD!$A$158))","v":2},{"$f":"SUM(GETPIVOTDATA(\" Viaje_FHabitual_AP_S8\",TD!$A$158))","v":2},{"$f":"SUM(GETPIVOTDATA(\" Viaje_FHabitual_AP_S9\",TD!$A$158))","v":6}]
[]
[null,"ACTIVIDADES DE REHABILITACIÓN"]
[null,"N° PARTICIPANTES POR SESIÓN","1","2","3","4","5","6","7","8","9","10"]
[null,"Rehabilitación psicosocial",{"$f":"SUM(GETPIVOTDATA(\" Rehab_Psicosocial_1\",TD!$A$158))","v":5},{"$f":"SUM(GETPIVOTDATA(\" Rehab_Psicosocial_2\",TD!$A$158))","v":1},{"$f":"SUM(GETPIVOTDATA(\" Rehab_Psicosocial_3\",TD!$A$158))","v":0},{"$f":"SUM(GETPIVOTDATA(\" Rehab_Psicosocial_4\",TD!$A$158))","v":0},{"$f":"SUM(GETPIVOTDATA(\" Rehab_Psicosocial_5\",TD!$A$158))","v":0},{"$f":"SUM(GETPIVOTDATA(\" Rehab_Psicosocial_6\",TD!$A$158))","v":0},{"$f":"SUM(GETPIVOTDATA(\" Rehab_Psicosocial_7\",TD!$A$158))","v":0},{"$f":"SUM(GETPIVOTDATA(\" Rehab_Psicosocial_8\",TD!$A$158))","v":0},{"$f":"SUM(GETPIVOTDATA(\" Rehab_Psicosocial_9\",TD!$A$158))","v":0},{"$f":"SUM(GETPIVOTDATA(\" Rehab_Psicosocial_10\",TD!$A$158))","v":0}]
[null,"Rehabilitación laboral ",{"$f":"SUM(GETPIVOTDATA(\" Rehab_Laboral_1\",TD!$A$158))","v":5},{"$f":"SUM(GETPIVOTDATA(\" Rehab_Laboral_2\",TD!$A$158))","v":2},{"$f":"SUM(GETPIVOTDATA(\" Rehab_Laboral_3\",TD!$A$158))","v":1},{"$f":"SUM(GETPIVOTDATA(\" Rehab_Laboral_4\",TD!$A$158))","v":0},{"$f":"SUM(GETPIVOTDATA(\" Rehab_Laboral_5\",TD!$A$158))","v":0},{"$f":"SUM(GETPIVOTDATA(\" Rehab_Laboral_6\",TD!$A$158))","v":0},{"$f":"SUM(GETPIVOTDATA(\" Rehab_Laboral_7\",TD!$A$158))","v":0},{"$f":"SUM(GETPIVOTDATA(\" Rehab_Laboral_8\",TD!$A$158))","v":0},{"$f":"SUM(GETPIVOTDATA(\" Rehab_Laboral_9\",TD!$A$158))","v":0},{"$f":"SUM(GETPIVOTDATA(\" Rehab_Laboral_10\",TD!$A$158))","v":0}]
[]
[]
[]
[]
[]
[]
[]
[]
[]
[]
[]
[]
[]
[]
[null,"IX. COMUNIDADES CON POBLACIONES VICTIMAS DE VIOLENCIA POLITICA ATENDIDAS"]
[null,"COMUNIDADES CON POBLACIONES VÍCTIMAS DE VIOLENCIA POLÍTICA ATENDIDAS "]
[]
[null,"ACTIVIDAD","1°\nReunion","N° participantes","2°\nReunion","N° participantes","3°\nReunion","N°  participantes","4°\nReunion","N° participantes","5°\nReunion","N°  participantes","6°\nReunion","N° participantes"]
[null,"FORTALECIMIENTO DE REDES DE APOYO PSICOSOCIAL ",{"$f":"SUM(GETPIVOTDATA(\" Fortal_APsicosocial_R1\",TD!$A$158))","v":1},{"$f":"SUM(GETPIVOTDATA(\" Fortal_APsicosocial_P1\",TD!$A$158))","v":12},{"$f":"SUM(GETPIVOTDATA(\" Fortal_APsicosocial_R2\",TD!$A$158))","v":1},{"$f":"SUM(GETPIVOTDATA(\" Fortal_APsicosocial_P2\",TD!$A$158))","v":12},{"$f":"SUM(GETPIVOTDATA(\" Fortal_APsicosocial_R3\",TD!$A$158))","v":1},{"$f":"SUM(GETPIVOTDATA(\" Fortal_APsicosocial_P3\",TD!$A$158))","v":12},{"$f":"SUM(GETPIVOTDATA(\" Fortal_APsicosocial_R4\",TD!$A$158))","v":1},{"$f":"SUM(GETPIVOTDATA(\" Fortal_APsicosocial_P4\",TD!$A$158))","v":10},{"$f":"SUM(GETPIVOTDATA(\" Fortal_APsicosocial_R5\",TD!$A$158))","v":1},{"$f":"SUM(GETPIVOTDATA(\" Fortal_APsicosocial_P5\",TD!$A$158))","v":12},{"$f":"SUM(GETPIVOTDATA(\" Fortal_APsicosocial_R6\",TD!$A$158))","v":1},{"$f":"SUM(GETPIVOTDATA(\" Fortal_APsicosocial_P6\",TD!$A$158))","v":10}]
[null,"ACOMPAÑAMIENTO PSICOSOCIAL A COMUNIDADES VÍCTIMAS DE VIOLENCIA POLÍTICA ",{"$f":"SUM(GETPIVOTDATA(\" Acompaña_Psicosocial_R1\",TD!$A$158))","v":1},{"$f":"SUM(GETPIVOTDATA(\" Acompaña_Psicosocial_P1\",TD!$A$158))","v":10},{"$f":"SUM(GETPIVOTDATA(\" Acompaña_Psicosocial_R2\",TD!$A$158))","v":1},{"$f":"SUM(GETPIVOTDATA(\" Acompaña_Psicosocial_P2\",TD!$A$158))","v":10},{"$f":"SUM(GETPIVOTDATA(\" Acompaña_Psicosocial_R3\",TD!$A$158))","v":1},{"$f":"SUM(GETPIVOTDATA(\" Acompaña_Psicosocial_P3\",TD!$A$158))","v":10},{"$f":"SUM(GETPIVOTDATA(\" Acompaña_Psicosocial_R4\",TD!$A$158))","v":1},{"$f":"SUM(GETPIVOTDATA(\" Acompaña_Psicosocial_P4\",TD!$A$158))","v":8},{"$f":"SUM(GETPIVOTDATA(\" Acompaña_Psicosocial_R5\",TD!$A$158))","v":1},{"$f":"SUM(GETPIVOTDATA(\" Acompaña_Psicosocial_P5\",TD!$A$158))","v":10},{"$f":"SUM(GETPIVOTDATA(\" Acompaña_Psicosocial_R6\",TD!$A$158))","v":1},{"$f":"SUM(GETPIVOTDATA(\" Acompaña_Psicosocial_P6\",TD!$A$158))","v":10}]
[null,"RECONSTRUCCIÓN DE LA IDENTIDAD COLECTIVA ",{"$f":"SUM(GETPIVOTDATA(\" Recontr_IdentidadC_R1\",TD!$A$158))","v":1},{"$f":"SUM(GETPIVOTDATA(\" Recontr_IdentidadC_P1\",TD!$A$158))","v":12},{"$f":"SUM(GETPIVOTDATA(\" Recontr_IdentidadC_R2\",TD!$A$158))","v":1},{"$f":"SUM(GETPIVOTDATA(\" Recontr_IdentidadC_P2\",TD!$A$158))","v":12},{"$f":"SUM(GETPIVOTDATA(\" Recontr_IdentidadC_R3\",TD!$A$158))","v":1},{"$f":"SUM(GETPIVOTDATA(\" Recontr_IdentidadC_P3\",TD!$A$158))","v":10},{"$f":"SUM(GETPIVOTDATA(\" Recontr_IdentidadC_R4\",TD!$A$158))","v":1},{"$f":"SUM(GETPIVOTDATA(\" Recontr_IdentidadC_P4\",TD!$A$158))","v":10},{"$f":"SUM(GETPIVOTDATA(\" Recontr_IdentidadC_R5\",TD!$A$158))","v":1},{"$f":"SUM(GETPIVOTDATA(\" Recontr_IdentidadC_P5\",TD!$A$158))","v":11},{"$f":"SUM(GETPIVOTDATA(\" Recontr_IdentidadC_R6\",TD!$A$158))","v":1},{"$f":"SUM(GETPIVOTDATA(\" Recontr_IdentidadC_P6\",TD!$A$158))","v":11}]
[]
[null,"X. POBLACION EN RIESGO QUE ACCEDE A PROGRAMAS DE PREVENCION EN SALUD MENTAL"]
[null,"PROGRAMA FAMILIAS FUERTES"]
[null,"N° DE SIESIONES REALIZADAS","1°\nSesión",null,"2°\nSesión",null,"3°\nSesión",null,"4°\nSesión",null,"5°\nSesión",null,"6°\nSesión",null,"7°\nSesión"]
[null,"N° niñas, niños y adolescentes participantes",{"$f":"SUM(GETPIVOTDATA(\" pob_Riesgo_Smetal_S1\",TD!$A$158))","v":15},null,{"$f":"SUM(GETPIVOTDATA(\" pob_Riesgo_Smetal_S2\",TD!$A$158))","v":15},null,{"$f":"SUM(GETPIVOTDATA(\" pob_Riesgo_Smetal_S3\",TD!$A$158))","v":15},null,{"$f":"SUM(GETPIVOTDATA(\" pob_Riesgo_Smetal_S4\",TD!$A$158))","v":14},null,{"$f":"SUM(GETPIVOTDATA(\" pob_Riesgo_Smetal_S5\",TD!$A$158))","v":15},null,{"$f":"SUM(GETPIVOTDATA(\" pob_Riesgo_Smetal_S6\",TD!$A$158))","v":15},null,{"$f":"SUM(GETPIVOTDATA(\" pob_Riesgo_Smetal_S7\",TD!$A$158))","v":15}]
[]
[null,"N° DE SIESIONES REALIZADAS","1°\nSesión","N° participantes","2°\nSesión","N°  participantes","3°\nSesión","N° participantes","4°\nSesión","N°  participantes","5° \nSesión","N° participantes","6°\nSesión","N° participantes","7°\nSesión","N°  participantes"]
[null,"N° padres participantes",{"$f":"SUM(GETPIVOTDATA(\" pob_Riesgo_SMetal_P_S1\",TD!$A$158))","v":3},{"$f":"SUM(GETPIVOTDATA(\" pob_Riesgo_SMetal_P_P1\",TD!$A$158))","v":101},{"$f":"SUM(GETPIVOTDATA(\" pob_Riesgo_SMetal_P_S2\",TD!$A$158))","v":2},{"$f":"SUM(GETPIVOTDATA(\" pob_Riesgo_SMetal_P_P2\",TD!$A$158))","v":29},{"$f":"SUM(GETPIVOTDATA(\" pob_Riesgo_SMetal_P_S3\",TD!$A$158))","v":3},{"$f":"SUM(GETPIVOTDATA(\" pob_Riesgo_SMetal_P_P3\",TD!$A$158))","v":74},{"$f":"SUM(GETPIVOTDATA(\" pob_Riesgo_SMetal_P_S4\",TD!$A$158))","v":2},{"$f":"SUM(GETPIVOTDATA(\" pob_Riesgo_SMetal_P_P4\",TD!$A$158))","v":33},{"$f":"SUM(GETPIVOTDATA(\" pob_Riesgo_SMetal_P_S5\",TD!$A$158))","v":2},{"$f":"SUM(GETPIVOTDATA(\" pob_Riesgo_SMetal_P_P5\",TD!$A$158))","v":32},{"$f":"SUM(GETPIVOTDATA(\" pob_Riesgo_SMetal_P_S6\",TD!$A$158))","v":1},{"$f":"SUM(GETPIVOTDATA(\" pob_Riesgo_SMetal_P_P6\",TD!$A$158))","v":12},{"$f":"SUM(GETPIVOTDATA(\" pob_Riesgo_SMetal_P_S7\",TD!$A$158))","v":1},{"$f":"SUM(GETPIVOTDATA(\" pob_Riesgo_SMetal_P_P7\",TD!$A$158))","v":14}]
[]
[null,"9.1  TALLERES DE HABILIDADES SOCIALES"]
[null,"ETAPA DE VIDA","NIÑO (8 A 11 AÑOS)",null,"ADOLESCENTE (12 a 17 años)"]
[null,"ACTIVIDAD","M","F","M","F"]
[null,"Aplicación del cuestionario",{"$f":"SUM(GETPIVOTDATA(\" Custionario_HA_8_11M\",TD!$A$158))","v":46},{"$f":"SUM(GETPIVOTDATA(\" Custionario_HA_8_11F\",TD!$A$158))","v":35},{"$f":"SUM(GETPIVOTDATA(\" Custionario_HA_12_17M\",TD!$A$158))","v":1449},{"$f":"SUM(GETPIVOTDATA(\" Custionario_HA_12_17F\",TD!$A$158))","v":1735}]
[null,"Niñas, niños y adolescentes con problemas en habilidades sociales",{"$f":"SUM(GETPIVOTDATA(\" Problemas_HAI_8_11M\",TD!$A$158))","v":49},{"$f":"SUM(GETPIVOTDATA(\" Problemas_HAI_8_11F\",TD!$A$158))","v":29},{"$f":"SUM(GETPIVOTDATA(\" Problemas_HAI_12_17M\",TD!$A$158))","v":233},{"$f":"SUM(GETPIVOTDATA(\" Problemas_HAI_12_17F\",TD!$A$158))","v":220}]
[null,"Niñas, niños y adolescentes que inician taller de habilidades sociales",{"$f":"SUM(GETPIVOTDATA(\" Inicio_SEHS_8_11M\",TD!$A$158))","v":9},{"$f":"SUM(GETPIVOTDATA(\" Inicio_SEHS_8_11F\",TD!$A$158))","v":7},{"$f":"SUM(GETPIVOTDATA(\" Inicio_SEHS_12_17M\",TD!$A$158))","v":29},{"$f":"SUM(GETPIVOTDATA(\" Inicio_SEHS_12_17F\",TD!$A$158))","v":13}]
[null,"Niñas, niños y adolescentes que terminan taller de habilidades sociales",{"$f":"SUM(GETPIVOTDATA(\" Termina_SEHS_8_11M\",TD!$A$158))","v":19},{"$f":"SUM(GETPIVOTDATA(\" Termina_SEHS_8_11F\",TD!$A$158))","v":13},{"$f":"SUM(GETPIVOTDATA(\" Termina_SEHS_12_17M\",TD!$A$158))","v":31},{"$f":"SUM(GETPIVOTDATA(\" Termina_SEHS_12_17F\",TD!$A$158))","v":12}]
[]
[null,"9.2 N° SESIONES TALLERES DE HABILIDADES SOCIALES (HHSS)","1°\nSesión","N° participantes","2°\nSesión","N°  participantes","3°\nSesión","N° participantes","4°\nSesión","N°  participantes","5° \nSesión","N° participantes","6°\nSesión","N° participantes","7°\nSesión","N°  participantes","8°Sesión","N° participantes","9°\nSesión","N° participantes","10°\nSesión","N°  participantes"]
[null,"Talleres de Habilidades Sociales con niños y niñas",{"$f":"SUM(GETPIVOTDATA(\" Staller_HHSS_S1_8_11\",TD!$A$158))","v":44},{"$f":"SUM(GETPIVOTDATA(\" Staller_HHSS_P1_8_11\",TD!$A$158))","v":0},{"$f":"SUM(GETPIVOTDATA(\" Staller_HHSS_S2_8_11\",TD!$A$158))","v":32},{"$f":"SUM(GETPIVOTDATA(\" Staller_HHSS_P2_8_11\",TD!$A$158))","v":0},{"$f":"SUM(GETPIVOTDATA(\" Staller_HHSS_S3_8_11\",TD!$A$158))","v":41},{"$f":"SUM(GETPIVOTDATA(\" Staller_HHSS_P3_8_11\",TD!$A$158))","v":0},{"$f":"SUM(GETPIVOTDATA(\" Staller_HHSS_S4_8_11\",TD!$A$158))","v":42},{"$f":"SUM(GETPIVOTDATA(\" Staller_HHSS_P4_8_11\",TD!$A$158))","v":0},{"$f":"SUM(GETPIVOTDATA(\" Staller_HHSS_S5_8_11\",TD!$A$158))","v":43},{"$f":"SUM(GETPIVOTDATA(\" Staller_HHSS_P5_8_11\",TD!$A$158))","v":0},{"$f":"SUM(GETPIVOTDATA(\" Staller_HHSS_S6_8_11\",TD!$A$158))","v":36},{"$f":"SUM(GETPIVOTDATA(\" Staller_HHSS_P6_8_11\",TD!$A$158))","v":0},{"$f":"SUM(GETPIVOTDATA(\" Staller_HHSS_S7_8_11\",TD!$A$158))","v":39},{"$f":"SUM(GETPIVOTDATA(\" Staller_HHSS_P7_8_11\",TD!$A$158))","v":0},{"$f":"SUM(GETPIVOTDATA(\" Staller_HHSS_S8_8_11\",TD!$A$158))","v":37},{"$f":"SUM(GETPIVOTDATA(\" Staller_HHSS_P8_8_11\",TD!$A$158))","v":0},{"$f":"SUM(GETPIVOTDATA(\" Staller_HHSS_S9_8_11\",TD!$A$158))","v":38},{"$f":"SUM(GETPIVOTDATA(\" Staller_HHSS_P9_8_11\",TD!$A$158))","v":0},{"$f":"SUM(GETPIVOTDATA(\" Staller_HHSS_S10_8_11\",TD!$A$158))","v":32},{"$f":"SUM(GETPIVOTDATA(\" Staller_HHSS_P10_8_11\",TD!$A$158))","v":0}]
[null,"Taller de Habilidades Sociales adolescentes",{"$f":"SUM(GETPIVOTDATA(\" Staller_HHSS_S1_12_17\",TD!$A$158))","v":91},{"$f":"SUM(GETPIVOTDATA(\" Staller_HHSS_P1_12_17\",TD!$A$158))","v":0},{"$f":"SUM(GETPIVOTDATA(\" Staller_HHSS_S2_12_17\",TD!$A$158))","v":77},{"$f":"SUM(GETPIVOTDATA(\" Staller_HHSS_P2_12_17\",TD!$A$158))","v":0},{"$f":"SUM(GETPIVOTDATA(\" Staller_HHSS_S3_12_17\",TD!$A$158))","v":51},{"$f":"SUM(GETPIVOTDATA(\" Staller_HHSS_P3_12_17\",TD!$A$158))","v":0},{"$f":"SUM(GETPIVOTDATA(\" Staller_HHSS_S4_12_17\",TD!$A$158))","v":56},{"$f":"SUM(GETPIVOTDATA(\" Staller_HHSS_P4_12_17\",TD!$A$158))","v":0},{"$f":"SUM(GETPIVOTDATA(\" Staller_HHSS_S5_12_17\",TD!$A$158))","v":46},{"$f":"SUM(GETPIVOTDATA(\" Staller_HHSS_P5_12_17\",TD!$A$158))","v":0},{"$f":"SUM(GETPIVOTDATA(\" Staller_HHSS_S6_12_17\",TD!$A$158))","v":56},{"$f":"SUM(GETPIVOTDATA(\" Staller_HHSS_P6_12_17\",TD!$A$158))","v":0},{"$f":"SUM(GETPIVOTDATA(\" Staller_HHSS_S7_12_17\",TD!$A$158))","v":48},{"$f":"SUM(GETPIVOTDATA(\" Staller_HHSS_P7_12_17\",TD!$A$158))","v":0},{"$f":"SUM(GETPIVOTDATA(\" Staller_HHSS_S8_12_17\",TD!$A$158))","v":37},{"$f":"SUM(GETPIVOTDATA(\" Staller_HHSS_P8_12_17\",TD!$A$158))","v":0},{"$f":"SUM(GETPIVOTDATA(\" Staller_HHSS_S9_12_17\",TD!$A$158))","v":60},{"$f":"SUM(GETPIVOTDATA(\" Staller_HHSS_P9_12_17\",TD!$A$158))","v":0},{"$f":"SUM(GETPIVOTDATA(\" Staller_HHSS_S10_12_17\",TD!$A$158))","v":43},{"$f":"SUM(GETPIVOTDATA(\" Staller_HHSS_P10_12_17\",TD!$A$158))","v":0}]
[]
[null,"XI. FAMILIAS CON CONOCIMIENTO DE PRACTICAS SALUDABLES PARA PREVENIR LOS TRANSTORNOS MENTALES Y PROBLEAS PSICOSOCIALES"]
[]
[null,"Madres, padres y cuidadores/as con apoyo en estrategias de crianza y conocimientos sobre el desarrollo infantil"]
[null,"EDAD DEL MENOR","1° Sesión ",null,"2° Sesión ",null,"3° Sesión "]
[null,null,"F","M","F","M","F","M"]
[null,"Menor de 1 año",{"$f":"SUM(GETPIVOTDATA(\" Cria_DesaInfa_S1_1aF\",TD!$A$158))","v":60},{"$f":"SUM(GETPIVOTDATA(\" Cria_DesaInfa_S1_1am\",TD!$A$158))","v":66},{"$f":"SUM(GETPIVOTDATA(\" Cria_DesaInfa_S2_1aF\",TD!$A$158))","v":81},{"$f":"SUM(GETPIVOTDATA(\" Cria_DesaInfa_S2_1am\",TD!$A$158))","v":89},{"$f":"SUM(GETPIVOTDATA(\" Cria_DesaInfa_S3_1aF\",TD!$A$158))","v":82},{"$f":"SUM(GETPIVOTDATA(\" Cria_DesaInfa_S3_1am\",TD!$A$158))","v":90}]
[null,"1 Año",{"$f":"SUM(GETPIVOTDATA(\" Cria_DesaInfa_S1_11aF\",TD!$A$158))","v":20},{"$f":"SUM(GETPIVOTDATA(\" Cria_DesaInfa_S1_11am\",TD!$A$158))","v":20},{"$f":"SUM(GETPIVOTDATA(\" Cria_DesaInfa_S2_11aF\",TD!$A$158))","v":3},{"$f":"SUM(GETPIVOTDATA(\" Cria_DesaInfa_S2_11am\",TD!$A$158))","v":2},{"$f":"SUM(GETPIVOTDATA(\" Cria_DesaInfa_S3_11aF\",TD!$A$158))","v":5},{"$f":"SUM(GETPIVOTDATA(\" Cria_DesaInfa_S3_11am\",TD!$A$158))","v":11}]
[null,"2 años",{"$f":"SUM(GETPIVOTDATA(\" Cria_DesaInfa_S1_2aF\",TD!$A$158))","v":19},{"$f":"SUM(GETPIVOTDATA(\" Cria_DesaInfa_S1_2am\",TD!$A$158))","v":15},{"$f":"SUM(GETPIVOTDATA(\" Cria_DesaInfa_S2_2aF\",TD!$A$158))","v":2},{"$f":"SUM(GETPIVOTDATA(\" Cria_DesaInfa_S2_2am\",TD!$A$158))","v":1},{"$f":"SUM(GETPIVOTDATA(\" Cria_DesaInfa_S3_2aF\",TD!$A$158))","v":1},{"$f":"SUM(GETPIVOTDATA(\" Cria_DesaInfa_S3_2am\",TD!$A$158))","v":0}]
[null,"3 años",{"$f":"SUM(GETPIVOTDATA(\" Cria_DesaInfa_S1_3aF\",TD!$A$158))","v":15},{"$f":"SUM(GETPIVOTDATA(\" Cria_DesaInfa_S1_3am\",TD!$A$158))","v":22},{"$f":"SUM(GETPIVOTDATA(\" Cria_DesaInfa_S2_3aF\",TD!$A$158))","v":3},{"$f":"SUM(GETPIVOTDATA(\" Cria_DesaInfa_S2_3am\",TD!$A$158))","v":1},{"$f":"SUM(GETPIVOTDATA(\" Cria_DesaInfa_S3_3aF\",TD!$A$158))","v":5},{"$f":"SUM(GETPIVOTDATA(\" Cria_DesaInfa_S3_3am\",TD!$A$158))","v":1}]
[null,"4 años",{"$f":"SUM(GETPIVOTDATA(\" Cria_DesaInfa_S1_4aF\",TD!$A$158))","v":9},{"$f":"SUM(GETPIVOTDATA(\" Cria_DesaInfa_S1_4am\",TD!$A$158))","v":23},{"$f":"SUM(GETPIVOTDATA(\" Cria_DesaInfa_S2_4aF\",TD!$A$158))","v":0},{"$f":"SUM(GETPIVOTDATA(\" Cria_DesaInfa_S2_4am\",TD!$A$158))","v":2},{"$f":"SUM(GETPIVOTDATA(\" Cria_DesaInfa_S3_4aF\",TD!$A$158))","v":1},{"$f":"SUM(GETPIVOTDATA(\" Cria_DesaInfa_S3_4am\",TD!$A$158))","v":0}]
[]
[]
[]
[]
[]
[]
[]
[null,"10.2 Parejas con consejería en la promoción de una convivencia saludable"]
[null,"SESIONES DE PAREJA","1° Sesión ",null,"2° Sesión ",null,"3° Sesión ",null,"4° Sesión "]
[null,null,"F","M","F","M","F","M","F","M"]
[null,"Número de participantes",{"$f":"SUM(GETPIVOTDATA(\" SPareja_Convive_S1F\",TD!$A$158))","v":86},{"$f":"SUM(GETPIVOTDATA(\" SPareja_Convive_S1M\",TD!$A$158))","v":11},{"$f":"SUM(GETPIVOTDATA(\" SPareja_Convive_S2F\",TD!$A$158))","v":42},{"$f":"SUM(GETPIVOTDATA(\" SPareja_Convive_S2M\",TD!$A$158))","v":0},{"$f":"SUM(GETPIVOTDATA(\" SPareja_Convive_S3F\",TD!$A$158))","v":41},{"$f":"SUM(GETPIVOTDATA(\" SPareja_Convive_S3M\",TD!$A$158))","v":0},{"$f":"SUM(GETPIVOTDATA(\" SPareja_Convive_S4F\",TD!$A$158))","v":42},{"$f":"SUM(GETPIVOTDATA(\" SPareja_Convive_S4M\",TD!$A$158))","v":1}]
[]
[null,"10.2 Parejas con consejería en la promoción de una convivencia saludable"]
[null,null,"1° Sesión ",null,"2° Sesión ",null,"3° Sesión ",null,"4° Sesión "]
[null,null,"N° Reuniones","N° Parejas","N° Reuniones","N° Parejas","N° Reuniones","N° Parejas","N° Reuniones","N° Parejas"]
[null,"Actividad con parejas",{"$f":"SUM(GETPIVOTDATA(\" SPareja_Convive_Grupal_R1\",TD!$A$158))","v":15},{"$f":"SUM(GETPIVOTDATA(\" SPareja_Convive_Grupal_P1\",TD!$A$158))","v":124},{"$f":"SUM(GETPIVOTDATA(\" SPareja_Convive_Grupal_R2\",TD!$A$158))","v":9},{"$f":"SUM(GETPIVOTDATA(\" SPareja_Convive_Grupal_P2\",TD!$A$158))","v":43},{"$f":"SUM(GETPIVOTDATA(\" SPareja_Convive_Grupal_R3\",TD!$A$158))","v":10},{"$f":"SUM(GETPIVOTDATA(\" SPareja_Convive_Grupal_P3\",TD!$A$158))","v":86},{"$f":"SUM(GETPIVOTDATA(\" SPareja_Convive_Grupal_R4\",TD!$A$158))","v":5},{"$f":"SUM(GETPIVOTDATA(\" SPareja_Convive_Grupal_P4\",TD!$A$158))","v":45}]
[]
[null,"10. 3 Líderes adolescentes promueven la salud mental en su comunidad "]
[null,"ACTIVIDAD","1°\nReunión","N° Participantes","2° \nReunión","N° Participantes","3°\nReunión","N° Participantes","4°\nReunión","N° Participantes"]
[null,"Reunión de inducción con docentes",{"$f":"SUM(GETPIVOTDATA(\" Induccion_Docente_R1\",TD!$A$182))","v":24},{"$f":"SUM(GETPIVOTDATA(\" Induccion_Docente_P1\",TD!$A$182))","v":18},{"$f":"SUM(GETPIVOTDATA(\" Induccion_Docente_R2\",TD!$A$182))","v":27},{"$f":"SUM(GETPIVOTDATA(\" Induccion_Docente_P2\",TD!$A$182))","v":16},{"$f":"SUM(GETPIVOTDATA(\" Induccion_Docente_R3\",TD!$A$182))","v":4},{"$f":"SUM(GETPIVOTDATA(\" Induccion_Docente_P3\",TD!$A$182))","v":6},{"$f":"SUM(GETPIVOTDATA(\" Induccion_Docente_R4\",TD!$A$182))","v":3},{"$f":"SUM(GETPIVOTDATA(\" Induccion_Docente_P4\",TD!$A$182))","v":5}]
[null,"Reunión de monitoreo",{"$f":"SUM(GETPIVOTDATA(\" Monitoreo_Docente_R1\",TD!$A$182))","v":2},{"$f":"SUM(GETPIVOTDATA(\" Monitoreo_Docente_P1\",TD!$A$182))","v":38},{"$f":"SUM(GETPIVOTDATA(\" Monitoreo_Docente_R2\",TD!$A$182))","v":2},{"$f":"SUM(GETPIVOTDATA(\" Monitoreo_Docente_P2\",TD!$A$182))","v":24},{"$f":"SUM(GETPIVOTDATA(\" Monitoreo_Docente_R3\",TD!$A$182))","v":0},{"$f":"SUM(GETPIVOTDATA(\" Monitoreo_Docente_P3\",TD!$A$182))","v":0}]
[null,"Reunión de evaluación",{"$f":"SUM(GETPIVOTDATA(\" Evaluacion_Docente_R1\",TD!$A$182))","v":1},{"$f":"SUM(GETPIVOTDATA(\" Evaluacion_Docente_P1\",TD!$A$182))","v":11},{"$f":"SUM(GETPIVOTDATA(\" Evaluacion_Docente_R2\",TD!$A$182))","v":2},{"$f":"SUM(GETPIVOTDATA(\" Evaluacion_Docente_R2\",TD!$A$182))","v":2}]
[]
[null,"ACTIVIDAD","1°\nReunión",null,"2° \nReunión",null,"3°\nReunión",null,"4°\nReunión"]
[null,"N° Instituciones educativas (Reuniones de coordinación)",{"$f":"SUM(GETPIVOTDATA(\" IE_Reunion_coordina_R1\",TD!$A$182))","v":36},null,{"$f":"SUM(GETPIVOTDATA(\" IE_Reunion_coordina_R2\",TD!$A$182))","v":18},null,{"$f":"SUM(GETPIVOTDATA(\" IE_Reunion_coordina_R3\",TD!$A$182))","v":0},null,{"$f":"SUM(GETPIVOTDATA(\" IE_Reunion_coordina_R4\",TD!$A$182))","v":0}]
[]
[null,"ACTIVIDAD","1°\nReunión",null,"2° \nReunión"]
[null,"Taller con lideres adolescentes",{"$f":"SUM(GETPIVOTDATA(\" Taller_LiderAdolesc_R1\",TD!$A$182))","v":98},null,{"$f":"SUM(GETPIVOTDATA(\" Taller_LiderAdolesc_R2\",TD!$A$182))","v":39}]
[]
[null,"10.4 Agentes comunitarios de salud realizan vigilancia ciudadana para reducir la violencia física causada por la pareja "]
[null,"ACTIVIDAD","1°\nReunión","N° Participantes","2° \nReunión","N° Participantes","3°\nReunión","N° Participantes","4°\nReunión","N° Participantes"]
[null,"Taller de capacitación a mujeres de organizaciones comunitarias ",{"$f":"SUM(GETPIVOTDATA(\" T_MujerOrgCom_R1\",TD!$A$182))","v":1},{"$f":"SUM(GETPIVOTDATA(\" T_MujerOrgCom_P1\",TD!$A$182))","v":10},{"$f":"SUM(GETPIVOTDATA(\" T_MujerOrgCom_R2\",TD!$A$182))","v":0},{"$f":"SUM(GETPIVOTDATA(\" T_MujerOrgCom_P2\",TD!$A$182))","v":0},{"$f":"SUM(GETPIVOTDATA(\" T_MujerOrgCom_R3\",TD!$A$182))","v":0},{"$f":"SUM(GETPIVOTDATA(\" T_MujerOrgCom_P3\",TD!$A$182))","v":0},{"$f":"SUM(GETPIVOTDATA(\" T_MujerOrgCom_R4\",TD!$A$182))","v":0},{"$f":"SUM(GETPIVOTDATA(\" T_MujerOrgCom_P4\",TD!$A$182))","v":0}]
[null,"Monitoreo de la implementación de la vigilancia comunitaria",{"$f":"SUM(GETPIVOTDATA(\" Monitoreo_Vigila_com_R1\",TD!$A$182))","v":0},{"$f":"SUM(GETPIVOTDATA(\" Monitoreo_Vigila_com_P1\",TD!$A$182))","v":0},{"$f":"SUM(GETPIVOTDATA(\" Monitoreo_Vigila_com_R2\",TD!$A$182))","v":1},{"$f":"SUM(GETPIVOTDATA(\" Monitoreo_Vigila_com_P2\",TD!$A$182))","v":30},{"$f":"SUM(GETPIVOTDATA(\" Monitoreo_Vigila_com_R3\",TD!$A$182))","v":0},{"$f":"SUM(GETPIVOTDATA(\" Monitoreo_Vigila_com_P3\",TD!$A$182))","v":0}]
[]
[null,"ACTIVIDAD","Reuniones",null,"Participantes"]
[null,"Reunión de Incidencia ante organizaciones comunitarias",{"$f":"SUM(GETPIVOTDATA(\" Indidencia_OrgCom_R1\",TD!$A$182))","v":16},null,{"$f":"SUM(GETPIVOTDATA(\" Indidencia_OrgCom_P1\",TD!$A$182))","v":86}]
[]
[]
[]
[]
[]
[]
[]
[]
[]
[]
[]
[]
[]
[]
[null,"XI.  ACTIVIDADES DE SALUD MENTAL RELACIONADAS A PARTICIPACIÓN SOCIAL Y COMUNITARIA"]
[null,"ACTIVIDADES CON LA COMUNIDAD DE LA JURISDICCIÓN"]
[null,"DESCRIPCIÓN","1° Reunión",null,"2° Reunión",null,"3° Reunión",null,"4° Reunión"]
[null,"Fase de coordinación",{"$f":"SUM(GETPIVOTDATA(\" ActCom_F_Coord_R1\",TD!$A$182))","v":0},null,{"$f":"SUM(GETPIVOTDATA(\" ActCom_F_Coord_R2\",TD!$A$182))","v":0},null,{"$f":"SUM(GETPIVOTDATA(\" ActCom_F_Coord_R3\",TD!$A$182))","v":0},null,{"$f":"SUM(GETPIVOTDATA(\" ActCom_F_Coord_R4\",TD!$A$182))","v":0}]
[null,"Fase de sensibiización",{"$f":"SUM(GETPIVOTDATA(\" ActCom_F_Sensib_R1\",TD!$A$182))","v":0},null,{"$f":"SUM(GETPIVOTDATA(\" ActCom_F_Sensib_R2\",TD!$A$182))","v":0},null,{"$f":"SUM(GETPIVOTDATA(\" ActCom_F_Sensib_R3\",TD!$A$182))","v":0},null,{"$f":"SUM(GETPIVOTDATA(\" ActCom_F_Sensib_R4\",TD!$A$182))","v":0}]
[null,"Fase de organización",{"$f":"SUM(GETPIVOTDATA(\" ActCom_F_Organ_R1\",TD!$A$182))","v":0},null,{"$f":"SUM(GETPIVOTDATA(\" ActCom_F_Organ_R2\",TD!$A$182))","v":0},null,{"$f":"SUM(GETPIVOTDATA(\" ActCom_F_Organ_R3\",TD!$A$182))","v":0},null,{"$f":"SUM(GETPIVOTDATA(\" ActCom_F_Organ_R4\",TD!$A$182))","v":0}]
[null,"Diagnótico y Planificación Participativa",{"$f":"SUM(GETPIVOTDATA(\" ActCom_Dx_Plani_R1\",TD!$A$182))","v":0},null,{"$f":"SUM(GETPIVOTDATA(\" ActCom_Dx_Plani_R2\",TD!$A$182))","v":0},null,{"$f":"SUM(GETPIVOTDATA(\" ActCom_Dx_Plani_R3\",TD!$A$182))","v":0},null,{"$f":"SUM(GETPIVOTDATA(\" ActCom_Dx_Plani_R4\",TD!$A$182))","v":0}]
[null,"Fase de ejecución",{"$f":"SUM(GETPIVOTDATA(\" ActCom_F_Ejec_R1\",TD!$A$182))","v":0},null,{"$f":"SUM(GETPIVOTDATA(\" ActCom_F_Ejec_R2\",TD!$A$182))","v":0},null,{"$f":"SUM(GETPIVOTDATA(\" ActCom_F_Ejec_R3\",TD!$A$182))","v":0},null,{"$f":"SUM(GETPIVOTDATA(\" ActCom_F_Ejec_R4\",TD!$A$182))","v":0}]
[null,"Fase de evaluación",{"$f":"SUM(GETPIVOTDATA(\" ActCom_F_Eval_R1\",TD!$A$182))","v":0},null,{"$f":"SUM(GETPIVOTDATA(\" ActCom_F_Eval_R2\",TD!$A$182))","v":0},null,{"$f":"SUM(GETPIVOTDATA(\" ActCom_F_Eval_R3\",TD!$A$182))","v":0},null,{"$f":"SUM(GETPIVOTDATA(\" ActCom_F_Eval_R4\",TD!$A$182))","v":0}]
[null,"Reuniones de trabajo comunitario ",{"$f":"SUM(GETPIVOTDATA(\" ActCom_RTC_R1\",TD!$A$182))","v":2},null,{"$f":"SUM(GETPIVOTDATA(\" ActCom_RTC_R2\",TD!$A$182))","v":3},null,{"$f":"SUM(GETPIVOTDATA(\" ActCom_RTC_R3\",TD!$A$182))","v":2},null,{"$f":"SUM(GETPIVOTDATA(\" ActCom_RTC_R4\",TD!$A$182))","v":1}]
[]
[null,"ACTIVIDAD","1° Reunión","2° \nReunión","3° Reunión","4° \nReunión","5° Reunión"]
[null,"Apoyo a la organización, constitución legal y reconocimiento comunitario y social de usuarios y familiares",{"$f":"SUM(GETPIVOTDATA(\" AO_Reconce_ComSocial_UF_R1\",TD!$A$182))","v":0},{"$f":"SUM(GETPIVOTDATA(\" AO_Reconce_ComSocial_UF_R2\",TD!$A$182))","v":1},{"$f":"SUM(GETPIVOTDATA(\" AO_Reconce_ComSocial_UF_R3\",TD!$A$182))","v":0},{"$f":"SUM(GETPIVOTDATA(\" AO_Reconce_ComSocial_UF_R4\",TD!$A$182))","v":0},{"$f":"SUM(GETPIVOTDATA(\" AO_Reconce_ComSocial_UF_R5\",TD!$A$182))","v":0}]
[]
[null,"ACTIVIDADES ","1° \nReunión","N° Participantes","2° \nReunión","N° Participantes","3° \nReunión","N° Participantes","4° \nReunión","N° Participantes","5° \nReunión","N° Participantes"]
[null,"Encuentros de participación comunitaria",{"$f":"SUM(GETPIVOTDATA(\" Encuent_Part_Com_R1\",TD!$A$182))","v":0},{"$f":"SUM(GETPIVOTDATA(\" Encuent_Part_Com_P1\",TD!$A$182))","v":0},{"$f":"SUM(GETPIVOTDATA(\" Encuent_Part_Com_R2\",TD!$A$182))","v":0},{"$f":"SUM(GETPIVOTDATA(\" Encuent_Part_Com_P2\",TD!$A$182))","v":0},{"$f":"SUM(GETPIVOTDATA(\" Encuent_Part_Com_R3\",TD!$A$182))","v":0},{"$f":"SUM(GETPIVOTDATA(\" Encuent_Part_Com_P3\",TD!$A$182))","v":0},{"$f":"SUM(GETPIVOTDATA(\" Encuent_Part_Com_R4\",TD!$A$182))","v":0},{"$f":"SUM(GETPIVOTDATA(\" Encuent_Part_Com_P4\",TD!$A$182))","v":0},{"$f":"SUM(GETPIVOTDATA(\" Encuent_Part_Com_R5\",TD!$A$182))","v":0},{"$f":"SUM(GETPIVOTDATA(\" Encuent_Part_Com_P5\",TD!$A$182))","v":0}]
[]
[null,"ACTIVIDADES ","Numero"]
[null,"N de Comites conformados",{"$f":"SUM(GETPIVOTDATA(\" Comite_Conformado\",TD!$A$182))","v":0}]
[]
[null,"CAPACITACIÓN A COMITÉ O ASOCIACIÓN DE FAMILIARES Y/O USUARIOS","N° Reuniones","N° Participantes"]
[null,"Derecho a la salud",{"$f":"SUM(GETPIVOTDATA(\" Derecho_Salud_R\",TD!$A$182))","v":0},{"$f":"SUM(GETPIVOTDATA(\" Derecho_Salud_P\",TD!$A$182))","v":0}]
[null,"Desestigmatización",{"$f":"SUM(GETPIVOTDATA(\" Desentigmatizacion_R\",TD!$A$182))","v":1},{"$f":"SUM(GETPIVOTDATA(\" Desentigmatizacion_P\",TD!$A$182))","v":8}]
[null,"Empoderamiento",{"$f":"SUM(GETPIVOTDATA(\" Empoderamiento_R\",TD!$A$182))","v":0},{"$f":"SUM(GETPIVOTDATA(\" Empoderamiento_P\",TD!$A$182))","v":0}]
[null,"Asociacionismo",{"$f":"SUM(GETPIVOTDATA(\" Asociacionismo_R\",TD!$A$182))","v":0},{"$f":"SUM(GETPIVOTDATA(\" Asociacionismo_P\",TD!$A$182))","v":0}]
[null,"Liderazgo",{"$f":"SUM(GETPIVOTDATA(\" Liderazgo_R\",TD!$A$182))","v":0},{"$f":"SUM(GETPIVOTDATA(\" Liderazgo_P\",TD!$A$182))","v":0}]
[]
[null,"11.4 Vigilancia y acompañamiento comunitario (agentes comunitarios de salud)"]
[null,"DESCRIPCIÓN","N° Reuniones","N° Participantes"]
[null,"Promoción de la crianza saludable",{"$f":"SUM(GETPIVOTDATA(\" Promo_CrianzaS_R\",TD!$A$182))","v":3},{"$f":"SUM(GETPIVOTDATA(\" Promo_CrianzaS_P\",TD!$A$182))","v":61}]
[null,"Primeros Auxilios Psicologicos",{"$f":"SUM(GETPIVOTDATA(\" Prim_Aux_Psicol_R\",TD!$A$182))","v":0},{"$f":"SUM(GETPIVOTDATA(\" Prim_Aux_Psicol_P\",TD!$A$182))","v":0}]
[null,"Prevención conductas de riesgo de problemas de salud mental en las familias.",{"$f":"SUM(GETPIVOTDATA(\" Prev_Cond_PSMentalF_R\",TD!$A$182))","v":0},{"$f":"SUM(GETPIVOTDATA(\" Prev_Cond_PSMentalF_P\",TD!$A$182))","v":0}]
[null,"Empoderamiento de los derechos en salud de las personas con discapacidad mental.",{"$f":"SUM(GETPIVOTDATA(\" Emp_Pers_Discapacidad_R\",TD!$A$182))","v":0},{"$f":"SUM(GETPIVOTDATA(\" Emp_Pers_Discapacidad_P\",TD!$A$182))","v":0}]
[]
[]
[]
[]
[]
[]
[]
[]
[]
[]
[]
[null,"XII.  BUENAS PRACTICAS DE ATENCIÓN FARMACÉUTICA A PERSONAS CON PROBLEMAS DE SALUD MENTAL (SERVICIO DE FARMACIA)"]
[null,"Actividad","Consejería individual",null,"Sesión grupal"]
[null,null,null,null,"N° reuniones",null,"N° Participntes"]
[null,"Dispensación y consejería en uso racional de medicamentos",{"$f":"SUM(GETPIVOTDATA(\" DispMed_ConsIndiv\",TD!$A$182))","v":1500},null,{"$f":"SUM(GETPIVOTDATA(\" DispMed_ConsGrup_R\",TD!$A$182))","v":0},null,{"$f":"SUM(GETPIVOTDATA(\" DispMed_ConsGrup_P\",TD!$A$182))","v":0}]
[]
[null,"MODULOS DE ATENCION AL MALTRATO INFANTIL (MAMIS)"]
[null,"ETAPA DE VIDA","NIÑO",null,null,null,"ADOLESCENTE",null,null,null,"TOTAL ATENDIDOS",null,null,"TOTAL ATENCIONES"]
[null,"EDAD","< 1-4",null,"5-11",null,"12 - 14",null,"15 - 17",null,"SEMITOTALES",null,"TOTAL GENERAL","SEMI TOTALES",null,"TOTAL GENERAL"]
[null,"SEXO","M","F","M","F","M","F","M","F","M","F",null,"M","F"]
[null,"ABUSO FISICO",{"$f":"SUM(GETPIVOTDATA(\" Mamis_AF_1_4M\",TD!$A$182))","v":0},{"$f":"SUM(GETPIVOTDATA(\" Mamis_AF_1_4F\",TD!$A$182))","v":0},{"$f":"SUM(GETPIVOTDATA(\" Mamis_AF_5_11M\",TD!$A$182))","v":0},{"$f":"SUM(GETPIVOTDATA(\" Mamis_AF_5_11F\",TD!$A$182))","v":0},{"$f":"SUM(GETPIVOTDATA(\" Mamis_AF_12_14M\",TD!$A$182))","v":0},{"$f":"SUM(GETPIVOTDATA(\" Mamis_AF_12_14F\",TD!$A$182))","v":0},{"$f":"SUM(GETPIVOTDATA(\" Mamis_AF_15_17M\",TD!$A$182))","v":0},{"$f":"SUM(GETPIVOTDATA(\" Mamis_AF_15_17F\",TD!$A$182))","v":0},{"$f":"SUM(GETPIVOTDATA(\" Mamis_AF_TotalM\",TD!$A$182))","v":0},{"$f":"SUM(GETPIVOTDATA(\" Mamis_AF_TotalF\",TD!$A$182))","v":0},{"$f":"SUM(GETPIVOTDATA(\" Mamis_AF_TOTAL\",TD!$A$182))","v":0},{"$f":"SUM(GETPIVOTDATA(\" Atc_Mamis_AF_TOTALM\",TD!$A$182))","v":0},{"$f":"SUM(GETPIVOTDATA(\" Atc_Mamis_AF_TOTALF\",TD!$A$182))","v":0},{"$f":"SUM(GETPIVOTDATA(\" Atc_Mamis_AF_TOTAL\",TD!$A$182))","v":0}]
[null,"ABUSO PSICOLOGICO",{"$f":"SUM(GETPIVOTDATA(\" Mamis_APS_1_4M\",TD!$A$182))","v":0},{"$f":"SUM(GETPIVOTDATA(\" Mamis_APS_1_4F\",TD!$A$182))","v":0},{"$f":"SUM(GETPIVOTDATA(\" Mamis_APS_5_11M\",TD!$A$182))","v":0},{"$f":"SUM(GETPIVOTDATA(\" Mamis_APS_5_11F\",TD!$A$182))","v":0},{"$f":"SUM(GETPIVOTDATA(\" Mamis_APS_12_14M\",TD!$A$182))","v":0},{"$f":"SUM(GETPIVOTDATA(\" Mamis_APS_12_14F\",TD!$A$182))","v":0},{"$f":"SUM(GETPIVOTDATA(\" Mamis_APS_15_17M\",TD!$A$182))","v":0},{"$f":"SUM(GETPIVOTDATA(\" Mamis_APS_15_17F\",TD!$A$182))","v":0},{"$f":"SUM(GETPIVOTDATA(\" Mamis_APS_TotalM\",TD!$A$182))","v":0},{"$f":"SUM(GETPIVOTDATA(\" Mamis_APS_TotalF\",TD!$A$182))","v":0},{"$f":"SUM(GETPIVOTDATA(\" Mamis_APS_TOTAL\",TD!$A$182))","v":0},{"$f":"SUM(GETPIVOTDATA(\" Atc_Mamis_APS_TOTALM\",TD!$A$182))","v":0},{"$f":"SUM(GETPIVOTDATA(\" Atc_Mamis_APS_TOTALF\",TD!$A$182))","v":0},{"$f":"SUM(GETPIVOTDATA(\" Atc_Mamis_APS_TOTAL\",TD!$A$182))","v":0}]
[null,"ABUSO SEXUAL",{"$f":"SUM(GETPIVOTDATA(\" Mamis_ASE_1_4M\",TD!$A$182))","v":0},{"$f":"SUM(GETPIVOTDATA(\" Mamis_ASE_1_4F\",TD!$A$182))","v":0},{"$f":"SUM(GETPIVOTDATA(\" Mamis_ASE_5_11M\",TD!$A$182))","v":0},{"$f":"SUM(GETPIVOTDATA(\" Mamis_ASE_5_11F\",TD!$A$182))","v":0},{"$f":"SUM(GETPIVOTDATA(\" Mamis_ASE_12_14M\",TD!$A$182))","v":0},{"$f":"SUM(GETPIVOTDATA(\" Mamis_ASE_12_14F\",TD!$A$182))","v":0},{"$f":"SUM(GETPIVOTDATA(\" Mamis_ASE_15_17M\",TD!$A$182))","v":0},{"$f":"SUM(GETPIVOTDATA(\" Mamis_ASE_15_17F\",TD!$A$182))","v":0},{"$f":"SUM(GETPIVOTDATA(\" Mamis_ASE_TotalM\",TD!$A$182))","v":0},{"$f":"SUM(GETPIVOTDATA(\" Mamis_ASE_TotalF\",TD!$A$182))","v":0},{"$f":"SUM(GETPIVOTDATA(\" Mamis_ASE_TOTAL\",TD!$A$182))","v":0},{"$f":"SUM(GETPIVOTDATA(\" Atc_Mamis_ASE_TOTALM\",TD!$A$182))","v":0},{"$f":"SUM(GETPIVOTDATA(\" Atc_Mamis_ASE_TOTALF\",TD!$A$182))","v":0},{"$f":"SUM(GETPIVOTDATA(\" Atc_Mamis_ASE_TOTAL\",TD!$A$182))","v":0}]
[null,"NEGLIGENCIA",{"$f":"SUM(GETPIVOTDATA(\" Mamis_NEG_1_4M\",TD!$A$182))","v":0},{"$f":"SUM(GETPIVOTDATA(\" Mamis_NEG_1_4F\",TD!$A$182))","v":0},{"$f":"SUM(GETPIVOTDATA(\" Mamis_NEG_5_11M\",TD!$A$182))","v":0},{"$f":"SUM(GETPIVOTDATA(\" Mamis_NEG_5_11F\",TD!$A$182))","v":0},{"$f":"SUM(GETPIVOTDATA(\" Mamis_NEG_12_14M\",TD!$A$182))","v":0},{"$f":"SUM(GETPIVOTDATA(\" Mamis_NEG_12_14F\",TD!$A$182))","v":0},{"$f":"SUM(GETPIVOTDATA(\" Mamis_NEG_15_17M\",TD!$A$182))","v":0},{"$f":"SUM(GETPIVOTDATA(\" Mamis_NEG_15_17F\",TD!$A$182))","v":0},{"$f":"SUM(GETPIVOTDATA(\" Mamis_NEG_TotalM\",TD!$A$182))","v":0},{"$f":"SUM(GETPIVOTDATA(\" Mamis_NEG_TotalF\",TD!$A$182))","v":0},{"$f":"SUM(GETPIVOTDATA(\" Mamis_NEG_TOTAL\",TD!$A$182))","v":0},{"$f":"SUM(GETPIVOTDATA(\" Atc_Mamis_NEG_TOTALM\",TD!$A$182))","v":0},{"$f":"SUM(GETPIVOTDATA(\" Atc_Mamis_NEG_TOTALF\",TD!$A$182))","v":0},{"$f":"SUM(GETPIVOTDATA(\" Atc_Mamis_NEG_TOTAL\",TD!$A$182))","v":0}]
[null,"OTROS SINDROMES DE MALTRATO",{"$f":"SUM(GETPIVOTDATA(\" Mamis_OSM_1_4M\",TD!$A$182))","v":0},{"$f":"SUM(GETPIVOTDATA(\" Mamis_OSM_1_4F\",TD!$A$182))","v":0},{"$f":"SUM(GETPIVOTDATA(\" Mamis_OSM_5_11M\",TD!$A$182))","v":0},{"$f":"SUM(GETPIVOTDATA(\" Mamis_OSM_5_11F\",TD!$A$182))","v":0},{"$f":"SUM(GETPIVOTDATA(\" Mamis_OSM_12_14M\",TD!$A$182))","v":0},{"$f":"SUM(GETPIVOTDATA(\" Mamis_OSM_12_14F\",TD!$A$182))","v":0},{"$f":"SUM(GETPIVOTDATA(\" Mamis_OSM_15_17M\",TD!$A$182))","v":0},{"$f":"SUM(GETPIVOTDATA(\" Mamis_OSM_15_17F\",TD!$A$182))","v":0},{"$f":"SUM(GETPIVOTDATA(\" Mamis_OSM_TotalM\",TD!$A$182))","v":0},{"$f":"SUM(GETPIVOTDATA(\" Mamis_OSM_TotalF\",TD!$A$182))","v":0},{"$f":"SUM(GETPIVOTDATA(\" Mamis_OSM_TOTAL\",TD!$A$182))","v":0},{"$f":"SUM(GETPIVOTDATA(\" Atc_Mamis_OSM_TOTALM\",TD!$A$182))","v":0},{"$f":"SUM(GETPIVOTDATA(\" Atc_Mamis_OSM_TOTALF\",TD!$A$182))","v":0},{"$f":"SUM(GETPIVOTDATA(\" Atc_Mamis_OSM_TOTAL\",TD!$A$182))","v":0}]
[null,"TOTAL",{"$f":"SUM(C344:C348)","v":0},{"$f":"SUM(D344:D348)","v":0},0,0,0,0,0,0,0,0,0,0,0,0]
[null,"Utilice en HIS la UPS 303805 en los establecimientos de salud donde exista módulo de Atención al Maltrato Infantil y del Adolescente en Salud (MAMIS)"]

{"sheet":"PAQUETE_TA","index":4,"n_rows":30,"n_cols":19,"rows_kept":30,"cut":false,"hidden":false,"merged":[[10,2,10,3],[6,4,6,7],[6,18,6,20],[8,18,8,20],[0,1,0,20],[1,1,1,20],[2,1,2,20],[3,1,3,20],[4,1,4,20],[6,2,6,3],[8,2,8,3],[6,11,6,15],[8,11,8,15],[10,11,10,15],[10,4,10,7],[8,4,8,7],[12,1,12,17],[13,1,14,1],[25,2,25,7],[26,2,26,7],[27,2,27,7],[13,8,13,9],[13,10,13,11],[13,12,13,13],[13,14,13,15],[13,16,13,17],[28,2,28,7],[29,2,29,7],[13,2,13,7],[14,2,14,7],[19,2,19,7],[20,2,20,7],[21,2,21,7],[22,2,22,7],[23,2,23,7],[24,2,24,7],[15,2,15,7],[18,2,18,7],[16,2,16,7],[17,2,17,7]]}
[null,"GERENCIAL REGIONAL DE SALUD CUSCO"]
[null,"DIRECCION EJECUTIVA DE INTELIGENCIA SANITARIA"]
[null,"DIRECCION DE ESTADISTICA Y TELECOMUNICACIONES"]
[null,"SALUD MENTAL"]
[null,"PAQUETES COMPLETO SEGÚN TERMINO DE ACTIVIDAD"]
[]
[null,null,"RED DE SALUD:",null,{"$f":"TD!F3","v":"LA CONVENCION"},null,null,null,null,"PROVINCIA:",null,{"$f":"TD!F6","v":"(All)"},null,null,null,null,null,"AÑO:",{"$f":"TD!C10","v":"2024"}]
[]
[null,null,"MICRO RED:",null,{"$f":"TD!F4","v":"(All)"},null,null,null,null,"DISTRITO:",null,{"$f":"TD!F7","v":"(All)"},null,null,null,null,null,"MES:",{"$f":"TD!O17","v":"ENERO - NOVIEMBRE"}]
[]
[null,null,"ESTABLECIMIENTO:",null,{"$f":"TD!F5","v":"(All)"},null,null,null,null,"U.E.:",null,{"$f":"TD!F8","v":"(All)"}]
[]
[null,"PERSONAS CON TRASTORNOS MENTALES Y PROBLEMAS PSICOSOCIALES con paquete completo según TA"]
[null,"N°","ETAPA DE VIDA",null,null,null,null,null,"NIÑO",null,"ADOLESCENTE",null,"JOVEN",null,"ADULTO",null,"ADULTO MAYOR"]
[null,null,"SEXO",null,null,null,null,null,"M","F","M","F","M","F","M","F","M","F"]
[null,1,"VIOLENCIA FAMILIAR / MALTRATO INFANTIL",null,null,null,null,null,{"$f":"SUM(GETPIVOTDATA(\"Suma de Atd_VIF_TA_NiñoM\",TD!$A$206))","v":7},{"$f":"SUM(GETPIVOTDATA(\"Suma de Atd_VIF_TA_NiñoF\",TD!$A$206))","v":7},{"$f":"SUM(GETPIVOTDATA(\"Suma de Atd_VIF_TA_AdolM\",TD!$A$206))","v":4},{"$f":"SUM(GETPIVOTDATA(\"Suma de Atd_VIF_TA_AdolF\",TD!$A$206))","v":8},{"$f":"SUM(GETPIVOTDATA(\"Suma de Atd_VIF_TA_JovenM\",TD!$A$206))","v":4},{"$f":"SUM(GETPIVOTDATA(\"Suma de Atd_VIF_TA_JovenF\",TD!$A$206))","v":19},{"$f":"SUM(GETPIVOTDATA(\"Suma de Atd_VIF_TA_AdultoM\",TD!$A$206))","v":7},{"$f":"SUM(GETPIVOTDATA(\"Suma de Atd_VIF_TA_AdultoF\",TD!$A$206))","v":35},{"$f":"SUM(GETPIVOTDATA(\"Suma de Atd_VIF_TA_AdultomM\",TD!$A$206))","v":0},{"$f":"SUM(GETPIVOTDATA(\"Suma de Atd_VIF_TA_AdultomF\",TD!$A$206))","v":3}]
[null,2,"VIOLENCIA O ABUSO SEXUAL",null,null,null,null,null,{"$f":"SUM(GETPIVOTDATA(\"Suma de Atd_AbusoS_TA_NiñoM\",TD!$A$206))","v":0},{"$f":"SUM(GETPIVOTDATA(\"Suma de Atd_AbusoS_TA_NiñoF\",TD!$A$206))","v":5},{"$f":"SUM(GETPIVOTDATA(\"Suma de Atd_AbusoS_TA_AdolM\",TD!$A$206))","v":0},{"$f":"SUM(GETPIVOTDATA(\"Suma de Atd_AbusoS_TA_AdolF\",TD!$A$206))","v":10},{"$f":"SUM(GETPIVOTDATA(\"Suma de Atd_AbusoS_TA_JovenM\",TD!$A$206))","v":0},{"$f":"SUM(GETPIVOTDATA(\"Suma de Atd_AbusoS_TA_JovenF\",TD!$A$206))","v":0},{"$f":"SUM(GETPIVOTDATA(\"Suma de Atd_AbusoS_TA_AdultoM\",TD!$A$206))","v":0},{"$f":"SUM(GETPIVOTDATA(\"Suma de Atd_AbusoS_TA_AdultoF\",TD!$A$206))","v":1},{"$f":"SUM(GETPIVOTDATA(\"Suma de Atd_AbusoS_TA_AdultomM\",TD!$A$206))","v":0},{"$f":"SUM(GETPIVOTDATA(\"Suma de Atd_AbusoS_TA_AdultomF\",TD!$A$206))","v":0}]
[null,3,"TRASTORNO DEL ESPECTRO AUTISTA",null,null,null,null,null,{"$f":"SUM(GETPIVOTDATA(\"Suma de Atd_EAutista_TA_NiñoM\",TD!$A$206))","v":8},{"$f":"SUM(GETPIVOTDATA(\"Suma de Atd_EAutista_TA_NiñoF\",TD!$A$206))","v":0},{"$f":"SUM(GETPIVOTDATA(\"Suma de Atd_EAutista_TA_AdolM\",TD!$A$206))","v":1},{"$f":"SUM(GETPIVOTDATA(\"Suma de Atd_EAutista_TA_AdolF\",TD!$A$206))","v":0},{"$f":"SUM(GETPIVOTDATA(\"Suma de Atd_EAutista_TA_JovenM\",TD!$A$206))","v":0},{"$f":"SUM(GETPIVOTDATA(\"Suma de Atd_EAutista_TA_JovenF\",TD!$A$206))","v":0},{"$f":"SUM(GETPIVOTDATA(\"Suma de Atd_EAutista_TA_AdultoM\",TD!$A$206))","v":0},{"$f":"SUM(GETPIVOTDATA(\"Suma de Atd_EAutista_TA_AdultoF\",TD!$A$206))","v":0},{"$f":"SUM(GETPIVOTDATA(\"Suma de Atd_EAutista_TA_AdultomM\",TD!$A$206))","v":0},{"$f":"SUM(GETPIVOTDATA(\"Suma de Atd_EAutista_TA_AdultomF\",TD!$A$206))","v":0}]
[null,4,"TRASTORNOS MENTALES Y DEL COMPORTAMIENTO DE 0 -17 años",null,null,null,null,null,{"$f":"SUM(GETPIVOTDATA(\"Suma de Atd_TmentalC_TA_NiñoM\",TD!$A$206))","v":18},{"$f":"SUM(GETPIVOTDATA(\"Suma de Atd_TmentalC_TA_NiñoF\",TD!$A$206))","v":11},{"$f":"SUM(GETPIVOTDATA(\"Suma de Atd_TmentalC_TA_AdolM\",TD!$A$206))","v":8},{"$f":"SUM(GETPIVOTDATA(\"Suma de Atd_TmentalC_TA_AdolF\",TD!$A$206))","v":4}]
[null,5,"TRASTORNO DEPRESIVO",null,null,null,null,null,{"$f":"SUM(GETPIVOTDATA(\"Suma de Atd_TD_TA_NiñoM\",TD!$A$206))","v":0},{"$f":"SUM(GETPIVOTDATA(\"Suma de Atd_TD_TA_NiñoF\",TD!$A$206))","v":0},{"$f":"SUM(GETPIVOTDATA(\"Suma de Atd_TD_TA_AdolM\",TD!$A$206))","v":5},{"$f":"SUM(GETPIVOTDATA(\"Suma de Atd_TD_TA_AdolF\",TD!$A$206))","v":23},{"$f":"SUM(GETPIVOTDATA(\"Suma de Atd_TD_TA_JovenM\",TD!$A$206))","v":4},{"$f":"SUM(GETPIVOTDATA(\"Suma de Atd_TD_TA_JovenF\",TD!$A$206))","v":37},{"$f":"SUM(GETPIVOTDATA(\"Suma de Atd_TD_TA_AdultoM\",TD!$A$206))","v":13},{"$f":"SUM(GETPIVOTDATA(\"Suma de Atd_TD_TA_AdultoF\",TD!$A$206))","v":47},{"$f":"SUM(GETPIVOTDATA(\"Suma de Atd_TD_TA_AdultomM\",TD!$A$206))","v":6},{"$f":"SUM(GETPIVOTDATA(\"Suma de Atd_TD_TA_AdultomF\",TD!$A$206))","v":9}]
[null,6,"TRASTORNO DE ANSIEDAD",null,null,null,null,null,{"$f":"SUM(GETPIVOTDATA(\"Suma de Atd_TAN_TA_NiñoM\",TD!$A$206))","v":0},{"$f":"SUM(GETPIVOTDATA(\"Suma de Atd_TAN_TA_NiñoF\",TD!$A$206))","v":0},{"$f":"SUM(GETPIVOTDATA(\"Suma de Atd_TAN_TA_AdolM\",TD!$A$206))","v":0},{"$f":"SUM(GETPIVOTDATA(\"Suma de Atd_TAN_TA_AdolF\",TD!$A$206))","v":2},{"$f":"SUM(GETPIVOTDATA(\"Suma de Atd_TAN_TA_JovenM\",TD!$A$206))","v":6},{"$f":"SUM(GETPIVOTDATA(\"Suma de Atd_TAN_TA_JovenF\",TD!$A$206))","v":8},{"$f":"SUM(GETPIVOTDATA(\"Suma de Atd_TAN_TA_AdultoM\",TD!$A$206))","v":9},{"$f":"SUM(GETPIVOTDATA(\"Suma de Atd_TAN_TA_AdultoF\",TD!$A$206))","v":23},{"$f":"SUM(GETPIVOTDATA(\"Suma de Atd_TAN_TA_AdultomM\",TD!$A$206))","v":1},{"$f":"SUM(GETPIVOTDATA(\"Suma de Atd_TAN_TA_AdultomF\",TD!$A$206))","v":4}]
[null,7,"CONDUCTA SUICIDA"]
[null,8,"CONSUMO PERJUDICIAL DE ALCOHOL, TABACO Y OTRAS DROGAS",null,null,null,null,null,{"$f":"SUM(GETPIVOTDATA(\"Suma de Atd_TCA_TA_NiñoM\",TD!$A$206))","v":0},{"$f":"SUM(GETPIVOTDATA(\"Suma de Atd_TCA_TA_NiñoF\",TD!$A$206))","v":0},{"$f":"SUM(GETPIVOTDATA(\"Suma de Atd_TCA_TA_AdolM\",TD!$A$206))","v":0},{"$f":"SUM(GETPIVOTDATA(\"Suma de Atd_TCA_TA_AdolF\",TD!$A$206))","v":0},{"$f":"SUM(GETPIVOTDATA(\"Suma de Atd_TCA_TA_JovenM\",TD!$A$206))","v":1},{"$f":"SUM(GETPIVOTDATA(\"Suma de Atd_TCA_TA_JovenF\",TD!$A$206))","v":0},{"$f":"SUM(GETPIVOTDATA(\"Suma de Atd_TCA_TA_AdultoM\",TD!$A$206))","v":5},{"$f":"SUM(GETPIVOTDATA(\"Suma de Atd_TCA_TA_AdultoF\",TD!$A$206))","v":0},{"$f":"SUM(GETPIVOTDATA(\"Suma de Atd_TCA_TA_AdultomM\",TD!$A$206))","v":1},{"$f":"SUM(GETPIVOTDATA(\"Suma de Atd_TCA_TA_AdultomF\",TD!$A$206))","v":0}]
[null,9,"DEPENDENCIA DEL ALCOHOL, TABACO Y OTRAS DROGAS",null,null,null,null,null,{"$f":"SUM(GETPIVOTDATA(\"Suma de Atd_DAOD_TA_NiñoM\",TD!$A$206))","v":0},{"$f":"SUM(GETPIVOTDATA(\"Suma de Atd_DAOD_TA_NiñoF\",TD!$A$206))","v":0},{"$f":"SUM(GETPIVOTDATA(\"Suma de Atd_DAOD_TA_AdolM\",TD!$A$206))","v":0},{"$f":"SUM(GETPIVOTDATA(\"Suma de Atd_DAOD_TA_AdolF\",TD!$A$206))","v":0},{"$f":"SUM(GETPIVOTDATA(\"Suma de Atd_DAOD_TA_JovenM\",TD!$A$206))","v":0},{"$f":"SUM(GETPIVOTDATA(\"Suma de Atd_DAOD_TA_JovenF\",TD!$A$206))","v":0},{"$f":"SUM(GETPIVOTDATA(\"Suma de Atd_DAOD_TA_AdultoM\",TD!$A$206))","v":8},{"$f":"SUM(GETPIVOTDATA(\"Suma de Atd_DAOD_TA_AdultoF\",TD!$A$206))","v":3},{"$f":"SUM(GETPIVOTDATA(\"Suma de Atd_DAOD_TA_AdultomM\",TD!$A$206))","v":0},{"$f":"SUM(GETPIVOTDATA(\"Suma de Atd_DAOD_TA_AdultomF\",TD!$A$206))","v":0}]
[null,10,"SÍNDROME y/o TRASTORNO PSICÓTICO ",null,null,null,null,null,{"$f":"SUM(GETPIVOTDATA(\"Suma de Atd_TPS_TA_NiñoM\",TD!$A$206))","v":0},{"$f":"SUM(GETPIVOTDATA(\"Suma de Atd_TPS_TA_NiñoF\",TD!$A$206))","v":0},{"$f":"SUM(GETPIVOTDATA(\"Suma de Atd_TPS_TA_AdolM\",TD!$A$206))","v":0},{"$f":"SUM(GETPIVOTDATA(\"Suma de Atd_TPS_TA_AdolF\",TD!$A$206))","v":0},{"$f":"SUM(GETPIVOTDATA(\"Suma de Atd_TPS_TA_JovenM\",TD!$A$206))","v":7},{"$f":"SUM(GETPIVOTDATA(\"Suma de Atd_TPS_TA_JovenF\",TD!$A$206))","v":1},{"$f":"SUM(GETPIVOTDATA(\"Suma de Atd_TPS_TA_AdultoM\",TD!$A$206))","v":15},{"$f":"SUM(GETPIVOTDATA(\"Suma de Atd_TPS_TA_AdultoF\",TD!$A$206))","v":10},{"$f":"SUM(GETPIVOTDATA(\"Suma de Atd_TPS_TA_AdultomM\",TD!$A$206))","v":1},{"$f":"SUM(GETPIVOTDATA(\"Suma de Atd_TPS_TA_AdultomF\",TD!$A$206))","v":0}]
[null,11,"PRIMER EPISODIO PSICOTICO",null,null,null,null,null,{"$f":"SUM(GETPIVOTDATA(\"Suma de Atd_TPS1_TA_NiñoM\",TD!$A$206))","v":0},{"$f":"SUM(GETPIVOTDATA(\"Suma de Atd_TPS1_TA_NiñoF\",TD!$A$206))","v":0},{"$f":"SUM(GETPIVOTDATA(\"Suma de Atd_TPS1_TA_AdolM\",TD!$A$206))","v":0},{"$f":"SUM(GETPIVOTDATA(\"Suma de Atd_TPS1_TA_AdolF\",TD!$A$206))","v":0},{"$f":"SUM(GETPIVOTDATA(\"Suma de Atd_TPS1_TA_JovenM\",TD!$A$206))","v":0},{"$f":"SUM(GETPIVOTDATA(\"Suma de Atd_TPS1_TA_JovenF\",TD!$A$206))","v":0},{"$f":"SUM(GETPIVOTDATA(\"Suma de Atd_TPS1_TA_AdultoM\",TD!$A$206))","v":0},{"$f":"SUM(GETPIVOTDATA(\"Suma de Atd_TPS1_TA_AdultoF\",TD!$A$206))","v":0},{"$f":"SUM(GETPIVOTDATA(\"Suma de Atd_TPS1_TA_AdultomM\",TD!$A$206))","v":0},{"$f":"SUM(GETPIVOTDATA(\"Suma de Atd_TPS1_TA_AdultomF\",TD!$A$206))","v":0}]
[null,12,"TRASTORNO MENTAL GRAVE",null,null,null,null,null,{"$f":"SUM(GETPIVOTDATA(\"Suma de Atd_TPS_Grav_TA_NiñoM\",TD!$A$206))","v":0},{"$f":"SUM(GETPIVOTDATA(\"Suma de Atd_TPS_Grav_TA_NiñoF\",TD!$A$206))","v":0},{"$f":"SUM(GETPIVOTDATA(\"Suma de Atd_TPS_Grav_TA_AdolM\",TD!$A$206))","v":0},{"$f":"SUM(GETPIVOTDATA(\"Suma de Atd_TPS_Grav_TA_AdolF\",TD!$A$206))","v":0},{"$f":"SUM(GETPIVOTDATA(\"Suma de Atd_TPS_Grav_TA_JovenM\",TD!$A$206))","v":0},{"$f":"SUM(GETPIVOTDATA(\"Suma de Atd_TPS_Grav_TA_JovenF\",TD!$A$206))","v":0},{"$f":"SUM(GETPIVOTDATA(\"Suma de Atd_TPS_Grav_TA_AdultoM\",TD!$A$206))","v":0},{"$f":"SUM(GETPIVOTDATA(\"Suma de Atd_TPS_Grav_TA_AdultoF\",TD!$A$206))","v":0},{"$f":"SUM(GETPIVOTDATA(\"Suma de Atd_TPS_Grav_TA_AdultomM\",TD!$A$206))","v":0},{"$f":"SUM(GETPIVOTDATA(\"Suma de Atd_TPS_Grav_TA_AdultomF\",TD!$A$206))","v":0}]
[null,13,"DETERIORO COGNITIVO",null,null,null,null,null,{"$f":"SUM(GETPIVOTDATA(\"Suma de Atd_DCog_TA_NiñoM\",TD!$A$206))","v":0},{"$f":"SUM(GETPIVOTDATA(\"Suma de Atd_DCog_TA_NiñoF\",TD!$A$206))","v":0},{"$f":"SUM(GETPIVOTDATA(\"Suma de Atd_DCog_TA_AdolM\",TD!$A$206))","v":0},{"$f":"SUM(GETPIVOTDATA(\"Suma de Atd_DCog_TA_AdolF\",TD!$A$206))","v":0},{"$f":"SUM(GETPIVOTDATA(\"Suma de Atd_DCog_TA_JovenM\",TD!$A$206))","v":1},{"$f":"SUM(GETPIVOTDATA(\"Suma de Atd_DCog_TA_JovenF\",TD!$A$206))","v":0},{"$f":"SUM(GETPIVOTDATA(\"Suma de Atd_DCog_TA_AdultoM\",TD!$A$206))","v":0},{"$f":"SUM(GETPIVOTDATA(\"Suma de Atd_DCog_TA_AdultoF\",TD!$A$206))","v":1},{"$f":"SUM(GETPIVOTDATA(\"Suma de Atd_DCog_TA_AdultomM\",TD!$A$206))","v":0},{"$f":"SUM(GETPIVOTDATA(\"Suma de Atd_DCog_TA_AdultomF\",TD!$A$206))","v":0}]
[null,14,"REHABILITACIÓN PSICOSOCIAL",null,null,null,null,null,{"$f":"SUM(GETPIVOTDATA(\"Suma de Rehab_Psicosocial_TA_NiñoM\",TD!$A$206))","v":0},{"$f":"SUM(GETPIVOTDATA(\"Suma de Rehab_Psicosocial_TA_NiñoF\",TD!$A$206))","v":0},{"$f":"SUM(GETPIVOTDATA(\"Suma de Rehab_Psicosocial_TA_AdolM\",TD!$A$206))","v":0},{"$f":"SUM(GETPIVOTDATA(\"Suma de Rehab_Psicosocial_TA_AdolF\",TD!$A$206))","v":0},{"$f":"SUM(GETPIVOTDATA(\"Suma de Rehab_Psicosocial_TA_JovenM\",TD!$A$206))","v":0},{"$f":"SUM(GETPIVOTDATA(\"Suma de Rehab_Psicosocial_TA_JovenF\",TD!$A$206))","v":0},{"$f":"SUM(GETPIVOTDATA(\"Suma de Rehab_Psicosocial_TA_AdultoM\",TD!$A$206))","v":0},{"$f":"SUM(GETPIVOTDATA(\"Suma de Rehab_Psicosocial_TA_AdultoF\",TD!$A$206))","v":0},{"$f":"SUM(GETPIVOTDATA(\"Suma de Rehab_Psicosocial_TA_AdultomM\",TD!$A$206))","v":0},{"$f":"SUM(GETPIVOTDATA(\"Suma de Rehab_Psicosocial_TA_AdultomF\",TD!$A$206))","v":0}]
[null,15,"REHABILITACIÓN LABORAL",null,null,null,null,null,{"$f":"SUM(GETPIVOTDATA(\"Suma de Rehab_Laboral_TA_NiñoM\",TD!$A$206))","v":0},{"$f":"SUM(GETPIVOTDATA(\"Suma de Rehab_Laboral_TA_NiñoF\",TD!$A$206))","v":0},{"$f":"SUM(GETPIVOTDATA(\"Suma de Rehab_Laboral_TA_AdolM\",TD!$A$206))","v":0},{"$f":"SUM(GETPIVOTDATA(\"Suma de Rehab_Laboral_TA_AdolF\",TD!$A$206))","v":0},{"$f":"SUM(GETPIVOTDATA(\"Suma de Rehab_Laboral_TA_JovenM\",TD!$A$206))","v":0},{"$f":"SUM(GETPIVOTDATA(\"Suma de Rehab_Laboral_TA_JovenF\",TD!$A$206))","v":0},{"$f":"SUM(GETPIVOTDATA(\"Suma de Rehab_Laboral_TA_AdultoM\",TD!$A$206))","v":0},{"$f":"SUM(GETPIVOTDATA(\"Suma de Rehab_Laboral_TA_AdultoF\",TD!$A$206))","v":0},{"$f":"SUM(GETPIVOTDATA(\"Suma de Rehab_Laboral_TA_AdultomM\",TD!$A$206))","v":0},{"$f":"SUM(GETPIVOTDATA(\"Suma de Rehab_Laboral_TA_AdultomF\",TD!$A$206))","v":0}]

{"sheet":"CUMPLIMIENTO_PAQUETES","index":5,"n_rows":81,"n_cols":26,"rows_kept":81,"cut":false,"hidden":false,"merged":[[1,1,1,25],[2,1,2,25],[3,1,3,25],[4,1,4,25],[6,2,6,3],[8,2,8,3],[55,14,55,15],[55,16,55,17],[57,14,57,15],[57,16,57,17],[56,8,56,9],[57,8,57,9],[54,10,54,11],[54,12,54,13],[55,10,55,11],[55,12,55,13],[56,10,56,11],[56,12,56,13],[53,10,53,11],[55,1,55,5],[56,1,56,5],[57,1,57,5],[54,14,54,15],[54,16,54,17],[77,1,77,5],[78,1,78,5],[79,1,79,5],[80,1,80,5],[0,1,0,25],[71,1,71,5],[72,1,72,5],[73,1,73,5],[74,1,74,5],[75,1,75,5],[76,1,76,5],[63,1,65,5],[66,1,66,5],[67,1,67,5],[68,1,68,5],[69,1,69,5],[70,1,70,5],[56,14,56,15],[56,16,56,17],[58,14,58,15],[59,8,59,9],[53,8,53,9],[54,8,54,9],[55,8,55,9],[58,1,58,5],[59,1,59,5],[53,6,53,7],[54,6,54,7],[55,6,55,7],[56,6,56,7],[57,6,57,7],[58,6,58,7],[59,6,59,7],[50,6,50,7],[53,12,53,13],[57,12,57,13],[58,10,58,11],[58,12,58,13],[59,10,59,11],[59,12,59,13],[58,16,58,17],[59,14,59,15],[59,16,59,17],[57,10,57,11],[58,8,58,9],[51,10,51,11],[52,10,52,11],[51,12,51,13],[52,12,52,13],[51,14,51,15],[52,14,52,15],[51,16,51,17],[52,16,52,17],[53,14,53,15],[53,16,53,17],[49,6,49,9],[49,10,49,13],[49,14,49,17],[50,8,50,9],[50,10,50,11],[50,12,50,13],[50,14,50,15],[51,1,51,5],[63,6,63,9],[63,10,64,11],[63,12,64,13],[63,14,64,15],[63,16,64,17],[64,6,64,7],[64,8,64,9],[61,0,61,25],[52,1,52,5],[53,1,53,5],[54,1,54,5],[50,16,50,17],[51,6,51,7],[51,8,51,9],[52,8,52,9],[52,6,52,7],[34,12,34,13],[34,14,34,15],[34,16,34,17],[38,1,38,5],[41,1,41,5],[42,1,42,5],[43,1,43,5],[44,1,44,5],[45,1,45,5],[39,1,39,5],[40,1,40,5],[33,1,35,5],[36,1,36,5],[37,1,37,5],[47,0,47,25],[49,1,50,5],[33,6,33,9],[33,10,33,13],[33,14,33,17],[34,6,34,7],[34,8,34,9],[34,10,34,11],[16,10,16,11],[16,12,16,13],[16,14,16,15],[16,16,16,17],[31,0,31,25],[24,1,24,5],[25,1,25,5],[26,1,26,5],[27,1,27,5],[14,1,17,5],[18,1,18,5],[19,1,19,5],[21,1,21,5],[20,1,20,5],[22,1,22,5],[23,1,23,5],[6,22,6,24],[8,22,8,24],[6,15,6,19],[8,15,8,19],[10,15,10,19],[10,5,10,10],[8,5,8,10],[6,5,6,10],[16,24,16,25],[16,18,16,19],[16,20,16,21],[12,0,12,25],[14,6,14,17],[16,22,16,23],[14,18,14,25],[15,6,15,11],[15,12,15,17],[15,18,15,21],[15,22,15,25],[16,6,16,7],[16,8,16,9],[10,2,10,4]]}
[null,"GERENCIAL REGIONAL DE SALUD CUSCO"]
[null,"DIRECCION EJECUTIVA DE INTELIGENCIA SANITARIA"]
[null,"DIRECCION DE ESTADISTICA Y TELECOMUNICACIONES"]
[null,"SALUD MENTAL"]
[null,"CUMPLIMIENTO DE PAQUETES"]
[]
[null,null,"RED DE SALUD:",null,null,{"$f":"TD!F3","v":"LA CONVENCION"},null,null,null,null,null,null,null,"PROVINCIA:",null,{"$f":"TD!F6","v":"(All)"},null,null,null,null,null,"AÑO:",{"$f":"TD!C10","v":"2024"}]
[]
[null,null,"MICRO RED:",null,null,{"$f":"TD!F4","v":"(All)"},null,null,null,null,null,null,null,"DISTRITO:",null,{"$f":"TD!F7","v":"(All)"},null,null,null,null,null,"MES:",{"$f":"TD!O17","v":"ENERO - NOVIEMBRE"}]
[]
[null,null,"ESTABLECIMIENTO:",null,null,{"$f":"TD!F5","v":"(All)"},null,null,null,null,null,null,null,"U.E.:",null,{"$f":"TD!F8","v":"(All)"}]
[]
["POBLACIÓN CON PROBLEMAS PSICOSOCIALES QUE RECIBEN ATENCIÓN OPORTUNA Y DE CALIDAD"]
[]
[null,"ACTIVIDADES",null,null,null,null,"VIOLENCIA FAMILIAR / MALTRATO INFANTIL",null,null,null,null,null,null,null,null,null,null,null,"TRASTORNOS MENTALES Y DEL COMPORTAMIENTO EN NIÑAS, NIÑOS Y ADOLESCENTES"]
[null,null,null,null,null,null,"PERSONAS MENORES DE 18 AÑOS",null,null,null,null,null,"PERSONAS MAYORES DE 18 AÑOS",null,null,null,null,null,"Tratamiento ambulatorio de niños y niñas de 0 a 17 años con trastornos del espectro autista ",null,null,null,"Tratamiento ambulatorio de niñas, niños y adolescentes de 0 a 17 por trastornos mentales y del comportamiento"]
[null,null,null,null,null,null,"TRATAMIENTO NO ESPECIALIZADO - Primer nivel no especializado",null,"TRATAMIENTO ESPECIALIZADO - CSMC y Hospitales",null,"ABUSO SEXUAL",null,"TRATAMIENTO NO ESPECIALIZADO\nPrimer nivel no especializado",null,"TRATAMIENTO ESPECIALIZADO\nCSMC y Hospitales",null,"ABUSO SEXUAL",null,"TRATAMIENTO NO ESPECIALIZADO\nPrimer nivel no especializado (I-2 al I-4)",null,"TRATAMIENTO ESPECIALIZADO\nCSMC y Hospitales (II-1 en adelante)",null,"TRATAMIENTO NO ESPECIALIZADO - Primer nivel no especializado",null,"TRATAMIENTO ESPECIALIZADO - CSMC y Hospitales"]
[null,null,null,null,null,null,"N° Personas Inician actividad","N° Personas sesiones minimas","N° Personas Inician actividad","N° Personas sesiones minimas","N° Personas Inician actividad","N° Personas sesiones minimas","N° Personas Inician actividad","N° Personas sesiones minimas","N° Personas Inician actividad","N° Personas sesiones minimas","N° Personas Inician actividad","N° Personas sesiones minimas","N° Personas Inician actividad","N° Personas sesiones minimas","N° Personas Inician actividad","N° Personas sesiones minimas","N° Personas Inician actividad","N° Personas sesiones minimas","N° Personas Inician actividad","N° Personas sesiones minimas"]
[1,"Consulta médica ",null,null,null,null,null,null,{"$f":"SUM(GETPIVOTDATA(\"Suma de CM_Ini_CP_17a\",TD!$A$206))","v":35},{"$f":"SUM(GETPIVOTDATA(\"Suma de CM_AS_Ini_CP_17a\",TD!$A$206))","v":20},{"$f":"SUM(GETPIVOTDATA(\"Suma de CM_AS_Ini_CP_17a\",TD!$A$206))","v":20},{"$f":"SUM(GETPIVOTDATA(\"Suma de CM_AS_min_CP_17a\",TD!$A$206))","v":2},null,null,{"$f":"SUM(GETPIVOTDATA(\"Suma de CM_Ini_CP_18a\",TD!$A$206))","v":22},{"$f":"SUM(GETPIVOTDATA(\"Suma de CME_min_CP_18a\",TD!$A$206))","v":2},{"$f":"SUM(GETPIVOTDATA(\"Suma de CM_AS_Ini_CP_17a\",TD!$A$206))","v":20},{"$f":"SUM(GETPIVOTDATA(\"Suma de CM_AS_min_CP_17a\",TD!$A$206))","v":2},null,null,{"$f":"SUM(GETPIVOTDATA(\"Suma de CM_espAut_Ini_CP_17a\",TD!$A$206))","v":16},{"$f":"SUM(GETPIVOTDATA(\"Suma de CM_espAut_min_CP_17a\",TD!$A$206))","v":5},null,null,{"$f":"SUM(GETPIVOTDATA(\"Suma de CM_TEC_Ini_CP_17a\",TD!$A$206))","v":99},{"$f":"SUM(GETPIVOTDATA(\"Suma de CM_TEC_min_CP_17a\",TD!$A$206))","v":11}]
[2,"Consultas de salud mental",null,null,null,null,{"$f":"SUM(GETPIVOTDATA(\"Suma de CSM_TNE_VIF_Ini_CP_17a\",TD!$A$206))","v":162},{"$f":"SUM(GETPIVOTDATA(\"Suma de CSM_TNE_VIF_min_CP_17a\",TD!$A$206))","v":85},null,null,null,null,{"$f":"SUM(GETPIVOTDATA(\"Suma de CSM_TNE_VIF_Ini_CP_18a\",TD!$A$206))","v":425},{"$f":"SUM(GETPIVOTDATA(\"Suma de CSM_TNE_VIF_min_CP_18a\",TD!$A$206))","v":57},null,null,null,null,{"$f":"SUM(GETPIVOTDATA(\"Suma de CMS_EspAut_Ini_CP_17a\",TD!$A$206))","v":8},{"$f":"SUM(GETPIVOTDATA(\"Suma de CMS_EspAut_min_CP_17a\",TD!$A$206))","v":0},null,null,{"$f":"SUM(GETPIVOTDATA(\"Suma de CSM_TmentalC_Ini_CP_17a\",TD!$A$206))","v":132},{"$f":"SUM(GETPIVOTDATA(\"Suma de CMS_TmentalC_min_CP_17a\",TD!$A$206))","v":41}]
[3,"Psicoeducación",null,null,null,null,{"$f":"SUM(GETPIVOTDATA(\"Suma de PE_TNE_VIF_im_CP_17a\",TD!$A$206))","v":0},{"$f":"SUM(GETPIVOTDATA(\"Suma de PE_TNE_VIF_min_CP_17a\",TD!$A$206))","v":0},{"$f":"SUM(GETPIVOTDATA(\"Suma de PE_TE_VIF_ini_CP_17a\",TD!$A$206))","v":49},{"$f":"SUM(GETPIVOTDATA(\"Suma de PE_TE_VIF_min_CP_17a\",TD!$A$206))","v":3},{"$f":"SUM(GETPIVOTDATA(\"Suma de PE_AS_Ini_CP_17a\",TD!$A$206))","v":23},{"$f":"SUM(GETPIVOTDATA(\"Suma de PE_AS_min_CP_17a\",TD!$A$206))","v":8},null,null,{"$f":"SUM(GETPIVOTDATA(\"Suma de PE_TE_VIF_ini_CP_18a\",TD!$A$206))","v":89},{"$f":"SUM(GETPIVOTDATA(\"Suma de PE_TE_VIF_min_CP_18a\",TD!$A$206))","v":2},{"$f":"SUM(GETPIVOTDATA(\"Suma de PE_AS_ini_CP_18a\",TD!$A$206))","v":12},{"$f":"SUM(GETPIVOTDATA(\"Suma de PE_AS_min_CP_18a\",TD!$A$206))","v":2}]
[4,"Intervenciones breves / Intervención individual de salud mental",null,null,null,null,{"$f":"SUM(GETPIVOTDATA(\"Suma de IISM_TNE_Ini_CP_17a\",TD!$A$206))","v":68},{"$f":"SUM(GETPIVOTDATA(\"Suma de IISM_TNE_min_CP_17a\",TD!$A$206))","v":4},{"$f":"SUM(GETPIVOTDATA(\"Suma de IISM_TE_Ini_CP_17a\",TD!$A$206))","v":20},{"$f":"SUM(GETPIVOTDATA(\"Suma de IISM_TE_min_CP_17a\",TD!$A$206))","v":0},null,null,{"$f":"SUM(GETPIVOTDATA(\"Suma de IISM_TNE_Ini_CP_18a\",TD!$A$206))","v":177},{"$f":"SUM(GETPIVOTDATA(\"Suma de IISM_TNE_min_CP_18a\",TD!$A$206))","v":2},{"$f":"SUM(GETPIVOTDATA(\"Suma de IISM_TE_Ini_CP_18a\",TD!$A$206))","v":99},{"$f":"SUM(GETPIVOTDATA(\"Suma de IISM_TE_min_CP_18a\",TD!$A$206))","v":7},null,null,{"$f":"SUM(GETPIVOTDATA(\"Suma de IISM_EspAut_TNE_Ini_CP_17a\",TD!$A$206))","v":1},{"$f":"SUM(GETPIVOTDATA(\"Suma de IISM_EspAut_TNE_min_CP_17a\",TD!$A$206))","v":1},{"$f":"SUM(GETPIVOTDATA(\"Suma de IISM_EspAut_TE_Ini_CP_17a\",TD!$A$206))","v":17},{"$f":"SUM(GETPIVOTDATA(\"Suma de IISM_EspAut_TE_min_CP_17a\",TD!$A$206))","v":12},{"$f":"SUM(GETPIVOTDATA(\"Suma de IISM_TEC_TNE_Ini_CP_17a\",TD!$A$206))","v":54},{"$f":"SUM(GETPIVOTDATA(\"Suma de IISM_TEC_TNE_min_CP_17a\",TD!$A$206))","v":18}]
[5,"Psicoterapia individual",null,null,null,null,null,null,{"$f":"SUM(GETPIVOTDATA(\"Suma de PSI_TE_ini_CP_17a\",TD!$A$206))","v":0},{"$f":"SUM(GETPIVOTDATA(\"Suma de PSI_TE_min_CP_17a\",TD!$A$206))","v":4},{"$f":"SUM(GETPIVOTDATA(\"Suma de PSI_AS_Ini_CP_17a\",TD!$A$206))","v":29},{"$f":"SUM(GETPIVOTDATA(\"Suma de PSI_AS_min_CP_17a\",TD!$A$206))","v":8},null,null,{"$f":"SUM(GETPIVOTDATA(\"Suma de PSI_TE_ini_CP_18a\",TD!$A$206))","v":2},{"$f":"SUM(GETPIVOTDATA(\"Suma de PSI_TE_min_CP_18a\",TD!$A$206))","v":4},{"$f":"SUM(GETPIVOTDATA(\"Suma de PSI_AS_Ini_CP_18a\",TD!$A$206))","v":12},{"$f":"SUM(GETPIVOTDATA(\"Suma de PSI_AS_min_CP_18a\",TD!$A$206))","v":0},null,null,{"$f":"SUM(GETPIVOTDATA(\"Suma de PSI_EspAut_TE_ini_CP_17a\",TD!$A$206))","v":32},{"$f":"SUM(GETPIVOTDATA(\"Suma de PSI_EspAut_TE_min_CP_17a\",TD!$A$206))","v":16},null,null,{"$f":"SUM(GETPIVOTDATA(\"Suma de PSI_TEC_TE_Ini_CP_17a\",TD!$A$206))","v":221},{"$f":"SUM(GETPIVOTDATA(\"Suma de PSI_TEC_TE_min_CP_17a\",TD!$A$206))","v":50}]
[6,"Intervención familiar",null,null,null,null,{"$f":"SUM(GETPIVOTDATA(\"Suma de IF_TNE_ini_CP_17a\",TD!$A$206))","v":1},{"$f":"SUM(GETPIVOTDATA(\"Suma de IF_TNE_min_CP_17a\",TD!$A$206))","v":0},{"$f":"SUM(GETPIVOTDATA(\"Suma de IF_TE_ini_CP_17a\",TD!$A$206))","v":2},{"$f":"SUM(GETPIVOTDATA(\"Suma de IF_TE_min_CP_17a\",TD!$A$206))","v":3},{"$f":"SUM(GETPIVOTDATA(\"Suma de IF_AS_Ini_CP_17a\",TD!$A$206))","v":21},{"$f":"SUM(GETPIVOTDATA(\"Suma de IF_AS_min_CP_17a\",TD!$A$206))","v":6},{"$f":"SUM(GETPIVOTDATA(\"Suma de IF_TNE_ini_CP_18a\",TD!$A$206))","v":2},{"$f":"SUM(GETPIVOTDATA(\"Suma de IF_TNE_min_CP_18a\",TD!$A$206))","v":2},{"$f":"SUM(GETPIVOTDATA(\"Suma de IF_TE_ini_CP_18a\",TD!$A$206))","v":7},{"$f":"SUM(GETPIVOTDATA(\"Suma de IF_TE_min_CP_18a\",TD!$A$206))","v":4},{"$f":"SUM(GETPIVOTDATA(\"Suma de IF_AS_Ini_CP_18a\",TD!$A$206))","v":4},{"$f":"SUM(GETPIVOTDATA(\"Suma de IF_AS_min_CP_18a\",TD!$A$206))","v":0}]
[7,"Visita domiciliaria",null,null,null,null,{"$f":"SUM(GETPIVOTDATA(\"Suma de VF_TNE_ini_CP_17a\",TD!$A$206))","v":0},{"$f":"SUM(GETPIVOTDATA(\"Suma de VF_TNE_min_CP_17a\",TD!$A$206))","v":0},{"$f":"SUM(GETPIVOTDATA(\"Suma de VF_TE_ini_CP_17a\",TD!$A$206))","v":1},{"$f":"SUM(GETPIVOTDATA(\"Suma de VF_TE_min_CP_17a\",TD!$A$206))","v":1},{"$f":"SUM(GETPIVOTDATA(\"Suma de VF_AS_ini_CP_17a\",TD!$A$206))","v":14},{"$f":"SUM(GETPIVOTDATA(\"Suma de VF_AS_min_CP_17a\",TD!$A$206))","v":0},{"$f":"SUM(GETPIVOTDATA(\"Suma de VF_TNE_im_CP_18a\",TD!$A$206))","v":1},{"$f":"SUM(GETPIVOTDATA(\"Suma de VF_TNE_im_CP_18a\",TD!$A$206))","v":1},{"$f":"SUM(GETPIVOTDATA(\"Suma de VF_TE_ini_CP_18a\",TD!$A$206))","v":6},{"$f":"SUM(GETPIVOTDATA(\"Suma de VF_TE_ini_CP_18a\",TD!$A$206))","v":6},{"$f":"SUM(GETPIVOTDATA(\"Suma de VF_AS_ini_CP_18a\",TD!$A$206))","v":5},{"$f":"SUM(GETPIVOTDATA(\"Suma de VF_AS_min_CP_18a\",TD!$A$206))","v":2},{"$f":"SUM(GETPIVOTDATA(\"Suma de VF_EspAut_TNE_in_17a\",TD!$A$206))","v":0},{"$f":"SUM(GETPIVOTDATA(\"Suma de VF_EspAut_TNE_min_17a\",TD!$A$206))","v":0},{"$f":"SUM(GETPIVOTDATA(\"Suma de VF_EspAut_TE_in_17a\",TD!$A$206))","v":18},{"$f":"SUM(GETPIVOTDATA(\"Suma de VF_EspAut_TE_min_17a\",TD!$A$206))","v":2},{"$f":"SUM(GETPIVOTDATA(\"Suma de VF_TEC_TNE_im_CP_17a\",TD!$A$206))","v":11},{"$f":"SUM(GETPIVOTDATA(\"Suma de VF_TEC_TNE_im_CP_17a\",TD!$A$206))","v":11},{"$f":"SUM(GETPIVOTDATA(\"Suma de VF_TEC_TE_im_CP_17a\",TD!$A$206))","v":34},{"$f":"SUM(GETPIVOTDATA(\"Suma de VF_TEC_TE_im_CP_17a\",TD!$A$206))","v":34}]
[8,"Movilización de redes de apoyo",null,null,null,null,null,null,{"$f":"SUM(GETPIVOTDATA(\"Suma de MRA_TE_ini_CP_17a\",TD!$A$206))","v":2},{"$f":"SUM(GETPIVOTDATA(\"Suma de MRA_TE_min_CP_17a\",TD!$A$206))","v":2},{"$f":"SUM(GETPIVOTDATA(\"Suma de MRA_AS_ini_CP_17a\",TD!$A$206))","v":14},{"$f":"SUM(GETPIVOTDATA(\"Suma de MRA_AS_min_CP_17a\",TD!$A$206))","v":3},{"$f":"SUM(GETPIVOTDATA(\"Suma de MRA_TNE_in_CP_18a\",TD!$A$206))","v":0},{"$f":"SUM(GETPIVOTDATA(\"Suma de MRA_TNE_min_CP_18a\",TD!$A$206))","v":0},{"$f":"SUM(GETPIVOTDATA(\"Suma de MRA_TE_ini_CP_18a\",TD!$A$206))","v":6},{"$f":"SUM(GETPIVOTDATA(\"Suma de MRA_TE_min_CP_18a\",TD!$A$206))","v":3},{"$f":"SUM(GETPIVOTDATA(\"Suma de MRA_AS_ini_CP_18a\",TD!$A$206))","v":7},{"$f":"SUM(GETPIVOTDATA(\"Suma de MRA_AS_min_CP_18a\",TD!$A$206))","v":2},null,null,{"$f":"SUM(GETPIVOTDATA(\"Suma de MRA_EspAut_TE_ini_CP_17a\",TD!$A$206))","v":4},{"$f":"SUM(GETPIVOTDATA(\"Suma de MRA_EspAut_TE_min_CP_17a\",TD!$A$206))","v":2},null,null,{"$f":"SUM(GETPIVOTDATA(\"Suma de MRA_TEC_TE_in_CP_17a\",TD!$A$206))","v":33},{"$f":"SUM(GETPIVOTDATA(\"Suma de MRA_TEC_TE_min_CP_17a\",TD!$A$206))","v":33}]
[9,"Intervención grupal en salud mental",null,null,null,null,null,null,null,null,null,null,null,null,null,null,null,null,{"$f":"SUM(GETPIVOTDATA(\"Suma de IG_EspAut_TNE_ini_CP_17a\",TD!$A$206))","v":1},{"$f":"SUM(GETPIVOTDATA(\"Suma de IG_EspAut_TNE_min_CP_17a\",TD!$A$206))","v":1},{"$f":"SUM(GETPIVOTDATA(\"Suma de IG_EspAut_TE_ini_CP_17a\",TD!$A$206))","v":10},{"$f":"SUM(GETPIVOTDATA(\"Suma de IG_EspAut_TE_min_CP_17a\",TD!$A$206))","v":5},{"$f":"SUM(GETPIVOTDATA(\"Suma de IG_EspAut_TE_ini_CP_17a\",TD!$A$206))","v":10},{"$f":"SUM(GETPIVOTDATA(\"Suma de IG_EspAut_TE_min_CP_17a\",TD!$A$206))","v":5}]
[10,"N° Personas con paquete estandarizado",null,null,null,null,{"$f":"SUM(GETPIVOTDATA(\"Suma de PPE_TNE_im_CP_17a\",TD!$A$230))","v":328},{"$f":"SUM(GETPIVOTDATA(\"Suma de PPE_TNE_CP_17a\",TD!$A$230))","v":0},{"$f":"SUM(GETPIVOTDATA(\"Suma de PPE_TE_im_CP_17a\",TD!$A$230))","v":409},{"$f":"SUM(GETPIVOTDATA(\"Suma de PPE_TE_CP_17a\",TD!$A$230))","v":0},{"$f":"SUM(GETPIVOTDATA(\"Suma de PPE_AS_ini_17a\",TD!$A$230))","v":75},{"$f":"SUM(GETPIVOTDATA(\"Suma de PPE_AS_min_CP_17a\",TD!$A$230))","v":0},{"$f":"SUM(GETPIVOTDATA(\"Suma de PPE_TNE_im_CP_18a\",TD!$A$230))","v":987},{"$f":"SUM(GETPIVOTDATA(\"Suma de PPE_TNE_CP_18a\",TD!$A$230))","v":0},{"$f":"SUM(GETPIVOTDATA(\"Suma de PPE_TE_im_CP_17a\",TD!$A$230))","v":409},{"$f":"SUM(GETPIVOTDATA(\"Suma de PPE_TE_CP_18a\",TD!$A$230))","v":0},{"$f":"SUM(GETPIVOTDATA(\"Suma de PPE_AS_ini_18a\",TD!$A$230))","v":30},{"$f":"SUM(GETPIVOTDATA(\"Suma de PPE_AS_min_CP_18a\",TD!$A$230))","v":0},{"$f":"SUM(GETPIVOTDATA(\"Suma de PPE_EspAut_CP_17a\",TD!$A$230))","v":16},{"$f":"SUM(GETPIVOTDATA(\"Suma de PPE_EspAut_NE_CP_17a\",TD!$A$230))","v":0},{"$f":"SUM(GETPIVOTDATA(\"Suma de PPE_EspAut_TE_CP_17a\",TD!$A$230))","v":43},{"$f":"SUM(GETPIVOTDATA(\"Suma de PPE_EspAut_E_CP_17a\",TD!$A$230))","v":0},{"$f":"SUM(GETPIVOTDATA(\"Suma de PPE_TEC_CP_17a\",TD!$A$230))","v":233},{"$f":"SUM(GETPIVOTDATA(\"Suma de PPE_TEC_NE_CP_17a\",TD!$A$230))","v":0},{"$f":"SUM(GETPIVOTDATA(\"Suma de PPE_TEC_TE_CP_17a\",TD!$A$230))","v":505},{"$f":"SUM(GETPIVOTDATA(\"Suma de PPE_TEC_E_CP_17a\",TD!$A$230))","v":0}]
[]
[]
[]
["PERSONAS CON TRASTORNOS AFECTIVOS Y DE ANSIEDAD TRATADAS OPORTUNAMENTE"]
[]
[null,"ACTIVIDADES",null,null,null,null,"Tratamiento ambulatorio de personas con depresión",null,null,null,"Tratamiento ambulatorio de personas con conducta suicida",null,null,null,"Tratamiento ambulatorio de personas con ansiedad"]
[null,null,null,null,null,null,"TRATAMIENTO NO ESPECIALIZADO\nPrimer nivel de atención\n",null,"TRATAMIENTO ESPECIALIZADO\nCSMC y Hospitales",null,"TRATAMIENTO NO ESPECIALIZADO\nPrimer nivel de atención\n",null,"TRATAMIENTO ESPECIALIZADO\nCSMC y Hospitales",null,"TRATAMIENTO NO ESPECIALIZADO\nPrimer nivel de atención",null,"TRATAMIENTO ESPECIALIZADO\nCSMC y Hospitales"]
[null,null,null,null,null,null,"N° Personas Inician actividad","N° Personas sesiones minimas","N° Personas Inician actividad","N° Personas sesiones minimas","N° Personas Inician actividad","N° Personas sesiones minimas","N° Personas Inician actividad","N° Personas sesiones minimas","N° Personas Inician actividad","N° Personas sesiones minimas","N° Personas Inician actividad","N° Personas sesiones minimas"]
[1,"Consulta médica ",null,null,null,null,{"$f":"SUM(GETPIVOTDATA(\"Suma de CM_Dep_TNE_ini\",TD!$A$230))","v":0},{"$f":"SUM(GETPIVOTDATA(\"Suma de CM_Dep_TNE_min\",TD!$A$230))","v":0},{"$f":"SUM(GETPIVOTDATA(\"Suma de CM_Dep_TE_ini\",TD!$A$230))","v":0},{"$f":"SUM(GETPIVOTDATA(\"Suma de CM_Dep_TE_min\",TD!$A$230))","v":0},{"$f":"SUM(GETPIVOTDATA(\"Suma de CM_Sui_TNE_ini\",TD!$A$230))","v":0},{"$f":"SUM(GETPIVOTDATA(\"Suma de CM_Sui_TNE_min\",TD!$A$230))","v":0},{"$f":"SUM(GETPIVOTDATA(\"Suma de CM_Sui_TE_ini\",TD!$A$230))","v":0},{"$f":"SUM(GETPIVOTDATA(\"Suma de CM_Sui_TE_min\",TD!$A$230))","v":0},{"$f":"SUM(GETPIVOTDATA(\"Suma de CM_Ans_TNE_ini\",TD!$A$230))","v":0},{"$f":"SUM(GETPIVOTDATA(\"Suma de CM_Ans_TNE_min\",TD!$A$230))","v":0},{"$f":"SUM(GETPIVOTDATA(\"Suma de CM_Ans_TE_ini\",TD!$A$230))","v":0},{"$f":"SUM(GETPIVOTDATA(\"Suma de CM_Ans_TE_min\",TD!$A$230))","v":0}]
[2,"Psicoeducación",null,null,null,null,{"$f":"SUM(GETPIVOTDATA(\"Suma de PE_Dep_TNE_ini\",TD!$A$230))","v":227},{"$f":"SUM(GETPIVOTDATA(\"Suma de PE_Dep_TNE_min\",TD!$A$230))","v":0},{"$f":"SUM(GETPIVOTDATA(\"Suma de PE_Dep_TE_ini\",TD!$A$230))","v":341},{"$f":"SUM(GETPIVOTDATA(\"Suma de PE_Dep_TE_min\",TD!$A$230))","v":0},{"$f":"SUM(GETPIVOTDATA(\"Suma de PE_Sui_TNE_ini\",TD!$A$230))","v":0},{"$f":"SUM(GETPIVOTDATA(\"Suma de PE_Sui_TNE_min\",TD!$A$230))","v":0},{"$f":"SUM(GETPIVOTDATA(\"Suma de PE_Sui_TE_ini\",TD!$A$230))","v":0},{"$f":"SUM(GETPIVOTDATA(\"Suma de PE_Sui_TE_min\",TD!$A$230))","v":0},{"$f":"SUM(GETPIVOTDATA(\"Suma de PE_Ans_TNE_ini\",TD!$A$230))","v":0},{"$f":"SUM(GETPIVOTDATA(\"Suma de PE_Ans_TNE_min\",TD!$A$230))","v":0},{"$f":"SUM(GETPIVOTDATA(\"Suma de PE_Ans_TE_ini\",TD!$A$230))","v":0},{"$f":"SUM(GETPIVOTDATA(\"Suma de PE_Ans_TE_min\",TD!$A$230))","v":0}]
[3,"Intervenciones breves / Intervención individual de salud mental",null,null,null,null,{"$f":"SUM(GETPIVOTDATA(\"Suma de IB_Dep_TNE_ini\",TD!$A$230))","v":42},{"$f":"SUM(GETPIVOTDATA(\"Suma de IB_Dep_TNE_min\",TD!$A$230))","v":6}]
[4,"Consejerías de salud mental",null,null,null,null,null,null,null,null,{"$f":"SUM(GETPIVOTDATA(\"Suma de CO_Sui_TNE_ini\",TD!$A$230))","v":0},{"$f":"SUM(GETPIVOTDATA(\"Suma de CO_Sui_TNE_min\",TD!$A$230))","v":0}]
[5,"Psicoterapia individual",null,null,null,null,null,null,{"$f":"SUM(GETPIVOTDATA(\"Suma de PS_Dep_TE_ini\",TD!$A$230))","v":170},{"$f":"SUM(GETPIVOTDATA(\"Suma de PS_Dep_TE_min\",TD!$A$230))","v":57},null,null,{"$f":"SUM(GETPIVOTDATA(\"Suma de PS_Sui_TE_ini\",TD!$A$230))","v":1},{"$f":"SUM(GETPIVOTDATA(\"Suma de PS_Sui_TE_min\",TD!$A$230))","v":0},null,null,{"$f":"SUM(GETPIVOTDATA(\"Suma de PS_Ans_TE_ini\",TD!$A$230))","v":73},{"$f":"SUM(GETPIVOTDATA(\"Suma de PS_Ans_TE_min\",TD!$A$230))","v":21}]
[6,"Terapia Familiar",null,null,null,null,null,null,null,null,null,null,{"$f":"SUM(GETPIVOTDATA(\"Suma de TP_Sui_TE_ini\",TD!$A$230))","v":0},{"$f":"SUM(GETPIVOTDATA(\"Suma de TP_Sui_TE_min\",TD!$A$230))","v":0}]
[7,"Visita domiciliaria",null,null,null,null,null,null,{"$f":"SUM(GETPIVOTDATA(\"Suma de VD_Dep_TE_ini\",TD!$A$230))","v":83},{"$f":"SUM(GETPIVOTDATA(\"Suma de VD_Dep_TE_min\",TD!$A$230))","v":83},null,null,{"$f":"SUM(GETPIVOTDATA(\"Suma de VD_Sui_TE_ini\",TD!$A$230))","v":1},{"$f":"SUM(GETPIVOTDATA(\"Suma de VD_Sui_TE_min\",TD!$A$230))","v":0},null,null,{"$f":"SUM(GETPIVOTDATA(\"Suma de VD_Ans_TE_ini\",TD!$A$230))","v":26},{"$f":"SUM(GETPIVOTDATA(\"Suma de VD_Ans_TE_min\",TD!$A$230))","v":2}]
[8,"Grupo de ayuda mutua",null,null,null,null,null,null,{"$f":"SUM(GETPIVOTDATA(\"Suma de AM_Dep_TE_ini\",TD!$A$230))","v":40},{"$f":"SUM(GETPIVOTDATA(\"Suma de AM_Dep_TE_min\",TD!$A$230))","v":22},null,null,{"$f":"SUM(GETPIVOTDATA(\"Suma de AM_Sui_TE_ini\",TD!$A$230))","v":0},{"$f":"SUM(GETPIVOTDATA(\"Suma de AM_Sui_TE_min\",TD!$A$230))","v":0},{"$f":"SUM(GETPIVOTDATA(\"Suma de AM_Ans_TNE_ini\",TD!$A$230))","v":1},{"$f":"SUM(GETPIVOTDATA(\"Suma de AM_Ans_TNE_min\",TD!$A$230))","v":0},{"$f":"SUM(GETPIVOTDATA(\"Suma de AM_Ans_TE_ini\",TD!$A$230))","v":28},{"$f":"SUM(GETPIVOTDATA(\"Suma de AM_Ans_TE_min\",TD!$A$230))","v":3}]
[9,"Taller de actividad física"]
[10,"N° Personas con paquete estandarizado",null,null,null,null,{"$f":"SUM(GETPIVOTDATA(\"Suma de PQE_Dep_TNE_ini\",TD!$A$230))","v":665},{"$f":"SUM(GETPIVOTDATA(\"Suma de PQE_Dep_TNE_min\",TD!$A$230))","v":0},{"$f":"SUM(GETPIVOTDATA(\"Suma de PQE_Dep_TE_ini\",TD!$A$230))","v":2490},{"$f":"SUM(GETPIVOTDATA(\"Suma de PQE_Dep_TE_min\",TD!$A$230))","v":0},{"$f":"SUM(GETPIVOTDATA(\"Suma de PQE_Sui_TNE_ini\",TD!$A$230))","v":4},{"$f":"SUM(GETPIVOTDATA(\"Suma de PQE_Sui_TNE_min\",TD!$A$230))","v":0},{"$f":"SUM(GETPIVOTDATA(\"Suma de PQE_Sui_TE_ini\",TD!$A$230))","v":11},{"$f":"SUM(GETPIVOTDATA(\"Suma de PQE_Sui_TE_min\",TD!$A$230))","v":0},{"$f":"SUM(GETPIVOTDATA(\"Suma de PQE_Ans_TNE_ini\",TD!$A$230))","v":247},{"$f":"SUM(GETPIVOTDATA(\"Suma de PQE_Ans_TNE_min\",TD!$A$230))","v":0},{"$f":"SUM(GETPIVOTDATA(\"Suma de PQE_Ans_TE_ini\",TD!$A$230))","v":465},{"$f":"SUM(GETPIVOTDATA(\"Suma de PQE_Ans_TE_min\",TD!$A$230))","v":0}]
[]
["PERSONAS CON TRASTORNOS MENTALES Y DEL COMPORTAMIENTO DEBIDO AL CONSUMO DEL ALCOHOL Y TABACO TRATADAS OPORTUNAMENTE"]
[]
[null,"ACTIVIDADES",null,null,null,null,"Intervenciones breves motivacionales para personas con consumo perjudicial del alcohol y tabaco ",null,null,null,"Intervención para personas con dependencia del alcohol y tabaco",null,null,null,"Rehabilitacion psicosocial de personas con trastornos del comportamiento debido al consumo de alcohol "]
[null,null,null,null,null,null,"N° Personas Inician actividad",null,"N° Personas sesiones minimas",null,"N° Personas Inician actividad",null,"N° Personas sesiones minimas",null,"N° Personas Inician actividad",null,"N° Personas sesiones minimas"]
[1,"Consejeria (Consejería en Estilos de Vida saludable)",null,null,null,null,{"$f":"SUM(GETPIVOTDATA(\"Suma de CO_Alcohol_TNE_ini\",TD!$A$230))","v":14},null,{"$f":"SUM(GETPIVOTDATA(\"Suma de CO_Alcohol_TE_min\",TD!$A$230))","v":9}]
[2,"Intervención breve",null,null,null,null,{"$f":"SUM(GETPIVOTDATA(\"Suma de IB_Alcohol_TNE_ini\",TD!$A$230))","v":111},null,{"$f":"SUM(GETPIVOTDATA(\"Suma de IB_Alcohol_TE_min\",TD!$A$230))","v":62}]
[3,"Consulta médica ",null,null,null,null,null,null,null,null,{"$f":"SUM(GETPIVOTDATA(\"Suma de CM_DAlcohol_TE_ini\",TD!$A$230))","v":17},null,{"$f":"SUM(GETPIVOTDATA(\"Suma de CM_DAlcohol_TE_MIN\",TD!$A$230))","v":0}]
[4,"Entrevista motivacional (96150)",null,null,null,null,null,null,null,null,{"$f":"SUM(GETPIVOTDATA(\"Suma de EM_DAlcohol_TE_ini\",TD!$A$230))","v":28},null,{"$f":"SUM(GETPIVOTDATA(\"Suma de EM_DAlcohol_TE_MIN\",TD!$A$230))","v":14}]
[5,"Psicoterapia individual",null,null,null,null,null,null,null,null,{"$f":"SUM(GETPIVOTDATA(\"Suma de PI_DAlcohol_TE_ini\",TD!$A$230))","v":24},null,{"$f":"SUM(GETPIVOTDATA(\"Suma de PI_DAlcohol_TE_MIN\",TD!$A$230))","v":13}]
[6,"Intervención familiar",null,null,null,null,null,null,null,null,{"$f":"SUM(GETPIVOTDATA(\"Suma de IF_DAlcohol_TE_ini\",TD!$A$230))","v":15},null,{"$f":"SUM(GETPIVOTDATA(\"Suma de IF_DAlcohol_TE_MIN\",TD!$A$230))","v":10},null,{"$f":"SUM(GETPIVOTDATA(\"Suma de IF_RAlcohol_TE_ini\",TD!$A$230))","v":14},null,{"$f":"SUM(GETPIVOTDATA(\"Suma de IF_RAlcohol_TE_MIN\",TD!$A$230))","v":10}]
[7,"Visita domiciliaria",null,null,null,null,null,null,null,null,{"$f":"SUM(GETPIVOTDATA(\"Suma de VD_DAlcohol_TE_ini\",TD!$A$230))","v":16},null,{"$f":"SUM(GETPIVOTDATA(\"Suma de VD_DAlcohol_TE_MIN\",TD!$A$230))","v":3}]
[8,"Trabajo Grupal (Intervención grupal en salud mental) ",null,null,null,null,null,null,null,null,{"$f":"SUM(GETPIVOTDATA(\"Suma de TG_DAlcohol_TE_ini\",TD!$A$230))","v":5},null,{"$f":"SUM(GETPIVOTDATA(\"Suma de TG_DAlcohol_TE_MIN\",TD!$A$230))","v":2},null,{"$f":"SUM(GETPIVOTDATA(\"Suma de TG_RAlcohol_TE_ini\",TD!$A$230))","v":0},null,{"$f":"SUM(GETPIVOTDATA(\"Suma de TG_RAlcohol_TE_MIN\",TD!$A$230))","v":0}]
[9,"N° Personas con paquete estandarizado",null,null,null,null,{"$f":"SUM(GETPIVOTDATA(\"Suma de PQE_Alcohol_TE_ini\",TD!$A$230))","v":134},null,{"$f":"SUM(GETPIVOTDATA(\"Suma de PQE_Alcohol_TE_min\",TD!$A$230))","v":1},null,{"$f":"SUM(GETPIVOTDATA(\"Suma de PQE_DAlcohol_TE_ini\",TD!$A$230))","v":100},null,{"$f":"SUM(GETPIVOTDATA(\"Suma de PQE_DAlcohol_TE_MIN\",TD!$A$230))","v":0},null,{"$f":"SUM(GETPIVOTDATA(\"Suma de PQE_RAlcohol_TE_ini\",TD!$A$230))","v":174},null,{"$f":"SUM(GETPIVOTDATA(\"Suma de PQE_RAlcohol_TE_MIN\",TD!$A$230))","v":0}]
[]
["PERSONAS CON TRASTORNOS Y SÍNDROMES PSICÓTICOS TRATADAS OPORTUNAMENTE "]
[]
[null,"ACTIVIDADES",null,null,null,null,"Tratamiento ambulatorio a personas con síndrome psicótico o trastorno del espectro de la esquizofrenia",null,null,null,"Tratamiento ambulatorio de personas con primer episodio psicótico ",null,"Tratamiento ambulatorio para las personas con deterioro cognitivo ",null,"Cuidados de salud domiciliarios a personas con demencia severa y en precarias condiciones económicas ",null,"Continuidad de cuidados a personas con trastorno mental grave "]
[null,null,null,null,null,null,"TRATAMIENTO NO ESPECIALIZADO\nPrimer nivel de atención",null,"TRATAMIENTO ESPECIALIZADO\nCSMC y Hospitales"]
[null,null,null,null,null,null,"N° Personas Inician actividad","N° Personas sesiones minimas","N° Personas Inician actividad","N° Personas sesiones minimas","N° Personas Inician actividad","N° Personas sesiones minimas","N° Personas Inician actividad","N° Personas sesiones minimas","N° Personas Inician actividad","N° Personas sesiones minimas","N° Personas Inician actividad","N° Personas sesiones minimas"]
[1,"Consulta médica ",null,null,null,null,{"$f":"SUM(GETPIVOTDATA(\"Suma de CM_Esqz_TNE_ini\",TD!$A$230))","v":1},{"$f":"SUM(GETPIVOTDATA(\"Suma de CM_Esqz_TNE_min\",TD!$A$230))","v":0},{"$f":"SUM(GETPIVOTDATA(\"Suma de CM_Esqz_TE_ini\",TD!$A$230))","v":21},{"$f":"SUM(GETPIVOTDATA(\"Suma de CM_Esqz_TE_min\",TD!$A$230))","v":10},{"$f":"SUM(GETPIVOTDATA(\"Suma de CM_1Esqz_ini\",TD!$A$230))","v":0},{"$f":"SUM(GETPIVOTDATA(\"Suma de CM_1Esqz_min\",TD!$A$230))","v":0},{"$f":"SUM(GETPIVOTDATA(\"Suma de CM_DCog_ini\",TD!$A$230))","v":10},{"$f":"SUM(GETPIVOTDATA(\"Suma de CM_DCog_min\",TD!$A$230))","v":7},null,null,{"$f":"SUM(GETPIVOTDATA(\"Suma de CM_tmg_ini\",TD!$A$230))","v":0},{"$f":"SUM(GETPIVOTDATA(\"Suma de CM_tmg_min\",TD!$A$230))","v":2}]
[2,"Evaluación integral Interdisciplinaria",null,null,null,null,null,null,{"$f":"SUM(GETPIVOTDATA(\"Suma de EII_Esqz_TE_ini\",TD!$A$230))","v":12},{"$f":"SUM(GETPIVOTDATA(\"Suma de EII_Esqz_min\",TD!$A$230))","v":10},{"$f":"SUM(GETPIVOTDATA(\"Suma de EII_1Esqz_ini\",TD!$A$230))","v":0},{"$f":"SUM(GETPIVOTDATA(\"Suma de EII_1Esqz_MIN\",TD!$A$230))","v":0},null,null,null,null,{"$f":"SUM(GETPIVOTDATA(\"Suma de EII_1Esqz_ini\",TD!$A$230))","v":0},{"$f":"SUM(GETPIVOTDATA(\"Suma de EII_1Esqz_min\",TD!$A$230))","v":0}]
[3,"Psicoeducación",null,null,null,null,{"$f":"SUM(GETPIVOTDATA(\"Suma de PE_Esqz_TNE_ini\",TD!$A$230))","v":10},{"$f":"SUM(GETPIVOTDATA(\"Suma de PS_Esqz_TNE_min\",TD!$A$230))","v":1},{"$f":"SUM(GETPIVOTDATA(\"Suma de PE_Esqz_TE_ini\",TD!$A$230))","v":25},{"$f":"SUM(GETPIVOTDATA(\"Suma de PS_Esqz_TE_min\",TD!$A$230))","v":8},{"$f":"SUM(GETPIVOTDATA(\"Suma de PS_1Esqz_ini\",TD!$A$230))","v":0},{"$f":"SUM(GETPIVOTDATA(\"Suma de PS_1Esqz_MIN\",TD!$A$230))","v":0},null,null,null,null,{"$f":"SUM(GETPIVOTDATA(\"Suma de PS_1Esqz_ini\",TD!$A$230))","v":0},{"$f":"SUM(GETPIVOTDATA(\"Suma de PS_1Esqz_min\",TD!$A$230))","v":0}]
[4,"Intervención individual ",null,null,null,null,{"$f":"SUM(GETPIVOTDATA(\"Suma de II_Esqz_TNE_ini\",TD!$A$230))","v":5},{"$f":"SUM(GETPIVOTDATA(\"Suma de PS_Esqz_TNE_min\",TD!$A$230))","v":1},{"$f":"SUM(GETPIVOTDATA(\"Suma de II_Esqz_TE_ini\",TD!$A$230))","v":21},{"$f":"SUM(GETPIVOTDATA(\"Suma de II_Esqz_TE_min\",TD!$A$230))","v":10},{"$f":"SUM(GETPIVOTDATA(\"Suma de II_1Esqz_ini\",TD!$A$230))","v":0},{"$f":"SUM(GETPIVOTDATA(\"Suma de II_1Esqz_MIN\",TD!$A$230))","v":0},null,null,null,null,{"$f":"SUM(GETPIVOTDATA(\"Suma de II_1Esqz_ini\",TD!$A$230))","v":0},{"$f":"SUM(GETPIVOTDATA(\"Suma de II_1Esqz_min\",TD!$A$230))","v":0}]
[5,"Psicoterapia individual",null,null,null,null,null,null,{"$f":"SUM(GETPIVOTDATA(\"Suma de PSI_Esqz_TE_ini\",TD!$A$230))","v":29},{"$f":"SUM(GETPIVOTDATA(\"Suma de PSI_Esqz_TE_min\",TD!$A$230))","v":5},{"$f":"SUM(GETPIVOTDATA(\"Suma de PSI_1Esqz_ini\",TD!$A$230))","v":0},{"$f":"SUM(GETPIVOTDATA(\"Suma de PSI_1Esqz_MIN\",TD!$A$230))","v":0},null,null,null,null,{"$f":"SUM(GETPIVOTDATA(\"Suma de PSI_1Esqz_ini\",TD!$A$230))","v":0},{"$f":"SUM(GETPIVOTDATA(\"Suma de PSI_1Esqz_min\",TD!$A$230))","v":0}]
[6,"Intervención familiar",null,null,null,null,{"$f":"SUM(GETPIVOTDATA(\"Suma de IF_Esqz_TNE_ini\",TD!$A$230))","v":0},{"$f":"SUM(GETPIVOTDATA(\"Suma de IF_Esqz_TNE_min\",TD!$A$230))","v":0},{"$f":"SUM(GETPIVOTDATA(\"Suma de IF_Esqz_TE_ini\",TD!$A$230))","v":22},{"$f":"SUM(GETPIVOTDATA(\"Suma de IF_Esqz_TE_min\",TD!$A$230))","v":8},{"$f":"SUM(GETPIVOTDATA(\"Suma de IF_1Esqz_ini\",TD!$A$230))","v":0},{"$f":"SUM(GETPIVOTDATA(\"Suma de IF_1Esqz_MIN\",TD!$A$230))","v":0},null,null,null,null,{"$f":"SUM(GETPIVOTDATA(\"Suma de IF_1Esqz_ini\",TD!$A$230))","v":0},{"$f":"SUM(GETPIVOTDATA(\"Suma de IF_1Esqz_min\",TD!$A$230))","v":0}]
[7,"Visita domiciliaria",null,null,null,null,{"$f":"SUM(GETPIVOTDATA(\"Suma de VD_Esqz_TNE_im\",TD!$A$230))","v":11},{"$f":"SUM(GETPIVOTDATA(\"Suma de VD_Esqz_TNE_min\",TD!$A$230))","v":8},{"$f":"SUM(GETPIVOTDATA(\"Suma de VD_Esqz_TE_ini\",TD!$A$230))","v":25},{"$f":"SUM(GETPIVOTDATA(\"Suma de VD_Esqz_TE_min\",TD!$A$230))","v":8},{"$f":"SUM(GETPIVOTDATA(\"Suma de VD_1Esqz_ini\",TD!$A$230))","v":0},{"$f":"SUM(GETPIVOTDATA(\"Suma de VD_1Esqz_MIN\",TD!$A$230))","v":0},null,null,null,null,{"$f":"SUM(GETPIVOTDATA(\"Suma de VD_1Esqz_ini\",TD!$A$230))","v":0},{"$f":"SUM(GETPIVOTDATA(\"Suma de VD_1Esqz_min\",TD!$A$230))","v":0}]
[8,"Intervención social",null,null,null,null,null,null,{"$f":"SUM(GETPIVOTDATA(\"Suma de IS_Esqz_TE_ini\",TD!$A$230))","v":13},{"$f":"SUM(GETPIVOTDATA(\"Suma de IS_Esqz_TE_min\",TD!$A$230))","v":0},{"$f":"SUM(GETPIVOTDATA(\"Suma de IS_1Esqz_ini\",TD!$A$230))","v":0},{"$f":"SUM(GETPIVOTDATA(\"Suma de IS_1Esqz_MIN\",TD!$A$230))","v":0},null,null,null,null,{"$f":"SUM(GETPIVOTDATA(\"Suma de IS_1Esqz_ini\",TD!$A$230))","v":0},{"$f":"SUM(GETPIVOTDATA(\"Suma de IS_1Esqz_min\",TD!$A$230))","v":0}]
[9,"Intervención de integración socio comunitaria",null,null,null,null,null,null,{"$f":"SUM(GETPIVOTDATA(\"Suma de IIS_Esqz_TE_ini\",TD!$A$230))","v":5},{"$f":"SUM(GETPIVOTDATA(\"Suma de IIS_Esqz_TE_min\",TD!$A$230))","v":2},{"$f":"SUM(GETPIVOTDATA(\"Suma de IIS_1Esqz_ini\",TD!$A$230))","v":0},{"$f":"SUM(GETPIVOTDATA(\"Suma de IIS_1Esqz_MIN\",TD!$A$230))","v":0},null,null,null,null,{"$f":"SUM(GETPIVOTDATA(\"Suma de IIS_1Esqz_ini\",TD!$A$230))","v":0},{"$f":"SUM(GETPIVOTDATA(\"Suma de IIS_1Esqz_min\",TD!$A$230))","v":0}]
[10,"Terapia de rehabilitación del deterioro cognitivo",null,null,null,null,null,null,null,null,null,null,{"$f":"SUM(GETPIVOTDATA(\"Suma de TRDC_DCog_ini\",TD!$A$230))","v":2},{"$f":"SUM(GETPIVOTDATA(\"Suma de TRDC_DCog_min\",TD!$A$230))","v":0}]
[11,"Terapia ocupacional",null,null,null,null,null,null,null,null,null,null,{"$f":"SUM(GETPIVOTDATA(\"Suma de TR_DCog_ini\",TD!$A$230))","v":4},{"$f":"SUM(GETPIVOTDATA(\"Suma de TR_DCog_min\",TD!$A$230))","v":2}]
[12,"Supervision médica del cuidado de un paciente en casa",null,null,null,null,null,null,null,null,null,null,null,null,{"$f":"SUM(GETPIVOTDATA(\"Suma de SMCP_Csdpd_ini\",TD!$A$230))","v":0},{"$f":"SUM(GETPIVOTDATA(\"Suma de SMCP_Csdpd_min\",TD!$A$230))","v":0}]
[13,"Intervenciones del gestor de caso",null,null,null,null,null,null,null,null,null,null,null,null,null,null,{"$f":"SUM(GETPIVOTDATA(\"Suma de IGC_tmg_ini\",TD!$A$230))","v":0},{"$f":"SUM(GETPIVOTDATA(\"Suma de IGC_tmg_min\",TD!$A$230))","v":0}]
[14,"Movilización de redes de soporte comunitario"]
[15,"N° Personas con paquete estandarizado",null,null,null,null,{"$f":"SUM(GETPIVOTDATA(\"Suma de PQE_Esqz_TNE_ini\",TD!$A$230))","v":53},{"$f":"SUM(GETPIVOTDATA(\"Suma de PQE_Esqz_TNE_min\",TD!$A$230))","v":0},{"$f":"SUM(GETPIVOTDATA(\"Suma de PQE_Esqz_TE_ini\",TD!$A$230))","v":143},{"$f":"SUM(GETPIVOTDATA(\"Suma de PQE_Esqz_TE_min\",TD!$A$230))","v":0},{"$f":"SUM(GETPIVOTDATA(\"Suma de PQE_1Esqz_ini\",TD!$A$230))","v":0},{"$f":"SUM(GETPIVOTDATA(\"Suma de PQE_1Esqz_min\",TD!$A$230))","v":0},{"$f":"SUM(GETPIVOTDATA(\"Suma de PQE_DCog_ini\",TD!$A$230))","v":172},{"$f":"SUM(GETPIVOTDATA(\"Suma de PQE_DCog_min\",TD!$A$230))","v":0},{"$f":"SUM(GETPIVOTDATA(\"Suma de PQE_Csdpd_ini\",TD!$A$230))","v":172},{"$f":"SUM(GETPIVOTDATA(\"Suma de PQE_Csdpd_min\",TD!$A$230))","v":0},{"$f":"SUM(GETPIVOTDATA(\"Suma de PQE_tmg_ini\",TD!$A$230))","v":12},{"$f":"SUM(GETPIVOTDATA(\"Suma de PQE_tmg_min\",TD!$A$230))","v":0}]

{"sheet":"PAQUETES_EDAD","index":6,"n_rows":38,"n_cols":34,"rows_kept":38,"cut":false,"hidden":false,"merged":[[34,1,34,9],[35,1,35,9],[36,1,36,9],[37,1,37,9],[21,1,22,6],[23,1,24,6],[25,1,26,6],[27,1,28,6],[32,1,33,6],[31,1,31,9],[32,7,32,9],[33,7,33,9],[21,7,21,9],[22,7,22,9],[23,7,23,9],[24,7,24,9],[14,26,14,27],[14,28,14,29],[14,30,14,31],[14,32,14,33],[14,14,14,15],[14,16,14,17],[14,18,14,19],[14,20,14,21],[14,22,14,23],[14,24,14,25],[14,10,14,11],[14,12,14,13],[13,1,15,6],[13,7,13,9],[14,7,14,9],[15,7,15,9],[12,1,12,33],[13,10,13,17],[13,18,13,21],[13,22,13,25],[13,26,13,29],[13,30,13,33],[27,7,27,9],[28,7,28,9],[29,1,29,9],[16,7,16,9],[17,7,17,9],[18,1,18,9],[19,7,19,9],[20,7,20,9],[16,1,17,6],[19,1,20,6],[30,1,30,9],[0,1,0,33],[1,1,1,33],[2,1,2,33],[3,1,3,33],[4,1,4,33],[6,28,6,32],[8,28,8,32],[6,5,6,9],[8,5,8,9],[10,5,10,9],[6,15,6,22],[8,15,8,22],[10,15,10,22],[25,7,25,9],[26,7,26,9]]}
[null,"GERENCIAL REGIONAL DE SALUD CUSCO"]
[null,"DIRECCION EJECUTIVA DE INTELIGENCIA SANITARIA"]
[null,"DIRECCION DE ESTADISTICA Y TELECOMUNICACIONES"]
[null,"SALUD MENTAL"]
[null,"CUMPLIMIENTO DE PAQUETES DE ATENCIÓN SEGÚN EDAD"]
[]
[null,null,"RED DE SALUD:",null,null,{"$error":"#REF!"},null,null,null,null,null,null,"PROVINCIA:",null,null,{"$f":"TD!F6","v":"(All)"},null,null,null,null,null,null,null,null,null,null,"AÑO:",null,{"$f":"TD!C10","v":"2024"}]
[]
[null,null,"MICRO RED:",null,null,{"$f":"TD!F4","v":"(All)"},null,null,null,null,null,null,"DISTRITO:",null,null,{"$f":"TD!F7","v":"(All)"},null,null,null,null,null,null,null,null,null,null,"MES:",null,{"$f":"TD!O17","v":"ENERO - NOVIEMBRE"}]
[]
[null,null,"ESTABLECIMIENTO:",null,null,{"$f":"TD!F5","v":"(All)"},null,null,null,null,null,null,"U.E.:",null,null,{"$f":"TD!F8","v":"(All)"}]
[]
[null,"CUMPLIMIENTO DE PAQUETE DE ATENCIÓN SEGÚN EDADES"]
[null,"ACTIVIDADES",null,null,null,null,null,"ETAPA DE VIDA",null,null,"NIÑO",null,null,null,null,null,null,null,"ADOLESCENTE",null,null,null,"JOVEN",null,null,null,"ADULTO",null,null,null,"ADULTO MAYOR"]
[null,null,null,null,null,null,null,"EDAD",null,null,"< 1-2",null,"3 - 5",null,"6-9",null,"10 - 11",null,"12 - 14",null,"15 - 17",null,"18 - 24",null,"25 - 29",null,"30 - 39",null,"40 - 59 ",null,"60 - 79",null,"80  +"]
[null,null,null,null,null,null,null,"SEXO",null,null,"M","F","M","F","M","F","M","F","M","F","M","F","M","F","M","F","M","F","M","F","M","F","M","F"]
[null,"Tratamiento en violencia familiar",null,null,null,null,null,"Tratamiento no especializado",null,null,{"$f":"SUM(GETPIVOTDATA(\"Suma de Atd_VIF_TNE_0_2F\",TD!$A$230))","v":0},{"$f":"SUM(GETPIVOTDATA(\"Suma de Atd_VIF_TNE_0_2M\",TD!$A$230))","v":0},{"$f":"SUM(GETPIVOTDATA(\"Suma de Atd_VIF_TNE_3_5F\",TD!$A$230))","v":0},{"$f":"SUM(GETPIVOTDATA(\"Suma de Atd_VIF_TNE_3_5M\",TD!$A$230))","v":0},{"$f":"SUM(GETPIVOTDATA(\"Suma de Atd_VIF_TNE_6_9F\",TD!$A$230))","v":0},{"$f":"SUM(GETPIVOTDATA(\"Suma de Atd_VIF_TNE_6_9M\",TD!$A$230))","v":0},{"$f":"SUM(GETPIVOTDATA(\"Suma de Atd_VIF_TNE_10_11F\",TD!$A$230))","v":0},{"$f":"SUM(GETPIVOTDATA(\"Suma de Atd_VIF_TNE_10_11M\",TD!$A$230))","v":0},{"$f":"SUM(GETPIVOTDATA(\"Suma de Atd_VIF_TNE_12_14F\",TD!$A$230))","v":0},{"$f":"SUM(GETPIVOTDATA(\"Suma de Atd_VIF_TNE_12_14M\",TD!$A$230))","v":0},{"$f":"SUM(GETPIVOTDATA(\"Suma de Atd_VIF_TNE_15_17F\",TD!$A$230))","v":0},{"$f":"SUM(GETPIVOTDATA(\"Suma de Atd_VIF_TNE_15_17M\",TD!$A$230))","v":0},{"$f":"SUM(GETPIVOTDATA(\"Suma de Atd_VIF_TNE_18_24F\",TD!$A$230))","v":0},{"$f":"SUM(GETPIVOTDATA(\"Suma de Atd_VIF_TNE_18_24M\",TD!$A$230))","v":0},{"$f":"SUM(GETPIVOTDATA(\"Suma de Atd_VIF_TNE_25_29F\",TD!$A$230))","v":0},{"$f":"SUM(GETPIVOTDATA(\"Suma de Atd_VIF_TNE_25_29M\",TD!$A$230))","v":0},{"$f":"SUM(GETPIVOTDATA(\"Suma de Atd_VIF_TNE_30_39F\",TD!$A$230))","v":0},{"$f":"SUM(GETPIVOTDATA(\"Suma de Atd_VIF_TNE_30_39M\",TD!$A$230))","v":0},{"$f":"SUM(GETPIVOTDATA(\"Suma de Atd_VIF_TNE_40_59F\",TD!$A$230))","v":0},{"$f":"SUM(GETPIVOTDATA(\"Suma de Atd_VIF_TNE_40_59M\",TD!$A$230))","v":0},{"$f":"SUM(GETPIVOTDATA(\"Suma de Atd_VIF_TNE_60_79F\",TD!$A$230))","v":0},{"$f":"SUM(GETPIVOTDATA(\"Suma de Atd_VIF_TNE_60_79M\",TD!$A$230))","v":0},{"$f":"SUM(GETPIVOTDATA(\"Suma de Atd_VIF_TNE_80F\",TD!$A$230))","v":0},{"$f":"SUM(GETPIVOTDATA(\"Suma de Atd_VIF_TNE_80M\",TD!$A$230))","v":0}]
[null,null,null,null,null,null,null,"Tratamiento especializado",null,null,{"$f":"SUM(GETPIVOTDATA(\"Suma de Atd_VIF_TE_0_2F\",TD!$A$230))","v":0},{"$f":"SUM(GETPIVOTDATA(\"Suma de Atd_VIF_TE_0_2M\",TD!$A$230))","v":0},{"$f":"SUM(GETPIVOTDATA(\"Suma de Atd_VIF_TE_3_5F\",TD!$A$230))","v":0},{"$f":"SUM(GETPIVOTDATA(\"Suma de Atd_VIF_TE_3_5M\",TD!$A$230))","v":0},{"$f":"SUM(GETPIVOTDATA(\"Suma de Atd_VIF_TE_6_9F\",TD!$A$230))","v":0},{"$f":"SUM(GETPIVOTDATA(\"Suma de Atd_VIF_TE_6_9M\",TD!$A$230))","v":0},{"$f":"SUM(GETPIVOTDATA(\"Suma de Atd_VIF_TE_10_11F\",TD!$A$230))","v":0},{"$f":"SUM(GETPIVOTDATA(\"Suma de Atd_VIF_TE_10_11M\",TD!$A$230))","v":0},{"$f":"SUM(GETPIVOTDATA(\"Suma de Atd_VIF_TE_12_14F\",TD!$A$230))","v":0},{"$f":"SUM(GETPIVOTDATA(\"Suma de Atd_VIF_TE_12_14M\",TD!$A$230))","v":0},{"$f":"SUM(GETPIVOTDATA(\"Suma de Atd_VIF_TE_15_17F\",TD!$A$230))","v":0},{"$f":"SUM(GETPIVOTDATA(\"Suma de Atd_VIF_TE_15_17M\",TD!$A$230))","v":0},{"$f":"SUM(GETPIVOTDATA(\"Suma de Atd_VIF_TE_18_24F\",TD!$A$230))","v":0},{"$f":"SUM(GETPIVOTDATA(\"Suma de Atd_VIF_TE_18_24M\",TD!$A$230))","v":0},{"$f":"SUM(GETPIVOTDATA(\"Suma de Atd_VIF_TE_25_29F\",TD!$A$230))","v":0},{"$f":"SUM(GETPIVOTDATA(\"Suma de Atd_VIF_TE_25_29M\",TD!$A$230))","v":0},{"$f":"SUM(GETPIVOTDATA(\"Suma de Atd_VIF_TE_30_39F\",TD!$A$230))","v":0},{"$f":"SUM(GETPIVOTDATA(\"Suma de Atd_VIF_TE_30_39M\",TD!$A$230))","v":0},{"$f":"SUM(GETPIVOTDATA(\"Suma de Atd_VIF_TE_40_59F\",TD!$A$230))","v":0},{"$f":"SUM(GETPIVOTDATA(\"Suma de Atd_VIF_TE_40_59M\",TD!$A$230))","v":0},{"$f":"SUM(GETPIVOTDATA(\"Suma de Atd_VIF_TE_60_79F\",TD!$A$230))","v":0},{"$f":"SUM(GETPIVOTDATA(\"Suma de Atd_VIF_TE_60_79M\",TD!$A$230))","v":0},{"$f":"SUM(GETPIVOTDATA(\"Suma de Atd_VIF_TE_80F\",TD!$A$230))","v":0},{"$f":"SUM(GETPIVOTDATA(\"Suma de Atd_VIF_TE_80M\",TD!$A$230))","v":0}]
[null,"Tratamiento especializado de personas afectadas por violencia sexual ",null,null,null,null,null,null,null,null,{"$f":"SUM(GETPIVOTDATA(\"Suma de Atd_AbusoS_TE_0_2F\",TD!$A$254))","v":0},{"$f":"SUM(GETPIVOTDATA(\"Suma de Atd_AbusoS_TE_0_2M\",TD!$A$254))","v":0},{"$f":"SUM(GETPIVOTDATA(\"Suma de Atd_AbusoS_TE_3_5F\",TD!$A$254))","v":0},{"$f":"SUM(GETPIVOTDATA(\"Suma de Atd_AbusoS_TE_3_5M\",TD!$A$254))","v":0},{"$f":"SUM(GETPIVOTDATA(\"Suma de Atd_AbusoS_TE_6_9F\",TD!$A$254))","v":0},{"$f":"SUM(GETPIVOTDATA(\"Suma de Atd_AbusoS_TE_6_9M\",TD!$A$254))","v":0},{"$f":"SUM(GETPIVOTDATA(\"Suma de Atd_AbusoS_TE_10_11F\",TD!$A$254))","v":0},{"$f":"SUM(GETPIVOTDATA(\"Suma de Atd_AbusoS_TE_10_11M\",TD!$A$254))","v":0},{"$f":"SUM(GETPIVOTDATA(\"Suma de Atd_AbusoS_TE_12_14F\",TD!$A$254))","v":0},{"$f":"SUM(GETPIVOTDATA(\"Suma de Atd_AbusoS_TE_12_14M\",TD!$A$254))","v":0},{"$f":"SUM(GETPIVOTDATA(\"Suma de Atd_AbusoS_TE_15_17F\",TD!$A$254))","v":0},{"$f":"SUM(GETPIVOTDATA(\"Suma de Atd_AbusoS_TE_15_17M\",TD!$A$254))","v":0},{"$f":"SUM(GETPIVOTDATA(\"Suma de Atd_AbusoS_TE_18_24F\",TD!$A$254))","v":0},{"$f":"SUM(GETPIVOTDATA(\"Suma de Atd_AbusoS_TE_18_24M\",TD!$A$254))","v":0},{"$f":"SUM(GETPIVOTDATA(\"Suma de Atd_AbusoS_TE_25_29F\",TD!$A$254))","v":0},{"$f":"SUM(GETPIVOTDATA(\"Suma de Atd_AbusoS_TE_25_29M\",TD!$A$254))","v":0},{"$f":"SUM(GETPIVOTDATA(\"Suma de Atd_AbusoS_TE_30_39F\",TD!$A$254))","v":0},{"$f":"SUM(GETPIVOTDATA(\"Suma de Atd_AbusoS_TE_30_39M\",TD!$A$254))","v":0},{"$f":"SUM(GETPIVOTDATA(\"Suma de Atd_AbusoS_TE_40_59F\",TD!$A$254))","v":0},{"$f":"SUM(GETPIVOTDATA(\"Suma de Atd_AbusoS_TE_40_59M\",TD!$A$254))","v":0},{"$f":"SUM(GETPIVOTDATA(\"Suma de Atd_AbusoS_TE_60_79F\",TD!$A$254))","v":0},{"$f":"SUM(GETPIVOTDATA(\"Suma de Atd_AbusoS_TE_60_79M\",TD!$A$254))","v":0},{"$f":"SUM(GETPIVOTDATA(\"Suma de Atd_AbusoS_TE_80F\",TD!$A$254))","v":0},{"$f":"SUM(GETPIVOTDATA(\"Suma de Atd_AbusoS_TE_80M\",TD!$A$254))","v":0}]
[null,"Tratamiento ambulatorio de niños y niñas de 0 a 17 años con trastornos del espectro autista ",null,null,null,null,null,"Tratamiento no especializado",null,null,{"$f":"SUM(GETPIVOTDATA(\"Suma de Atd_EAutista_TNE_0_2F\",TD!$A$254))","v":0},{"$f":"SUM(GETPIVOTDATA(\"Suma de Atd_EAutista_TNE_0_2M\",TD!$A$254))","v":0},{"$f":"SUM(GETPIVOTDATA(\"Suma de Atd_EAutista_TNE_3_5F\",TD!$A$254))","v":0},{"$f":"SUM(GETPIVOTDATA(\"Suma de Atd_EAutista_TNE_3_5M\",TD!$A$254))","v":0},{"$f":"SUM(GETPIVOTDATA(\"Suma de Atd_EAutista_TNE_6_9F\",TD!$A$254))","v":0},{"$f":"SUM(GETPIVOTDATA(\"Suma de Atd_EAutista_TNE_6_9M\",TD!$A$254))","v":0},{"$f":"SUM(GETPIVOTDATA(\"Suma de Atd_EAutista_TNE_10_11F\",TD!$A$254))","v":0},{"$f":"SUM(GETPIVOTDATA(\"Suma de Atd_EAutista_TNE_10_11M\",TD!$A$254))","v":0},{"$f":"SUM(GETPIVOTDATA(\"Suma de Atd_EAutista_TNE_12_14F\",TD!$A$254))","v":0},{"$f":"SUM(GETPIVOTDATA(\"Suma de Atd_EAutista_TNE_12_14M\",TD!$A$254))","v":0},{"$f":"SUM(GETPIVOTDATA(\"Suma de Atd_EAutista_TNE_15_17F\",TD!$A$254))","v":0},{"$f":"SUM(GETPIVOTDATA(\"Suma de Atd_EAutista_TNE_15_17M\",TD!$A$254))","v":0},{"$f":"SUM(GETPIVOTDATA(\"Suma de Atd_EAutista_TNE_18_24F\",TD!$A$254))","v":0},{"$f":"SUM(GETPIVOTDATA(\"Suma de Atd_EAutista_TNE_18_24M\",TD!$A$254))","v":0},{"$f":"SUM(GETPIVOTDATA(\"Suma de Atd_EAutista_TNE_25_29F\",TD!$A$254))","v":0},{"$f":"SUM(GETPIVOTDATA(\"Suma de Atd_EAutista_TNE_25_29M\",TD!$A$254))","v":0},{"$f":"SUM(GETPIVOTDATA(\"Suma de Atd_EAutista_TNE_30_39F\",TD!$A$254))","v":0},{"$f":"SUM(GETPIVOTDATA(\"Suma de Atd_EAutista_TNE_30_39M\",TD!$A$254))","v":0},{"$f":"SUM(GETPIVOTDATA(\"Suma de Atd_EAutista_TNE_40_59F\",TD!$A$254))","v":0},{"$f":"SUM(GETPIVOTDATA(\"Suma de Atd_EAutista_TNE_40_59M\",TD!$A$254))","v":0},{"$f":"SUM(GETPIVOTDATA(\"Suma de Atd_EAutista_TNE_60_79F\",TD!$A$254))","v":0},{"$f":"SUM(GETPIVOTDATA(\"Suma de Atd_EAutista_TNE_60_79M\",TD!$A$254))","v":0},{"$f":"SUM(GETPIVOTDATA(\"Suma de Atd_EAutista_TNE_80F\",TD!$A$254))","v":0},{"$f":"SUM(GETPIVOTDATA(\"Suma de Atd_EAutista_TNE_80M\",TD!$A$254))","v":0}]
[null,null,null,null,null,null,null,"Tratamiento especializado",null,null,{"$f":"SUM(GETPIVOTDATA(\"Suma de Atd_EAutista_TE_0_2F\",TD!$A$254))","v":0},{"$f":"SUM(GETPIVOTDATA(\"Suma de Atd_EAutista_TE_0_2M\",TD!$A$254))","v":0},{"$f":"SUM(GETPIVOTDATA(\"Suma de Atd_EAutista_TE_3_5F\",TD!$A$254))","v":0},{"$f":"SUM(GETPIVOTDATA(\"Suma de Atd_EAutista_TE_3_5M\",TD!$A$254))","v":0},{"$f":"SUM(GETPIVOTDATA(\"Suma de Atd_EAutista_TE_6_9F\",TD!$A$254))","v":0},{"$f":"SUM(GETPIVOTDATA(\"Suma de Atd_EAutista_TE_6_9M\",TD!$A$254))","v":0},{"$f":"SUM(GETPIVOTDATA(\"Suma de Atd_EAutista_TE_10_11F\",TD!$A$254))","v":0},{"$f":"SUM(GETPIVOTDATA(\"Suma de Atd_EAutista_TE_10_11M\",TD!$A$254))","v":0},{"$f":"SUM(GETPIVOTDATA(\"Suma de Atd_EAutista_TE_12_14F\",TD!$A$254))","v":0},{"$f":"SUM(GETPIVOTDATA(\"Suma de Atd_EAutista_TE_12_14M\",TD!$A$254))","v":0},{"$f":"SUM(GETPIVOTDATA(\"Suma de Atd_EAutista_TE_15_17F\",TD!$A$254))","v":0},{"$f":"SUM(GETPIVOTDATA(\"Suma de Atd_EAutista_TE_15_17M\",TD!$A$254))","v":0},{"$f":"SUM(GETPIVOTDATA(\"Suma de Atd_EAutista_TE_18_24F\",TD!$A$254))","v":0},{"$f":"SUM(GETPIVOTDATA(\"Suma de Atd_EAutista_TE_18_24M\",TD!$A$254))","v":0},{"$f":"SUM(GETPIVOTDATA(\"Suma de Atd_EAutista_TE_25_29F\",TD!$A$254))","v":0},{"$f":"SUM(GETPIVOTDATA(\"Suma de Atd_EAutista_TE_25_29M\",TD!$A$254))","v":0},{"$f":"SUM(GETPIVOTDATA(\"Suma de Atd_EAutista_TE_30_39F\",TD!$A$254))","v":0},{"$f":"SUM(GETPIVOTDATA(\"Suma de Atd_EAutista_TE_30_39M\",TD!$A$254))","v":0},{"$f":"SUM(GETPIVOTDATA(\"Suma de Atd_EAutista_TE_40_59F\",TD!$A$254))","v":0},{"$f":"SUM(GETPIVOTDATA(\"Suma de Atd_EAutista_TE_40_59M\",TD!$A$254))","v":0},{"$f":"SUM(GETPIVOTDATA(\"Suma de Atd_EAutista_TE_60_79F\",TD!$A$254))","v":0},{"$f":"SUM(GETPIVOTDATA(\"Suma de Atd_EAutista_TE_60_79M\",TD!$A$254))","v":0},{"$f":"SUM(GETPIVOTDATA(\"Suma de Atd_EAutista_TE_80F\",TD!$A$254))","v":0},{"$f":"SUM(GETPIVOTDATA(\"Suma de Atd_EAutista_TE_80M\",TD!$A$254))","v":0}]
[null,"Tratamiento ambulatorio de niñas, niños y adolescentes de 0 de 17 por trastornos mentales y del comportamiento",null,null,null,null,null,"Tratamiento no especializado",null,null,{"$f":"SUM(GETPIVOTDATA(\"Suma de Atd_TmentalC_TNE_0_2F\",TD!$A$254))","v":0},{"$f":"SUM(GETPIVOTDATA(\"Suma de Atd_TmentalC_TNE_0_2M\",TD!$A$254))","v":0},{"$f":"SUM(GETPIVOTDATA(\"Suma de Atd_TmentalC_TNE_3_5F\",TD!$A$254))","v":0},{"$f":"SUM(GETPIVOTDATA(\"Suma de Atd_TmentalC_TNE_3_5M\",TD!$A$254))","v":0},{"$f":"SUM(GETPIVOTDATA(\"Suma de Atd_TmentalC_TNE_6_9F\",TD!$A$254))","v":0},{"$f":"SUM(GETPIVOTDATA(\"Suma de Atd_TmentalC_TNE_6_9M\",TD!$A$254))","v":0},{"$f":"SUM(GETPIVOTDATA(\"Suma de Atd_TmentalC_TNE_10_11F\",TD!$A$254))","v":0},{"$f":"SUM(GETPIVOTDATA(\"Suma de Atd_TmentalC_TNE_10_11M\",TD!$A$254))","v":0},{"$f":"SUM(GETPIVOTDATA(\"Suma de Atd_TmentalC_TNE_12_14F\",TD!$A$254))","v":0},{"$f":"SUM(GETPIVOTDATA(\"Suma de Atd_TmentalC_TNE_12_14M\",TD!$A$254))","v":0},{"$f":"SUM(GETPIVOTDATA(\"Suma de Atd_TmentalC_TNE_15_17F\",TD!$A$254))","v":0},{"$f":"SUM(GETPIVOTDATA(\"Suma de Atd_TmentalC_TNE_15_17M\",TD!$A$254))","v":0},{"$f":"SUM(GETPIVOTDATA(\"Suma de Atd_TmentalC_TNE_18_24F\",TD!$A$254))","v":0},{"$f":"SUM(GETPIVOTDATA(\"Suma de Atd_TmentalC_TNE_18_24M\",TD!$A$254))","v":0},{"$f":"SUM(GETPIVOTDATA(\"Suma de Atd_TmentalC_TNE_25_29F\",TD!$A$254))","v":0},{"$f":"SUM(GETPIVOTDATA(\"Suma de Atd_TmentalC_TNE_25_29M\",TD!$A$254))","v":0},{"$f":"SUM(GETPIVOTDATA(\"Suma de Atd_TmentalC_TNE_30_39F\",TD!$A$254))","v":0},{"$f":"SUM(GETPIVOTDATA(\"Suma de Atd_TmentalC_TNE_30_39M\",TD!$A$254))","v":0},{"$f":"SUM(GETPIVOTDATA(\"Suma de Atd_TmentalC_TNE_40_59F\",TD!$A$254))","v":0},{"$f":"SUM(GETPIVOTDATA(\"Suma de Atd_TmentalC_TNE_40_59M\",TD!$A$254))","v":0},{"$f":"SUM(GETPIVOTDATA(\"Suma de Atd_TmentalC_TNE_60_79F\",TD!$A$254))","v":0},{"$f":"SUM(GETPIVOTDATA(\"Suma de Atd_TmentalC_TNE_60_79M\",TD!$A$254))","v":0},{"$f":"SUM(GETPIVOTDATA(\"Suma de Atd_TmentalC_TNE_80F\",TD!$A$254))","v":0},{"$f":"SUM(GETPIVOTDATA(\"Suma de Atd_TmentalC_TNE_80M\",TD!$A$254))","v":0}]
[null,null,null,null,null,null,null,"Tratamiento especializado",null,null,{"$f":"SUM(GETPIVOTDATA(\"Suma de Atd_TmentalC_TE_0_2F\",TD!$A$254))","v":0},{"$f":"SUM(GETPIVOTDATA(\"Suma de Atd_TmentalC_TE_0_2M\",TD!$A$254))","v":0},{"$f":"SUM(GETPIVOTDATA(\"Suma de Atd_TmentalC_TE_3_5F\",TD!$A$254))","v":0},{"$f":"SUM(GETPIVOTDATA(\"Suma de Atd_TmentalC_TE_3_5M\",TD!$A$254))","v":0},{"$f":"SUM(GETPIVOTDATA(\"Suma de Atd_TmentalC_TE_6_9F\",TD!$A$254))","v":0},{"$f":"SUM(GETPIVOTDATA(\"Suma de Atd_TmentalC_TE_6_9M\",TD!$A$254))","v":0},{"$f":"SUM(GETPIVOTDATA(\"Suma de Atd_TmentalC_TE_10_11F\",TD!$A$254))","v":0},{"$f":"SUM(GETPIVOTDATA(\"Suma de Atd_TmentalC_TE_10_11M\",TD!$A$254))","v":0},{"$f":"SUM(GETPIVOTDATA(\"Suma de Atd_TmentalC_TE_12_14F\",TD!$A$254))","v":0},{"$f":"SUM(GETPIVOTDATA(\"Suma de Atd_TmentalC_TE_12_14M\",TD!$A$254))","v":0},{"$f":"SUM(GETPIVOTDATA(\"Suma de Atd_TmentalC_TE_15_17F\",TD!$A$254))","v":0},{"$f":"SUM(GETPIVOTDATA(\"Suma de Atd_TmentalC_TE_15_17M\",TD!$A$254))","v":0},{"$f":"SUM(GETPIVOTDATA(\"Suma de Atd_TmentalC_TE_18_24F\",TD!$A$254))","v":0},{"$f":"SUM(GETPIVOTDATA(\"Suma de Atd_TmentalC_TE_18_24M\",TD!$A$254))","v":0},{"$f":"SUM(GETPIVOTDATA(\"Suma de Atd_TmentalC_TE_25_29F\",TD!$A$254))","v":0},{"$f":"SUM(GETPIVOTDATA(\"Suma de Atd_TmentalC_TE_25_29M\",TD!$A$254))","v":0},{"$f":"SUM(GETPIVOTDATA(\"Suma de Atd_TmentalC_TE_30_39F\",TD!$A$254))","v":0},{"$f":"SUM(GETPIVOTDATA(\"Suma de Atd_TmentalC_TE_30_39M\",TD!$A$254))","v":0},{"$f":"SUM(GETPIVOTDATA(\"Suma de Atd_TmentalC_TE_40_59F\",TD!$A$254))","v":0},{"$f":"SUM(GETPIVOTDATA(\"Suma de Atd_TmentalC_TE_40_59M\",TD!$A$254))","v":0},{"$f":"SUM(GETPIVOTDATA(\"Suma de Atd_TmentalC_TE_60_79F\",TD!$A$254))","v":0},{"$f":"SUM(GETPIVOTDATA(\"Suma de Atd_TmentalC_TE_60_79M\",TD!$A$254))","v":0},{"$f":"SUM(GETPIVOTDATA(\"Suma de Atd_TmentalC_TE_80F\",TD!$A$254))","v":0},{"$f":"SUM(GETPIVOTDATA(\"Suma de Atd_TmentalC_TE_80M\",TD!$A$254))","v":0}]
[null,"Tratamiento ambulatorio de personas con depresión",null,null,null,null,null,"Tratamiento no especializado",null,null,{"$f":"SUM(GETPIVOTDATA(\"Suma de Atd_TD_TNE_0_2F\",TD!$A$254))","v":0},{"$f":"SUM(GETPIVOTDATA(\"Suma de Atd_TD_TNE_0_2M\",TD!$A$254))","v":0},{"$f":"SUM(GETPIVOTDATA(\"Suma de Atd_TD_TNE_3_5F\",TD!$A$254))","v":0},{"$f":"SUM(GETPIVOTDATA(\"Suma de Atd_TD_TNE_3_5M\",TD!$A$254))","v":0},{"$f":"SUM(GETPIVOTDATA(\"Suma de Atd_TD_TNE_6_9F\",TD!$A$254))","v":0},{"$f":"SUM(GETPIVOTDATA(\"Suma de Atd_TD_TNE_6_9M\",TD!$A$254))","v":0},{"$f":"SUM(GETPIVOTDATA(\"Suma de Atd_TD_TNE_10_11F\",TD!$A$254))","v":0},{"$f":"SUM(GETPIVOTDATA(\"Suma de Atd_TD_TNE_10_11M\",TD!$A$254))","v":0},{"$f":"SUM(GETPIVOTDATA(\"Suma de Atd_TD_TNE_12_14F\",TD!$A$254))","v":0},{"$f":"SUM(GETPIVOTDATA(\"Suma de Atd_TD_TNE_12_14M\",TD!$A$254))","v":0},{"$f":"SUM(GETPIVOTDATA(\"Suma de Atd_TD_TNE_15_17F\",TD!$A$254))","v":0},{"$f":"SUM(GETPIVOTDATA(\"Suma de Atd_TD_TNE_15_17M\",TD!$A$254))","v":0},{"$f":"SUM(GETPIVOTDATA(\"Suma de Atd_TD_TNE_18_24F\",TD!$A$254))","v":0},{"$f":"SUM(GETPIVOTDATA(\"Suma de Atd_TD_TNE_18_24M\",TD!$A$254))","v":0},{"$f":"SUM(GETPIVOTDATA(\"Suma de Atd_TD_TNE_25_29F\",TD!$A$254))","v":0},{"$f":"SUM(GETPIVOTDATA(\"Suma de Atd_TD_TNE_25_29M\",TD!$A$254))","v":0},{"$f":"SUM(GETPIVOTDATA(\"Suma de Atd_TD_TNE_30_39F\",TD!$A$254))","v":0},{"$f":"SUM(GETPIVOTDATA(\"Suma de Atd_TD_TNE_30_39M\",TD!$A$254))","v":0},{"$f":"SUM(GETPIVOTDATA(\"Suma de Atd_TD_TNE_40_59F\",TD!$A$254))","v":0},{"$f":"SUM(GETPIVOTDATA(\"Suma de Atd_TD_TNE_40_59M\",TD!$A$254))","v":0},{"$f":"SUM(GETPIVOTDATA(\"Suma de Atd_TD_TNE_60_79F\",TD!$A$254))","v":0},{"$f":"SUM(GETPIVOTDATA(\"Suma de Atd_TD_TNE_60_79M\",TD!$A$254))","v":0},{"$f":"SUM(GETPIVOTDATA(\"Suma de Atd_TD_TNE_80F\",TD!$A$254))","v":0},{"$f":"SUM(GETPIVOTDATA(\"Suma de Atd_TD_TNE_80M\",TD!$A$254))","v":0}]
[null,null,null,null,null,null,null,"Tratamiento especializado",null,null,{"$f":"SUM(GETPIVOTDATA(\"Suma de Atd_TD_TE_0_2F\",TD!$A$254))","v":0},{"$f":"SUM(GETPIVOTDATA(\"Suma de Atd_TD_TE_0_2M\",TD!$A$254))","v":0},{"$f":"SUM(GETPIVOTDATA(\"Suma de Atd_TD_TE_3_5F\",TD!$A$254))","v":0},{"$f":"SUM(GETPIVOTDATA(\"Suma de Atd_TD_TE_3_5M\",TD!$A$254))","v":0},{"$f":"SUM(GETPIVOTDATA(\"Suma de Atd_TD_TE_6_9F\",TD!$A$254))","v":0},{"$f":"SUM(GETPIVOTDATA(\"Suma de Atd_TD_TE_6_9M\",TD!$A$254))","v":0},{"$f":"SUM(GETPIVOTDATA(\"Suma de Atd_TD_TE_10_11F\",TD!$A$254))","v":0},{"$f":"SUM(GETPIVOTDATA(\"Suma de Atd_TD_TE_10_11M\",TD!$A$254))","v":0},{"$f":"SUM(GETPIVOTDATA(\"Suma de Atd_TD_TE_12_14F\",TD!$A$254))","v":0},{"$f":"SUM(GETPIVOTDATA(\"Suma de Atd_TD_TE_12_14M\",TD!$A$254))","v":0},{"$f":"SUM(GETPIVOTDATA(\"Suma de Atd_TD_TE_15_17F\",TD!$A$254))","v":0},{"$f":"SUM(GETPIVOTDATA(\"Suma de Atd_TD_TE_15_17M\",TD!$A$254))","v":0},{"$f":"SUM(GETPIVOTDATA(\"Suma de Atd_TD_TE_18_24F\",TD!$A$254))","v":0},{"$f":"SUM(GETPIVOTDATA(\"Suma de Atd_TD_TE_18_24M\",TD!$A$254))","v":0},{"$f":"SUM(GETPIVOTDATA(\"Suma de Atd_TD_TE_25_29F\",TD!$A$254))","v":0},{"$f":"SUM(GETPIVOTDATA(\"Suma de Atd_TD_TE_25_29M\",TD!$A$254))","v":0},{"$f":"SUM(GETPIVOTDATA(\"Suma de Atd_TD_TE_30_39F\",TD!$A$254))","v":0},{"$f":"SUM(GETPIVOTDATA(\"Suma de Atd_TD_TE_30_39M\",TD!$A$254))","v":0},{"$f":"SUM(GETPIVOTDATA(\"Suma de Atd_TD_TE_40_59F\",TD!$A$254))","v":0},{"$f":"SUM(GETPIVOTDATA(\"Suma de Atd_TD_TE_40_59M\",TD!$A$254))","v":0},{"$f":"SUM(GETPIVOTDATA(\"Suma de Atd_TD_TE_60_79F\",TD!$A$254))","v":0},{"$f":"SUM(GETPIVOTDATA(\"Suma de Atd_TD_TE_60_79M\",TD!$A$254))","v":0},{"$f":"SUM(GETPIVOTDATA(\"Suma de Atd_TD_TE_80F\",TD!$A$254))","v":0},{"$f":"SUM(GETPIVOTDATA(\"Suma de Atd_TD_TE_80M\",TD!$A$254))","v":0}]
[null,"Tratamiento ambulatorio de personas con conducta suicida",null,null,null,null,null,"Tratamiento no especializado",null,null,null,null,{"$f":"SUM(GETPIVOTDATA(\"Suma de Atd_Csuicida_TNE_3_5F\",TD!$A$254))","v":0},{"$f":"SUM(GETPIVOTDATA(\"Suma de Atd_Csuicida_TNE_3_5M\",TD!$A$254))","v":0},{"$f":"SUM(GETPIVOTDATA(\"Suma de Atd_Csuicida_TNE_6_9F\",TD!$A$254))","v":0},{"$f":"SUM(GETPIVOTDATA(\"Suma de Atd_Csuicida_TNE_6_9M\",TD!$A$254))","v":0},{"$f":"SUM(GETPIVOTDATA(\"Suma de Atd_Csuicida_TNE_10_11F\",TD!$A$254))","v":0},{"$f":"SUM(GETPIVOTDATA(\"Suma de Atd_Csuicida_TNE_10_11M\",TD!$A$254))","v":0},{"$f":"SUM(GETPIVOTDATA(\"Suma de Atd_Csuicida_TNE_12_14F\",TD!$A$254))","v":0},{"$f":"SUM(GETPIVOTDATA(\"Suma de Atd_Csuicida_TNE_12_14M\",TD!$A$254))","v":0},{"$f":"SUM(GETPIVOTDATA(\"Suma de Atd_Csuicida_TNE_15_17F\",TD!$A$254))","v":0},{"$f":"SUM(GETPIVOTDATA(\"Suma de Atd_Csuicida_TNE_15_17M\",TD!$A$254))","v":0},{"$f":"SUM(GETPIVOTDATA(\"Suma de Atd_Csuicida_TNE_18_24F\",TD!$A$254))","v":0},{"$f":"SUM(GETPIVOTDATA(\"Suma de Atd_Csuicida_TNE_18_24M\",TD!$A$254))","v":0},{"$f":"SUM(GETPIVOTDATA(\"Suma de Atd_Csuicida_TNE_25_29F\",TD!$A$254))","v":0},{"$f":"SUM(GETPIVOTDATA(\"Suma de Atd_Csuicida_TNE_25_29M\",TD!$A$254))","v":0},{"$f":"SUM(GETPIVOTDATA(\"Suma de Atd_Csuicida_TNE_30_39F\",TD!$A$254))","v":0},{"$f":"SUM(GETPIVOTDATA(\"Suma de Atd_Csuicida_TNE_30_39M\",TD!$A$254))","v":0},{"$f":"SUM(GETPIVOTDATA(\"Suma de Atd_Csuicida_TNE_40_59F\",TD!$A$254))","v":0},{"$f":"SUM(GETPIVOTDATA(\"Suma de Atd_Csuicida_TNE_40_59M\",TD!$A$254))","v":0},{"$f":"SUM(GETPIVOTDATA(\"Suma de Atd_Csuicida_TNE_60_79F\",TD!$A$254))","v":0},{"$f":"SUM(GETPIVOTDATA(\"Suma de Atd_Csuicida_TNE_60_79M\",TD!$A$254))","v":0},{"$f":"SUM(GETPIVOTDATA(\"Suma de Atd_Csuicida_TNE_80F\",TD!$A$254))","v":0},{"$f":"SUM(GETPIVOTDATA(\"Suma de Atd_Csuicida_TNE_80M\",TD!$A$254))","v":0}]
[null,null,null,null,null,null,null,"Tratamiento especializado",null,null,null,null,{"$f":"SUM(GETPIVOTDATA(\"Suma de Atd_Csuicida_TE_3_5F\",TD!$A$254))","v":0},{"$f":"SUM(GETPIVOTDATA(\"Suma de Atd_Csuicida_TE_3_5M\",TD!$A$254))","v":0},{"$f":"SUM(GETPIVOTDATA(\"Suma de Atd_Csuicida_TE_6_9F\",TD!$A$254))","v":0},{"$f":"SUM(GETPIVOTDATA(\"Suma de Atd_Csuicida_TE_6_9M\",TD!$A$254))","v":0},{"$f":"SUM(GETPIVOTDATA(\"Suma de Atd_Csuicida_TE_10_11F\",TD!$A$254))","v":0},{"$f":"SUM(GETPIVOTDATA(\"Suma de Atd_Csuicida_TE_10_11M\",TD!$A$254))","v":0},{"$f":"SUM(GETPIVOTDATA(\"Suma de Atd_Csuicida_TE_12_14F\",TD!$A$254))","v":0},{"$f":"SUM(GETPIVOTDATA(\"Suma de Atd_Csuicida_TE_12_14M\",TD!$A$254))","v":0},{"$f":"SUM(GETPIVOTDATA(\"Suma de Atd_Csuicida_TE_15_17F\",TD!$A$254))","v":0},{"$f":"SUM(GETPIVOTDATA(\"Suma de Atd_Csuicida_TE_15_17M\",TD!$A$254))","v":0},{"$f":"SUM(GETPIVOTDATA(\"Suma de Atd_Csuicida_TE_18_24F\",TD!$A$254))","v":0},{"$f":"SUM(GETPIVOTDATA(\"Suma de Atd_Csuicida_TE_18_24M\",TD!$A$254))","v":0},{"$f":"SUM(GETPIVOTDATA(\"Suma de Atd_Csuicida_TE_25_29F\",TD!$A$254))","v":0},{"$f":"SUM(GETPIVOTDATA(\"Suma de Atd_Csuicida_TE_25_29M\",TD!$A$254))","v":0},{"$f":"SUM(GETPIVOTDATA(\"Suma de Atd_Csuicida_TE_30_39F\",TD!$A$254))","v":0},{"$f":"SUM(GETPIVOTDATA(\"Suma de Atd_Csuicida_TE_30_39M\",TD!$A$254))","v":0},{"$f":"SUM(GETPIVOTDATA(\"Suma de Atd_Csuicida_TE_40_59F\",TD!$A$254))","v":0},{"$f":"SUM(GETPIVOTDATA(\"Suma de Atd_Csuicida_TE_40_59M\",TD!$A$254))","v":0},{"$f":"SUM(GETPIVOTDATA(\"Suma de Atd_Csuicida_TE_60_79F\",TD!$A$254))","v":0},{"$f":"SUM(GETPIVOTDATA(\"Suma de Atd_Csuicida_TE_60_79M\",TD!$A$254))","v":0},{"$f":"SUM(GETPIVOTDATA(\"Suma de Atd_Csuicida_TE_80F\",TD!$A$254))","v":0},{"$f":"SUM(GETPIVOTDATA(\"Suma de Atd_Csuicida_TE_80M\",TD!$A$254))","v":0}]
[null,"Tratamiento ambulatorio de personas con ansiedad",null,null,null,null,null,"Tratamiento no especializado",null,null,{"$f":"SUM(GETPIVOTDATA(\"Suma de Atd_TAN_TNE_0_2F\",TD!$A$254))","v":0},{"$f":"SUM(GETPIVOTDATA(\"Suma de Atd_TAN_TNE_0_2M\",TD!$A$254))","v":0},{"$f":"SUM(GETPIVOTDATA(\"Suma de Atd_TAN_TNE_3_5F\",TD!$A$254))","v":0},{"$f":"SUM(GETPIVOTDATA(\"Suma de Atd_TAN_TNE_3_5M\",TD!$A$254))","v":0},{"$f":"SUM(GETPIVOTDATA(\"Suma de Atd_TAN_TNE_6_9F\",TD!$A$254))","v":0},{"$f":"SUM(GETPIVOTDATA(\"Suma de Atd_TAN_TNE_6_9M\",TD!$A$254))","v":0},{"$f":"SUM(GETPIVOTDATA(\"Suma de Atd_TAN_TNE_10_11F\",TD!$A$254))","v":0},{"$f":"SUM(GETPIVOTDATA(\"Suma de Atd_TAN_TNE_10_11M\",TD!$A$254))","v":0},{"$f":"SUM(GETPIVOTDATA(\"Suma de Atd_TAN_TNE_12_14F\",TD!$A$254))","v":0},{"$f":"SUM(GETPIVOTDATA(\"Suma de Atd_TAN_TNE_12_14M\",TD!$A$254))","v":0},{"$f":"SUM(GETPIVOTDATA(\"Suma de Atd_TAN_TNE_15_17F\",TD!$A$254))","v":0},{"$f":"SUM(GETPIVOTDATA(\"Suma de Atd_TAN_TNE_15_17M\",TD!$A$254))","v":0},{"$f":"SUM(GETPIVOTDATA(\"Suma de Atd_TAN_TNE_18_24F\",TD!$A$254))","v":0},{"$f":"SUM(GETPIVOTDATA(\"Suma de Atd_TAN_TNE_18_24M\",TD!$A$254))","v":0},{"$f":"SUM(GETPIVOTDATA(\"Suma de Atd_TAN_TNE_25_29F\",TD!$A$254))","v":0},{"$f":"SUM(GETPIVOTDATA(\"Suma de Atd_TAN_TNE_25_29M\",TD!$A$254))","v":0},{"$f":"SUM(GETPIVOTDATA(\"Suma de Atd_TAN_TNE_30_39F\",TD!$A$254))","v":0},{"$f":"SUM(GETPIVOTDATA(\"Suma de Atd_TAN_TNE_30_39M\",TD!$A$254))","v":0},{"$f":"SUM(GETPIVOTDATA(\"Suma de Atd_TAN_TNE_40_59F\",TD!$A$254))","v":0},{"$f":"SUM(GETPIVOTDATA(\"Suma de Atd_TAN_TNE_40_59M\",TD!$A$254))","v":0},{"$f":"SUM(GETPIVOTDATA(\"Suma de Atd_TAN_TNE_60_79F\",TD!$A$254))","v":0},{"$f":"SUM(GETPIVOTDATA(\"Suma de Atd_TAN_TNE_60_79M\",TD!$A$254))","v":0},{"$f":"SUM(GETPIVOTDATA(\"Suma de Atd_TAN_TNE_80F\",TD!$A$254))","v":0},{"$f":"SUM(GETPIVOTDATA(\"Suma de Atd_TAN_TNE_80M\",TD!$A$254))","v":0}]
[null,null,null,null,null,null,null,"Tratamiento especializado",null,null,{"$f":"SUM(GETPIVOTDATA(\"Suma de Atd_TAN_TE_0_2F\",TD!$A$278))","v":0},{"$f":"SUM(GETPIVOTDATA(\"Suma de Atd_TAN_TE_0_2M\",TD!$A$278))","v":0},{"$f":"SUM(GETPIVOTDATA(\"Suma de Atd_TAN_TE_3_5F\",TD!$A$278))","v":0},{"$f":"SUM(GETPIVOTDATA(\"Suma de Atd_TAN_TE_3_5M\",TD!$A$278))","v":0},{"$f":"SUM(GETPIVOTDATA(\"Suma de Atd_TAN_TE_6_9F\",TD!$A$278))","v":0},{"$f":"SUM(GETPIVOTDATA(\"Suma de Atd_TAN_TE_6_9M\",TD!$A$278))","v":0},{"$f":"SUM(GETPIVOTDATA(\"Suma de Atd_TAN_TE_10_11F\",TD!$A$278))","v":0},{"$f":"SUM(GETPIVOTDATA(\"Suma de Atd_TAN_TE_10_11M\",TD!$A$278))","v":0},{"$f":"SUM(GETPIVOTDATA(\"Suma de Atd_TAN_TE_12_14F\",TD!$A$278))","v":0},{"$f":"SUM(GETPIVOTDATA(\"Suma de Atd_TAN_TE_12_14M\",TD!$A$278))","v":0},{"$f":"SUM(GETPIVOTDATA(\"Suma de Atd_TAN_TE_15_17F\",TD!$A$278))","v":0},{"$f":"SUM(GETPIVOTDATA(\"Suma de Atd_TAN_TE_15_17M\",TD!$A$278))","v":0},{"$f":"SUM(GETPIVOTDATA(\"Suma de Atd_TAN_TE_18_24F\",TD!$A$278))","v":0},{"$f":"SUM(GETPIVOTDATA(\"Suma de Atd_TAN_TE_18_24M\",TD!$A$278))","v":0},{"$f":"SUM(GETPIVOTDATA(\"Suma de Atd_TAN_TE_25_29F\",TD!$A$278))","v":0},{"$f":"SUM(GETPIVOTDATA(\"Suma de Atd_TAN_TE_25_29M\",TD!$A$278))","v":0},{"$f":"SUM(GETPIVOTDATA(\"Suma de Atd_TAN_TE_30_39F\",TD!$A$278))","v":0},{"$f":"SUM(GETPIVOTDATA(\"Suma de Atd_TAN_TE_30_39M\",TD!$A$278))","v":0},{"$f":"SUM(GETPIVOTDATA(\"Suma de Atd_TAN_TE_40_59F\",TD!$A$278))","v":0},{"$f":"SUM(GETPIVOTDATA(\"Suma de Atd_TAN_TE_40_59M\",TD!$A$278))","v":0},{"$f":"SUM(GETPIVOTDATA(\"Suma de Atd_TAN_TE_60_79F\",TD!$A$278))","v":0},{"$f":"SUM(GETPIVOTDATA(\"Suma de Atd_TAN_TE_60_79M\",TD!$A$278))","v":0},{"$f":"SUM(GETPIVOTDATA(\"Suma de Atd_TAN_TE_80F\",TD!$A$278))","v":0},{"$f":"SUM(GETPIVOTDATA(\"Suma de Atd_TAN_TE_80M\",TD!$A$278))","v":0}]
[null,"Intervenciones breves motivacionales para personas con consumo perjudicial del alcohol y tabaco ",null,null,null,null,null,null,null,null,null,null,{"$f":"SUM(GETPIVOTDATA(\"Suma de Atd_TCA_TE_3_5F\",TD!$A$278))","v":0},{"$f":"SUM(GETPIVOTDATA(\"Suma de Atd_TCA_TE_3_5M\",TD!$A$278))","v":0},{"$f":"SUM(GETPIVOTDATA(\"Suma de Atd_TCA_TE_6_9F\",TD!$A$278))","v":0},{"$f":"SUM(GETPIVOTDATA(\"Suma de Atd_TCA_TE_6_9M\",TD!$A$278))","v":0},{"$f":"SUM(GETPIVOTDATA(\"Suma de Atd_TCA_TE_10_11F\",TD!$A$278))","v":0},{"$f":"SUM(GETPIVOTDATA(\"Suma de Atd_TCA_TE_10_11M\",TD!$A$278))","v":0},{"$f":"SUM(GETPIVOTDATA(\"Suma de Atd_TCA_TE_12_14F\",TD!$A$278))","v":0},{"$f":"SUM(GETPIVOTDATA(\"Suma de Atd_TCA_TE_12_14M\",TD!$A$278))","v":0},{"$f":"SUM(GETPIVOTDATA(\"Suma de Atd_TCA_TE_15_17F\",TD!$A$278))","v":0},{"$f":"SUM(GETPIVOTDATA(\"Suma de Atd_TCA_TE_15_17M\",TD!$A$278))","v":0},{"$f":"SUM(GETPIVOTDATA(\"Suma de Atd_TCA_TE_18_24F\",TD!$A$278))","v":0},{"$f":"SUM(GETPIVOTDATA(\"Suma de Atd_TCA_TE_18_24M\",TD!$A$278))","v":0},{"$f":"SUM(GETPIVOTDATA(\"Suma de Atd_TCA_TE_25_29F\",TD!$A$278))","v":0},{"$f":"SUM(GETPIVOTDATA(\"Suma de Atd_TCA_TE_25_29M\",TD!$A$278))","v":0},{"$f":"SUM(GETPIVOTDATA(\"Suma de Atd_TCA_TE_30_39F\",TD!$A$278))","v":0},{"$f":"SUM(GETPIVOTDATA(\"Suma de Atd_TCA_TE_30_39M\",TD!$A$278))","v":0},{"$f":"SUM(GETPIVOTDATA(\"Suma de Atd_TCA_TE_40_59F\",TD!$A$278))","v":0},{"$f":"SUM(GETPIVOTDATA(\"Suma de Atd_TCA_TE_40_59M\",TD!$A$278))","v":1},{"$f":"SUM(GETPIVOTDATA(\"Suma de Atd_TCA_TE_60_79F\",TD!$A$278))","v":0},{"$f":"SUM(GETPIVOTDATA(\"Suma de Atd_TCA_TE_60_79M\",TD!$A$278))","v":0},{"$f":"SUM(GETPIVOTDATA(\"Suma de Atd_TCA_TE_80F\",TD!$A$278))","v":0},{"$f":"SUM(GETPIVOTDATA(\"Suma de Atd_TCA_TE_80M\",TD!$A$278))","v":0}]
[null,"Intervención para personas con dependencia del alcohol y tabaco",null,null,null,null,null,null,null,null,null,null,{"$f":"SUM(GETPIVOTDATA(\"Suma de Atd_DAOD_TE_3_5F\",TD!$A$278))","v":0},{"$f":"SUM(GETPIVOTDATA(\"Suma de Atd_DAOD_TE_3_5M\",TD!$A$278))","v":0},{"$f":"SUM(GETPIVOTDATA(\"Suma de Atd_DAOD_TE_6_9F\",TD!$A$278))","v":0},{"$f":"SUM(GETPIVOTDATA(\"Suma de Atd_DAOD_TE_6_9M\",TD!$A$278))","v":0},{"$f":"SUM(GETPIVOTDATA(\"Suma de Atd_DAOD_TE_10_11F\",TD!$A$278))","v":0},{"$f":"SUM(GETPIVOTDATA(\"Suma de Atd_DAOD_TE_10_11M\",TD!$A$278))","v":0},{"$f":"SUM(GETPIVOTDATA(\"Suma de Atd_DAOD_TE_12_14F\",TD!$A$278))","v":0},{"$f":"SUM(GETPIVOTDATA(\"Suma de Atd_DAOD_TE_12_14M\",TD!$A$278))","v":0},{"$f":"SUM(GETPIVOTDATA(\"Suma de Atd_DAOD_TE_15_17F\",TD!$A$278))","v":0},{"$f":"SUM(GETPIVOTDATA(\"Suma de Atd_DAOD_TE_15_17M\",TD!$A$278))","v":0},{"$f":"SUM(GETPIVOTDATA(\"Suma de Atd_DAOD_TE_18_24F\",TD!$A$278))","v":0},{"$f":"SUM(GETPIVOTDATA(\"Suma de Atd_DAOD_TE_18_24M\",TD!$A$278))","v":0},{"$f":"SUM(GETPIVOTDATA(\"Suma de Atd_DAOD_TE_25_29F\",TD!$A$278))","v":0},{"$f":"SUM(GETPIVOTDATA(\"Suma de Atd_DAOD_TE_25_29M\",TD!$A$278))","v":0},{"$f":"SUM(GETPIVOTDATA(\"Suma de Atd_DAOD_TE_30_39F\",TD!$A$278))","v":0},{"$f":"SUM(GETPIVOTDATA(\"Suma de Atd_DAOD_TE_30_39M\",TD!$A$278))","v":0},{"$f":"SUM(GETPIVOTDATA(\"Suma de Atd_DAOD_TE_40_59F\",TD!$A$278))","v":0},{"$f":"SUM(GETPIVOTDATA(\"Suma de Atd_DAOD_TE_40_59M\",TD!$A$278))","v":0},{"$f":"SUM(GETPIVOTDATA(\"Suma de Atd_DAOD_TE_60_79F\",TD!$A$278))","v":0},{"$f":"SUM(GETPIVOTDATA(\"Suma de Atd_DAOD_TE_60_79M\",TD!$A$278))","v":0},{"$f":"SUM(GETPIVOTDATA(\"Suma de Atd_DAOD_TE_80F\",TD!$A$278))","v":0},{"$f":"SUM(GETPIVOTDATA(\"Suma de Atd_DAOD_TE_80M\",TD!$A$278))","v":0}]
[null,"Rehabilitación psicosocial de personas con trastornos del comportamiento debido al consumo de alcohol ",null,null,null,null,null,null,null,null,null,null,{"$f":"SUM(GETPIVOTDATA(\"Suma de Atd_RPS_TE_3_5F\",TD!$A$278))","v":0},{"$f":"SUM(GETPIVOTDATA(\"Suma de Atd_RPS_TE_3_5M\",TD!$A$278))","v":0},{"$f":"SUM(GETPIVOTDATA(\"Suma de Atd_RPS_TE_6_9F\",TD!$A$278))","v":0},{"$f":"SUM(GETPIVOTDATA(\"Suma de Atd_RPS_TE_6_9M\",TD!$A$278))","v":0},{"$f":"SUM(GETPIVOTDATA(\"Suma de Atd_RPS_TE_10_11F\",TD!$A$278))","v":0},{"$f":"SUM(GETPIVOTDATA(\"Suma de Atd_RPS_TE_10_11M\",TD!$A$278))","v":0},{"$f":"SUM(GETPIVOTDATA(\"Suma de Atd_RPS_TE_12_14F\",TD!$A$278))","v":0},{"$f":"SUM(GETPIVOTDATA(\"Suma de Atd_RPS_TE_12_14M\",TD!$A$278))","v":0},{"$f":"SUM(GETPIVOTDATA(\"Suma de Atd_RPS_TE_15_17F\",TD!$A$278))","v":0},{"$f":"SUM(GETPIVOTDATA(\"Suma de Atd_RPS_TE_15_17M\",TD!$A$278))","v":0},{"$f":"SUM(GETPIVOTDATA(\"Suma de Atd_RPS_TE_18_24F\",TD!$A$278))","v":0},{"$f":"SUM(GETPIVOTDATA(\"Suma de Atd_RPS_TE_18_24M\",TD!$A$278))","v":0},{"$f":"SUM(GETPIVOTDATA(\"Suma de Atd_RPS_TE_25_29F\",TD!$A$278))","v":0},{"$f":"SUM(GETPIVOTDATA(\"Suma de Atd_RPS_TE_25_29M\",TD!$A$278))","v":0},{"$f":"SUM(GETPIVOTDATA(\"Suma de Atd_RPS_TE_30_39F\",TD!$A$278))","v":0},{"$f":"SUM(GETPIVOTDATA(\"Suma de Atd_RPS_TE_30_39M\",TD!$A$278))","v":0},{"$f":"SUM(GETPIVOTDATA(\"Suma de Atd_RPS_TE_40_59F\",TD!$A$278))","v":0},{"$f":"SUM(GETPIVOTDATA(\"Suma de Atd_RPS_TE_40_59M\",TD!$A$278))","v":0},{"$f":"SUM(GETPIVOTDATA(\"Suma de Atd_RPS_TE_60_79F\",TD!$A$278))","v":0},{"$f":"SUM(GETPIVOTDATA(\"Suma de Atd_RPS_TE_60_79M\",TD!$A$278))","v":0},{"$f":"SUM(GETPIVOTDATA(\"Suma de Atd_RPS_TE_80F\",TD!$A$278))","v":0},{"$f":"SUM(GETPIVOTDATA(\"Suma de Atd_RPS_TE_80M\",TD!$A$278))","v":0}]
[null,"Tratamiento ambulatorio a personas con síndrome psicótico o trastorno del espectro de la esquizofrenia",null,null,null,null,null,"Tratamiento no especializado",null,null,null,null,{"$f":"SUM(GETPIVOTDATA(\"Suma de Atd_TPS_TNE_3_5F\",TD!$A$278))","v":0},{"$f":"SUM(GETPIVOTDATA(\"Suma de Atd_TPS_TNE_3_5M\",TD!$A$278))","v":0},{"$f":"SUM(GETPIVOTDATA(\"Suma de Atd_TPS_TNE_6_9F\",TD!$A$278))","v":0},{"$f":"SUM(GETPIVOTDATA(\"Suma de Atd_TPS_TNE_6_9M\",TD!$A$278))","v":0},{"$f":"SUM(GETPIVOTDATA(\"Suma de Atd_TPS_TNE_10_11F\",TD!$A$278))","v":0},{"$f":"SUM(GETPIVOTDATA(\"Suma de Atd_TPS_TNE_10_11M\",TD!$A$278))","v":0},{"$f":"SUM(GETPIVOTDATA(\"Suma de Atd_TPS_TNE_12_14F\",TD!$A$278))","v":0},{"$f":"SUM(GETPIVOTDATA(\"Suma de Atd_TPS_TNE_12_14M\",TD!$A$278))","v":0},{"$f":"SUM(GETPIVOTDATA(\"Suma de Atd_TPS_TNE_15_17F\",TD!$A$278))","v":0},{"$f":"SUM(GETPIVOTDATA(\"Suma de Atd_TPS_TNE_15_17M\",TD!$A$278))","v":0},{"$f":"SUM(GETPIVOTDATA(\"Suma de Atd_TPS_TNE_18_24F\",TD!$A$278))","v":0},{"$f":"SUM(GETPIVOTDATA(\"Suma de Atd_TPS_TNE_18_24M\",TD!$A$278))","v":0},{"$f":"SUM(GETPIVOTDATA(\"Suma de Atd_TPS_TNE_25_29F\",TD!$A$278))","v":0},{"$f":"SUM(GETPIVOTDATA(\"Suma de Atd_TPS_TNE_25_29M\",TD!$A$278))","v":0},{"$f":"SUM(GETPIVOTDATA(\"Suma de Atd_TPS_TNE_30_39F\",TD!$A$278))","v":0},{"$f":"SUM(GETPIVOTDATA(\"Suma de Atd_TPS_TNE_30_39M\",TD!$A$278))","v":0},{"$f":"SUM(GETPIVOTDATA(\"Suma de Atd_TPS_TNE_40_59F\",TD!$A$278))","v":0},{"$f":"SUM(GETPIVOTDATA(\"Suma de Atd_TPS_TNE_40_59M\",TD!$A$278))","v":0},{"$f":"SUM(GETPIVOTDATA(\"Suma de Atd_TPS_TNE_60_79F\",TD!$A$278))","v":0},{"$f":"SUM(GETPIVOTDATA(\"Suma de Atd_TPS_TNE_60_79M\",TD!$A$278))","v":0},{"$f":"SUM(GETPIVOTDATA(\"Suma de Atd_TPS_TNE_80F\",TD!$A$278))","v":0},{"$f":"SUM(GETPIVOTDATA(\"Suma de Atd_TPS_TNE_80M\",TD!$A$278))","v":0}]
[null,null,null,null,null,null,null,"Tratamiento especializado",null,null,null,null,{"$f":"SUM(GETPIVOTDATA(\"Suma de Atd_TPS_TE_3_5F\",TD!$A$278))","v":0},{"$f":"SUM(GETPIVOTDATA(\"Suma de Atd_TPS_TE_3_5M\",TD!$A$278))","v":0},{"$f":"SUM(GETPIVOTDATA(\"Suma de Atd_TPS_TE_6_9F\",TD!$A$278))","v":0},{"$f":"SUM(GETPIVOTDATA(\"Suma de Atd_TPS_TE_6_9M\",TD!$A$278))","v":0},{"$f":"SUM(GETPIVOTDATA(\"Suma de Atd_TPS_TE_10_11F\",TD!$A$278))","v":0},{"$f":"SUM(GETPIVOTDATA(\"Suma de Atd_TPS_TE_10_11M\",TD!$A$278))","v":0},{"$f":"SUM(GETPIVOTDATA(\"Suma de Atd_TPS_TE_12_14F\",TD!$A$278))","v":0},{"$f":"SUM(GETPIVOTDATA(\"Suma de Atd_TPS_TE_12_14M\",TD!$A$278))","v":0},{"$f":"SUM(GETPIVOTDATA(\"Suma de Atd_TPS_TE_15_17F\",TD!$A$278))","v":0},{"$f":"SUM(GETPIVOTDATA(\"Suma de Atd_TPS_TE_15_17M\",TD!$A$278))","v":0},{"$f":"SUM(GETPIVOTDATA(\"Suma de Atd_TPS_TE_18_24F\",TD!$A$278))","v":0},{"$f":"SUM(GETPIVOTDATA(\"Suma de Atd_TPS_TE_18_24M\",TD!$A$278))","v":0},{"$f":"SUM(GETPIVOTDATA(\"Suma de Atd_TPS_TE_25_29F\",TD!$A$278))","v":0},{"$f":"SUM(GETPIVOTDATA(\"Suma de Atd_TPS_TE_25_29M\",TD!$A$278))","v":0},{"$f":"SUM(GETPIVOTDATA(\"Suma de Atd_TPS_TE_30_39F\",TD!$A$278))","v":0},{"$f":"SUM(GETPIVOTDATA(\"Suma de Atd_TPS_TE_30_39M\",TD!$A$278))","v":0},{"$f":"SUM(GETPIVOTDATA(\"Suma de Atd_TPS_TE_40_59F\",TD!$A$278))","v":0},{"$f":"SUM(GETPIVOTDATA(\"Suma de Atd_TPS_TE_40_59M\",TD!$A$278))","v":0},{"$f":"SUM(GETPIVOTDATA(\"Suma de Atd_TPS_TE_60_79F\",TD!$A$278))","v":0},{"$f":"SUM(GETPIVOTDATA(\"Suma de Atd_TPS_TE_60_79M\",TD!$A$278))","v":0},{"$f":"SUM(GETPIVOTDATA(\"Suma de Atd_TPS_TE_80F\",TD!$A$278))","v":0},{"$f":"SUM(GETPIVOTDATA(\"Suma de Atd_TPS_TE_80M\",TD!$A$278))","v":0}]
[null,"Tratamiento ambulatorio de personas con primer episodio psicótico ",null,null,null,null,null,null,null,null,{"$f":"SUM(GETPIVOTDATA(\"Suma de Atd_TPS1_TE_0_2F\",TD!$A$278))","v":0},{"$f":"SUM(GETPIVOTDATA(\"Suma de Atd_TPS1_TE_0_2M\",TD!$A$278))","v":0},{"$f":"SUM(GETPIVOTDATA(\"Suma de Atd_TPS1_TE_3_5F\",TD!$A$278))","v":0},{"$f":"SUM(GETPIVOTDATA(\"Suma de Atd_TPS1_TE_3_5M\",TD!$A$278))","v":0},{"$f":"SUM(GETPIVOTDATA(\"Suma de Atd_TPS1_TE_6_9F\",TD!$A$278))","v":0},{"$f":"SUM(GETPIVOTDATA(\"Suma de Atd_TPS1_TE_6_9M\",TD!$A$278))","v":0},{"$f":"SUM(GETPIVOTDATA(\"Suma de Atd_TPS1_TE_10_11F\",TD!$A$278))","v":0},{"$f":"SUM(GETPIVOTDATA(\"Suma de Atd_TPS1_TE_10_11M\",TD!$A$278))","v":0},{"$f":"SUM(GETPIVOTDATA(\"Suma de Atd_TPS1_TE_12_14F\",TD!$A$278))","v":0},{"$f":"SUM(GETPIVOTDATA(\"Suma de Atd_TPS1_TE_12_14M\",TD!$A$278))","v":0},{"$f":"SUM(GETPIVOTDATA(\"Suma de Atd_TPS1_TE_15_17F\",TD!$A$278))","v":0},{"$f":"SUM(GETPIVOTDATA(\"Suma de Atd_TPS1_TE_15_17M\",TD!$A$278))","v":0},{"$f":"SUM(GETPIVOTDATA(\"Suma de Atd_TPS1_TE_18_24F\",TD!$A$278))","v":0},{"$f":"SUM(GETPIVOTDATA(\"Suma de Atd_TPS1_TE_18_24M\",TD!$A$278))","v":0},{"$f":"SUM(GETPIVOTDATA(\"Suma de Atd_TPS1_TE_25_29F\",TD!$A$278))","v":0},{"$f":"SUM(GETPIVOTDATA(\"Suma de Atd_TPS1_TE_25_29M\",TD!$A$278))","v":0},{"$f":"SUM(GETPIVOTDATA(\"Suma de Atd_TPS1_TE_30_39F\",TD!$A$278))","v":0},{"$f":"SUM(GETPIVOTDATA(\"Suma de Atd_TPS1_TE_30_39M\",TD!$A$278))","v":0},{"$f":"SUM(GETPIVOTDATA(\"Suma de Atd_TPS1_TE_40_59F\",TD!$A$278))","v":0},{"$f":"SUM(GETPIVOTDATA(\"Suma de Atd_TPS1_TE_40_59M\",TD!$A$278))","v":0},{"$f":"SUM(GETPIVOTDATA(\"Suma de Atd_TPS1_TE_60_79F\",TD!$A$278))","v":0},{"$f":"SUM(GETPIVOTDATA(\"Suma de Atd_TPS1_TE_60_79M\",TD!$A$278))","v":0},{"$f":"SUM(GETPIVOTDATA(\"Suma de Atd_TPS1_TE_80F\",TD!$A$278))","v":0},{"$f":"SUM(GETPIVOTDATA(\"Suma de Atd_TPS1_TE_80M\",TD!$A$278))","v":0}]
[null,"Tratamiento ambulatorio para las personas con deterioro cognitivo ",null,null,null,null,null,null,null,null,null,null,null,null,null,null,null,null,null,null,null,null,null,null,null,null,{"$f":"SUM(GETPIVOTDATA(\"Suma de Atd_DCog_TE_30_39F\",TD!$A$278))","v":0},{"$f":"SUM(GETPIVOTDATA(\"Suma de Atd_DCog_TE_30_39M\",TD!$A$278))","v":0},{"$f":"SUM(GETPIVOTDATA(\"Suma de Atd_DCog_TE_40_59F\",TD!$A$278))","v":0},{"$f":"SUM(GETPIVOTDATA(\"Suma de Atd_DCog_TE_40_59M\",TD!$A$278))","v":0},{"$f":"SUM(GETPIVOTDATA(\"Suma de Atd_DCog_TE_60_79F\",TD!$A$278))","v":0},{"$f":"SUM(GETPIVOTDATA(\"Suma de Atd_DCog_TE_60_79M\",TD!$A$278))","v":0},{"$f":"SUM(GETPIVOTDATA(\"Suma de Atd_DCog_TE_80F\",TD!$A$278))","v":0},{"$f":"SUM(GETPIVOTDATA(\"Suma de Atd_DCog_TE_80M\",TD!$A$278))","v":0}]
[null,"Cuidados de salud domiciliarios a personas con demencia severa y en precarias condiciones económicas ",null,null,null,null,null,null,null,null,null,null,null,null,null,null,null,null,null,null,null,null,null,null,null,null,{"$f":"SUM(GETPIVOTDATA(\"Suma de Atd_CSD_DS_TE_30_39F\",TD!$A$278))","v":0},{"$f":"SUM(GETPIVOTDATA(\"Suma de Atd_CSD_DS_TE_30_39M\",TD!$A$278))","v":0},{"$f":"SUM(GETPIVOTDATA(\"Suma de Atd_CSD_DS_TE_40_59F\",TD!$A$278))","v":0},{"$f":"SUM(GETPIVOTDATA(\"Suma de Atd_CSD_DS_TE_40_59M\",TD!$A$278))","v":0},{"$f":"SUM(GETPIVOTDATA(\"Suma de Atd_CSD_DS_TE_60_79F\",TD!$A$278))","v":0},{"$f":"SUM(GETPIVOTDATA(\"Suma de Atd_CSD_DS_TE_60_79M\",TD!$A$278))","v":0},{"$f":"SUM(GETPIVOTDATA(\"Suma de Atd_CSD_DS_TE_80F\",TD!$A$278))","v":0},{"$f":"SUM(GETPIVOTDATA(\"Suma de Atd_CSD_DS_TE_80M\",TD!$A$278))","v":0}]
[null,"Continuidad de cuidados a personas con trastorno mental grave ",null,null,null,null,null,null,null,null,{"$f":"SUM(GETPIVOTDATA(\"Suma de Atd_TPS_Grav_TE_0_2F\",TD!$A$278))","v":0},{"$f":"SUM(GETPIVOTDATA(\"Suma de Atd_TPS_Grav_TE_0_2M\",TD!$A$278))","v":0},{"$f":"SUM(GETPIVOTDATA(\"Suma de Atd_TPS_Grav_TE_3_5F\",TD!$A$278))","v":0},{"$f":"SUM(GETPIVOTDATA(\"Suma de Atd_TPS_Grav_TE_3_5M\",TD!$A$278))","v":0},{"$f":"SUM(GETPIVOTDATA(\"Suma de Atd_TPS_Grav_TE_6_9F\",TD!$A$278))","v":0},{"$f":"SUM(GETPIVOTDATA(\"Suma de Atd_TPS_Grav_TE_6_9M\",TD!$A$278))","v":0},{"$f":"SUM(GETPIVOTDATA(\"Suma de Atd_TPS_Grav_TE_10_11F\",TD!$A$278))","v":0},{"$f":"SUM(GETPIVOTDATA(\"Suma de Atd_TPS_Grav_TE_10_11M\",TD!$A$278))","v":0},{"$f":"SUM(GETPIVOTDATA(\"Suma de Atd_TPS_Grav_TE_12_14F\",TD!$A$278))","v":0},{"$f":"SUM(GETPIVOTDATA(\"Suma de Atd_TPS_Grav_TE_12_14M\",TD!$A$278))","v":0},{"$f":"SUM(GETPIVOTDATA(\"Suma de Atd_TPS_Grav_TE_15_17F\",TD!$A$278))","v":0},{"$f":"SUM(GETPIVOTDATA(\"Suma de Atd_TPS_Grav_TE_15_17M\",TD!$A$278))","v":0},{"$f":"SUM(GETPIVOTDATA(\"Suma de Atd_TPS_Grav_TE_18_24F\",TD!$A$278))","v":0},{"$f":"SUM(GETPIVOTDATA(\"Suma de Atd_TPS_Grav_TE_18_24M\",TD!$A$278))","v":0},{"$f":"SUM(GETPIVOTDATA(\"Suma de Atd_TPS_Grav_TE_25_29F\",TD!$A$278))","v":0},{"$f":"SUM(GETPIVOTDATA(\"Suma de Atd_TPS_Grav_TE_25_29M\",TD!$A$278))","v":0},{"$f":"SUM(GETPIVOTDATA(\"Suma de Atd_TPS_Grav_TE_30_39F\",TD!$A$278))","v":0},{"$f":"SUM(GETPIVOTDATA(\"Suma de Atd_TPS_Grav_TE_30_39M\",TD!$A$278))","v":0},{"$f":"SUM(GETPIVOTDATA(\"Suma de Atd_TPS_Grav_TE_40_59F\",TD!$A$278))","v":0},{"$f":"SUM(GETPIVOTDATA(\"Suma de Atd_TPS_Grav_TE_40_59M\",TD!$A$278))","v":0},{"$f":"SUM(GETPIVOTDATA(\"Suma de Atd_TPS_Grav_TE_60_79F\",TD!$A$278))","v":0},{"$f":"SUM(GETPIVOTDATA(\"Suma de Atd_TPS_Grav_TE_60_79M\",TD!$A$278))","v":0},{"$f":"SUM(GETPIVOTDATA(\"Suma de Atd_TPS_Grav_TE_80F\",TD!$A$278))","v":0},{"$f":"SUM(GETPIVOTDATA(\"Suma de Atd_TPS_Grav_TE_80M\",TD!$A$278))","v":0}]

{"sheet":"PROG_CUIDADO_MUTUO","index":7,"n_rows":143,"n_cols":33,"rows_kept":143,"cut":false,"hidden":false,"merged":[[121,17,121,18],[122,1,122,6],[123,1,123,6],[124,1,124,6],[125,1,125,6],[121,7,121,8],[121,9,121,10],[121,11,121,12],[121,13,121,14],[121,15,121,16],[60,1,60,6],[54,1,54,6],[54,7,54,8],[92,13,92,16],[93,13,93,16],[99,9,99,10],[99,11,99,12],[108,1,110,6],[119,1,121,6],[55,7,55,8],[55,9,55,10],[55,11,55,12],[55,13,55,14],[55,15,55,16],[57,7,57,8],[56,7,56,8],[69,7,69,8],[69,9,69,11],[69,1,69,6],[65,1,65,6],[64,7,64,8],[64,9,64,10],[64,11,64,12],[65,7,65,8],[16,1,16,6],[21,1,21,6],[22,1,22,6],[23,1,23,6],[24,1,24,6],[91,13,91,15],[17,1,17,6],[16,7,16,8],[16,9,16,10],[16,11,16,12],[17,7,17,8],[17,9,17,10],[17,11,17,12],[89,13,89,14],[90,13,90,15],[39,1,39,6],[39,7,39,8],[39,9,39,10],[55,1,55,6],[56,1,56,6],[57,1,57,6],[58,1,58,6],[59,1,59,6],[21,13,21,14],[22,7,22,8],[22,9,22,10],[22,11,22,12],[22,13,22,14],[25,1,25,6],[26,1,26,6],[21,7,21,8],[21,9,21,10],[21,11,21,12],[23,7,23,8],[23,9,23,10],[23,11,23,12],[31,1,32,6],[33,1,33,6],[34,1,34,6],[31,7,31,10],[32,7,32,8],[32,9,32,10],[23,13,23,14],[24,7,24,8],[25,7,25,8],[26,7,26,8],[24,9,24,10],[24,11,24,12],[24,13,24,14],[25,9,25,10],[25,11,25,12],[25,13,25,14],[26,9,26,10],[26,11,26,12],[26,13,26,14],[31,19,31,22],[32,19,32,20],[32,21,32,22],[33,7,33,8],[34,7,34,8],[33,9,33,10],[33,11,33,12],[33,13,33,14],[33,15,33,16],[33,17,33,18],[33,19,33,20],[33,21,33,22],[34,9,34,10],[34,11,34,12],[34,13,34,14],[34,15,34,16],[31,11,31,14],[32,11,32,12],[32,13,32,14],[31,15,31,18],[32,15,32,16],[32,17,32,18],[34,17,34,18],[34,19,34,20],[34,21,34,22],[36,1,37,6],[38,1,38,6],[37,7,37,8],[37,9,37,10],[38,7,38,8],[38,9,38,10],[54,19,54,20],[54,21,54,22],[36,7,36,10],[55,17,55,18],[55,19,55,20],[55,21,55,22],[54,9,54,10],[54,11,54,12],[54,13,54,14],[54,15,54,16],[54,17,54,18],[58,13,58,14],[58,15,58,16],[56,17,56,18],[56,19,56,20],[56,21,56,22],[57,9,57,10],[57,11,57,12],[57,13,57,14],[57,15,57,16],[57,17,57,18],[57,19,57,20],[57,21,57,22],[56,9,56,10],[56,11,56,12],[56,13,56,14],[56,15,56,16],[60,17,60,18],[60,19,60,20],[60,21,60,22],[53,1,53,22],[64,1,64,6],[60,7,60,8],[60,9,60,10],[60,11,60,12],[60,13,60,14],[60,15,60,16],[58,17,58,18],[58,19,58,20],[58,21,58,22],[59,7,59,8],[59,9,59,10],[59,11,59,12],[59,13,59,14],[59,15,59,16],[59,17,59,18],[59,19,59,20],[59,21,59,22],[58,7,58,8],[58,9,58,10],[58,11,58,12],[65,9,65,10],[65,11,65,12],[70,1,70,6],[71,1,71,6],[72,1,72,6],[73,1,73,6],[74,1,74,6],[76,7,76,8],[76,9,76,11],[67,1,67,24],[73,7,73,8],[73,9,73,11],[74,7,74,8],[74,9,74,11],[75,7,75,8],[75,9,75,11],[70,9,70,11],[70,7,70,8],[71,7,71,8],[71,9,71,11],[72,7,72,8],[72,9,72,11],[84,1,84,6],[83,7,83,8],[83,9,83,10],[83,11,83,12],[84,7,84,8],[84,9,84,10],[84,11,84,12],[75,1,75,6],[76,1,76,6],[77,1,77,6],[78,1,78,6],[83,1,83,6],[78,7,78,8],[78,9,78,11],[81,1,81,37],[77,7,77,8],[77,9,77,11],[90,1,90,6],[91,1,91,6],[92,1,92,6],[88,1,88,6],[98,1,99,6],[90,7,90,8],[90,9,90,11],[91,7,91,8],[91,9,91,11],[92,7,92,8],[92,9,92,11],[88,7,88,8],[88,9,88,11],[89,7,89,8],[89,9,89,11],[89,1,89,6],[100,1,100,6],[101,1,101,6],[102,1,102,6],[103,1,103,6],[99,7,99,8],[100,7,100,8],[101,7,101,8],[102,7,102,8],[103,7,103,8],[99,17,99,18],[98,7,98,12],[98,13,98,18],[100,15,100,16],[100,17,100,18],[100,9,100,10],[100,11,100,12],[100,13,100,14],[99,13,99,14],[99,15,99,16],[102,9,102,10],[102,11,102,12],[102,13,102,14],[102,15,102,16],[102,17,102,18],[101,9,101,10],[101,11,101,12],[101,13,101,14],[101,15,101,16],[101,17,101,18],[111,1,111,6],[112,1,112,6],[113,1,113,6],[114,1,114,6],[110,7,110,8],[113,7,113,8],[103,9,103,10],[103,11,103,12],[103,13,103,14],[106,1,106,24],[103,15,103,16],[103,17,103,18],[113,17,113,18],[110,27,110,28],[110,29,110,30],[109,19,109,22],[109,23,109,26],[109,27,109,30],[108,7,108,18],[110,19,110,20],[110,21,110,22],[110,23,110,24],[110,25,110,26],[108,19,108,30],[110,15,110,16],[110,17,110,18],[109,7,109,10],[109,11,109,14],[109,15,109,18],[110,9,110,10],[110,11,110,12],[110,13,110,14],[111,25,111,26],[111,27,111,28],[111,29,111,30],[112,7,112,8],[112,9,112,10],[112,11,112,12],[112,13,112,14],[112,15,112,16],[112,17,112,18],[112,19,112,20],[112,21,112,22],[112,23,112,24],[112,25,112,26],[112,27,112,28],[112,29,112,30],[111,15,111,16],[111,17,111,18],[111,19,111,20],[111,21,111,22],[111,23,111,24],[111,7,111,8],[111,9,111,10],[111,11,111,12],[111,13,111,14],[121,25,121,26],[121,27,121,28],[113,29,113,30],[114,7,114,8],[114,9,114,10],[114,11,114,12],[114,13,114,14],[114,15,114,16],[114,17,114,18],[114,19,114,20],[114,21,114,22],[114,23,114,24],[114,25,114,26],[114,27,114,28],[114,29,114,30],[113,19,113,20],[113,21,113,22],[113,23,113,24],[113,25,113,26],[113,27,113,28],[113,9,113,10],[113,11,113,12],[113,13,113,14],[113,15,113,16],[119,7,119,18],[119,19,119,30],[122,7,122,8],[122,9,122,10],[122,11,122,12],[122,13,122,14],[122,15,122,16],[122,17,122,18],[122,19,122,20],[122,21,122,22],[122,23,122,24],[122,25,122,26],[122,27,122,28],[122,29,122,30],[121,29,121,30],[120,7,120,10],[120,11,120,14],[120,15,120,18],[120,19,120,22],[120,23,120,26],[120,27,120,30],[121,19,121,20],[121,21,121,22],[121,23,121,24],[123,19,123,20],[123,21,123,22],[123,23,123,24],[123,25,123,26],[123,7,123,8],[123,9,123,10],[123,11,123,12],[123,13,123,14],[123,15,123,16],[135,9,135,10],[134,11,134,13],[125,17,125,18],[125,19,125,20],[125,21,125,22],[125,23,125,24],[125,25,125,26],[125,7,125,8],[125,9,125,10],[125,11,125,12],[125,13,125,14],[125,15,125,16],[136,16,136,17],[133,11,133,17],[140,1,140,6],[140,7,140,8],[140,9,140,10],[140,11,140,12],[140,13,140,14],[140,15,140,16],[140,17,140,18],[138,1,138,24],[133,1,133,10],[135,11,135,13],[136,11,136,13],[134,14,134,15],[134,16,134,17],[135,14,135,15],[135,16,135,17],[134,1,134,6],[136,1,136,6],[135,1,135,6],[134,7,134,8],[134,9,134,10],[135,7,135,8],[136,7,136,8],[142,13,142,14],[142,15,142,16],[142,17,142,18],[142,19,142,20],[0,1,0,37],[1,1,1,37],[2,1,2,37],[3,1,3,37],[4,1,4,37],[141,1,141,6],[142,1,142,6],[142,7,142,8],[142,9,142,10],[142,11,142,12],[140,19,140,20],[141,7,141,8],[141,9,141,10],[141,11,141,12],[141,13,141,14],[141,15,141,16],[141,17,141,18],[141,19,141,20],[136,9,136,10],[136,14,136,15],[6,32,6,36],[8,32,8,36],[12,1,12,37],[6,7,6,15],[8,7,8,15],[10,7,10,15],[6,21,6,28],[8,21,8,28],[10,21,10,28],[117,1,117,24],[131,1,131,24],[14,1,14,24],[19,1,19,24],[29,1,29,37],[51,1,51,37],[62,1,62,37],[125,27,125,28],[125,29,125,30],[123,27,123,28],[123,29,123,30],[124,7,124,8],[124,9,124,10],[124,11,124,12],[124,13,124,14],[124,15,124,16],[124,17,124,18],[124,19,124,20],[124,21,124,22],[124,23,124,24],[124,25,124,26],[124,27,124,28],[124,29,124,30],[123,17,123,18]]}
[null,"GERENCIAL REGIONAL DE SALUD CUSCO"]
[null,"DIRECCION EJECUTIVA DE INTELIGENCIA SANITARIA"]
[null,"DIRECCION DE ESTADISTICA Y TELECOMUNICACIONES"]
[null,"SALUD MENTAL"]
[null,"PROGRAMA DE CUIDADO MUTUO"]
[]
[null,null,null,"RED DE SALUD:",null,null,null,{"$f":"TD!F3","v":"LA CONVENCION"},null,null,null,null,null,null,null,null,null,null,"PROVINCIA:",null,null,{"$f":"TD!F6","v":"(All)"},null,null,null,null,null,null,null,null,"AÑO:",null,{"$f":"TD!C10","v":"2024"}]
[]
[null,null,null,"MICRO RED:",null,null,null,{"$f":"TD!F4","v":"(All)"},null,null,null,null,null,null,null,null,null,null,"DISTRITO:",null,null,{"$f":"TD!F7","v":"(All)"},null,null,null,null,null,null,null,null,"MES:",null,{"$f":"TD!O17","v":"ENERO - NOVIEMBRE"}]
[]
[null,null,null,"ESTABLECIMIENTO:",null,null,null,{"$f":"TD!F5","v":"(All)"},null,null,null,null,null,null,null,null,null,null,"U.E.:",null,null,{"$f":"TD!F8","v":"(All)"}]
[]
[null,"Actividad 1: Talleres de fortalecimiento del autocuidado y el cuidado mutuo de la salud mental en familia “Conversando en familia”"]
[]
[null,"CONVOCATORIA de grupo de madres y padres de familia"]
[]
[null,null,null,null,null,null,null,"1° Reunión",null,"2° Reunión",null,"3° Reunión"]
[null,"Numero de CSMC que desarrollan actividad",null,null,null,null,null,{"$f":"SUM(GETPIVOTDATA(\"Suma de CSMC_R1\",TD!$A$278))","v":166},null,{"$f":"SUM(GETPIVOTDATA(\"Suma de CSMC_R2\",TD!$A$278))","v":25},null,{"$f":"SUM(GETPIVOTDATA(\"Suma de CSMC_R3\",TD!$A$278))","v":9}]
[]
[null,"TALLERES con madres y padres de familia"]
[]
[null,"Temas",null,null,null,null,null,"N° Reuniones presenciales",null,"N° Reuniones participantes reunjión presencial",null,"N° Reuniones virtuales",null,"N° Participantes reunión virtual"]
[null,"Autocuidado y cuidado mutuo ",null,null,null,null,null,{"$f":"SUM(GETPIVOTDATA(\"Suma de AuCui_RP\",TD!$A$278))","v":0},null,{"$f":"SUM(GETPIVOTDATA(\"Suma de AuCui_RP_P\",TD!$A$278))","v":0},null,{"$f":"SUM(GETPIVOTDATA(\"Suma de AuCui_RV\",TD!$A$278))","v":0},null,{"$f":"SUM(GETPIVOTDATA(\"Suma de AuCui_RV_P\",TD!$A$278))","v":0}]
[null,"Comunicación asertiva",null,null,null,null,null,{"$f":"SUM(GETPIVOTDATA(\"Suma de ComuAs_RP\",TD!$A$278))","v":0},null,{"$f":"SUM(GETPIVOTDATA(\"Suma de ComuAs_RP_P\",TD!$A$278))","v":0},null,{"$f":"SUM(GETPIVOTDATA(\"Suma de ComuAs_RV\",TD!$A$278))","v":0},null,{"$f":"SUM(GETPIVOTDATA(\"Suma de ComuAs_RV_P\",TD!$A$278))","v":0}]
[null,"Expresión de emociones",null,null,null,null,null,{"$f":"SUM(GETPIVOTDATA(\"Suma de ExpEm_RP\",TD!$A$278))","v":0},null,{"$f":"SUM(GETPIVOTDATA(\"Suma de ExpEm_RP_P\",TD!$A$278))","v":0},null,{"$f":"SUM(GETPIVOTDATA(\"Suma de ExpEm_RV\",TD!$A$278))","v":0},null,{"$f":"SUM(GETPIVOTDATA(\"Suma de ExpEm_RV_P\",TD!$A$278))","v":0}]
[null,"Dinámica familiar, solidaridad y cooperación para la resolución de conflictos",null,null,null,null,null,{"$f":"SUM(GETPIVOTDATA(\"Suma de Dina_RP\",TD!$A$278))","v":0},null,{"$f":"SUM(GETPIVOTDATA(\"Suma de Dina_RP_P\",TD!$A$278))","v":0},null,{"$f":"SUM(GETPIVOTDATA(\"Suma de Dina_RV\",TD!$A$278))","v":0},null,{"$f":"SUM(GETPIVOTDATA(\"Suma de Dina_RV_P\",TD!$A$278))","v":0}]
[null,"Entretenimiento saludable en familia",null,null,null,null,null,{"$f":"SUM(GETPIVOTDATA(\"Suma de EntSa_RP\",TD!$A$278))","v":0},null,{"$f":"SUM(GETPIVOTDATA(\"Suma de EntSa_RP_P\",TD!$A$278))","v":0},null,{"$f":"SUM(GETPIVOTDATA(\"Suma de EntSa_RV\",TD!$A$278))","v":0},null,{"$f":"SUM(GETPIVOTDATA(\"Suma de EntSa_RV_P\",TD!$A$278))","v":0}]
[]
[]
[null,"Actividad 2 y 4: Implementación de estrategias comunicacionales"]
[]
[null,"Estrategía comunicacional",null,null,null,null,null,"1era Reunión",null,null,null,"2da Reunión",null,null,null,"3era Reunión",null,null,null,"4ta Reunión"]
[null,null,null,null,null,null,null,"N° Reuniones",null,"N° participantes",null,"N° Reuniones",null,"N° participantes",null,"N° Reuniones",null,"N° participantes",null,"N° Reuniones",null,"N° participantes"]
[null,"Nos cuidamos en familia",null,null,null,null,null,{"$f":"SUM(GETPIVOTDATA(\"Suma de encf_1\",TD!$A$278))","v":0},null,{"$f":"SUM(GETPIVOTDATA(\"Suma de encf_1_P\",TD!$A$278))","v":0},null,{"$f":"SUM(GETPIVOTDATA(\"Suma de encf_2\",TD!$A$278))","v":0},null,{"$f":"SUM(GETPIVOTDATA(\"Suma de encf_2_P\",TD!$A$278))","v":0},null,{"$f":"SUM(GETPIVOTDATA(\"Suma de encf_3\",TD!$A$278))","v":0},null,{"$f":"SUM(GETPIVOTDATA(\"Suma de encf_3_P\",TD!$A$278))","v":0},null,{"$f":"SUM(GETPIVOTDATA(\"Suma de encf_4\",TD!$A$278))","v":0},null,{"$f":"SUM(GETPIVOTDATA(\"Suma de encf_4_P\",TD!$A$278))","v":0}]
[null,"Nuestra historia en pandemia",null,null,null,null,null,{"$f":"SUM(GETPIVOTDATA(\"Suma de encfh_1\",TD!$A$302))","v":0},null,{"$f":"SUM(GETPIVOTDATA(\"Suma de encfH_1_P\",TD!$A$302))","v":0},null,{"$f":"SUM(GETPIVOTDATA(\"Suma de encfH_2\",TD!$A$302))","v":0},null,{"$f":"SUM(GETPIVOTDATA(\"Suma de encfH_2_P\",TD!$A$302))","v":0},null,{"$f":"SUM(GETPIVOTDATA(\"Suma de encfH_3\",TD!$A$302))","v":0},null,{"$f":"SUM(GETPIVOTDATA(\"Suma de encfH_3_P\",TD!$A$302))","v":0},null,{"$f":"SUM(GETPIVOTDATA(\"Suma de encfH_4\",TD!$A$302))","v":0},null,{"$f":"SUM(GETPIVOTDATA(\"Suma de encfH_4_P\",TD!$A$302))","v":0}]
[]
[null,"Estrategía comunicacional",null,null,null,null,null,"Actividad difundida"]
[null,null,null,null,null,null,null,"Redes sociales",null,"Material impreso"]
[null,"Nos cuidamos en familia",null,null,null,null,null,{"$f":"SUM(GETPIVOTDATA(\"Suma de ENCF_RS\",TD!$A$278))","v":0},null,{"$f":"SUM(GETPIVOTDATA(\"Suma de ENCF_mi\",TD!$A$278))","v":0}]
[null,"Nuestra historia en pandemia",null,null,null,null,null,{"$f":"SUM(GETPIVOTDATA(\"Suma de nhpa_RS\",TD!$A$278))","v":0},null,{"$f":"SUM(GETPIVOTDATA(\"Suma de nhpa_mi\",TD!$A$278))","v":0}]
[]
[]
[]
[]
[]
[]
[]
[]
[]
[]
[]
[null,"Actividad 3: Acompañamiento de los procesos de organización y movilización de la comunidad"]
[]
[null,"ACTIVIDADES CON LA COMUNIDAD DE LA JURISDICCIÓN"]
[null,"DESCRIPCIÓN",null,null,null,null,null,"1° Reunión",null,"N° Participantes",null,"2° Reunión",null,"N° Participantes",null,"3° Reunión",null,"N° Participantes",null,"4° Reunión",null,"N° Participantes"]
[null,"Fase de coordinación",null,null,null,null,null,{"$f":"SUM(GETPIVOTDATA(\"Suma de AC_Coord_R1\",TD!$A$302))","v":0},null,{"$f":"SUM(GETPIVOTDATA(\"Suma de AC_Coord_P1\",TD!$A$302))","v":0},null,{"$f":"SUM(GETPIVOTDATA(\"Suma de AC_Coord_R2\",TD!$A$302))","v":0},null,{"$f":"SUM(GETPIVOTDATA(\"Suma de AC_Coord_P2\",TD!$A$302))","v":0},null,{"$f":"SUM(GETPIVOTDATA(\"Suma de AC_Coord_R3\",TD!$A$302))","v":0},null,{"$f":"SUM(GETPIVOTDATA(\"Suma de AC_Coord_P3\",TD!$A$302))","v":0},null,{"$f":"SUM(GETPIVOTDATA(\"Suma de AC_Coord_R4\",TD!$A$302))","v":0},null,{"$f":"SUM(GETPIVOTDATA(\"Suma de AC_Coord_P4\",TD!$A$302))","v":0}]
[null,"Fase de sensibiización",null,null,null,null,null,{"$f":"SUM(GETPIVOTDATA(\"Suma de AC_Sensib_R1\",TD!$A$302))","v":0},null,{"$f":"SUM(GETPIVOTDATA(\"Suma de AC_Sensib_P1\",TD!$A$302))","v":0},null,{"$f":"SUM(GETPIVOTDATA(\"Suma de AC_Sensib_R2\",TD!$A$302))","v":0},null,{"$f":"SUM(GETPIVOTDATA(\"Suma de AC_Sensib_P2\",TD!$A$302))","v":0},null,{"$f":"SUM(GETPIVOTDATA(\"Suma de AC_Sensib_R3\",TD!$A$302))","v":0},null,{"$f":"SUM(GETPIVOTDATA(\"Suma de AC_Sensib_P3\",TD!$A$302))","v":0},null,{"$f":"SUM(GETPIVOTDATA(\"Suma de AC_Sensib_R4\",TD!$A$302))","v":0},null,{"$f":"SUM(GETPIVOTDATA(\"Suma de AC_Sensib_P4\",TD!$A$302))","v":0}]
[null,"Fase de organización",null,null,null,null,null,{"$f":"SUM(GETPIVOTDATA(\"Suma de AC_Org_R1\",TD!$A$302))","v":0},null,{"$f":"SUM(GETPIVOTDATA(\"Suma de AC_Org_P1\",TD!$A$302))","v":0},null,{"$f":"SUM(GETPIVOTDATA(\"Suma de AC_Org_R2\",TD!$A$302))","v":0},null,{"$f":"SUM(GETPIVOTDATA(\"Suma de AC_Org_P2\",TD!$A$302))","v":0},null,{"$f":"SUM(GETPIVOTDATA(\"Suma de AC_Org_R3\",TD!$A$302))","v":0},null,{"$f":"SUM(GETPIVOTDATA(\"Suma de AC_Org_P3\",TD!$A$302))","v":0},null,{"$f":"SUM(GETPIVOTDATA(\"Suma de AC_Org_R4\",TD!$A$302))","v":0},null,{"$f":"SUM(GETPIVOTDATA(\"Suma de AC_Org_P4\",TD!$A$302))","v":0}]
[null,"Diagnótico y Planificación Participativa",null,null,null,null,null,{"$f":"SUM(GETPIVOTDATA(\"Suma de AC_Pla_R1\",TD!$A$302))","v":0},null,{"$f":"SUM(GETPIVOTDATA(\"Suma de AC_Pla_P1\",TD!$A$302))","v":0},null,{"$f":"SUM(GETPIVOTDATA(\"Suma de AC_Pla_R2\",TD!$A$302))","v":0},null,{"$f":"SUM(GETPIVOTDATA(\"Suma de AC_Pla_P2\",TD!$A$302))","v":0},null,{"$f":"SUM(GETPIVOTDATA(\"Suma de AC_Pla_R3\",TD!$A$302))","v":0},null,{"$f":"SUM(GETPIVOTDATA(\"Suma de AC_Pla_P3\",TD!$A$302))","v":0},null,{"$f":"SUM(GETPIVOTDATA(\"Suma de AC_Pla_R4\",TD!$A$302))","v":0},null,{"$f":"SUM(GETPIVOTDATA(\"Suma de AC_Pla_P4\",TD!$A$302))","v":0}]
[null,"Fase de ejecución",null,null,null,null,null,{"$f":"SUM(GETPIVOTDATA(\"Suma de AC_Eje_R1\",TD!$A$302))","v":0},null,{"$f":"SUM(GETPIVOTDATA(\"Suma de AC_Eje_P1\",TD!$A$302))","v":0},null,{"$f":"SUM(GETPIVOTDATA(\"Suma de AC_Eje_R2\",TD!$A$302))","v":0},null,{"$f":"SUM(GETPIVOTDATA(\"Suma de AC_Eje_P2\",TD!$A$302))","v":0},null,{"$f":"SUM(GETPIVOTDATA(\"Suma de AC_Eje_R3\",TD!$A$302))","v":0},null,{"$f":"SUM(GETPIVOTDATA(\"Suma de AC_Eje_P3\",TD!$A$302))","v":0},null,{"$f":"SUM(GETPIVOTDATA(\"Suma de AC_Eje_R4\",TD!$A$302))","v":0},null,{"$f":"SUM(GETPIVOTDATA(\"Suma de AC_Eje_P4\",TD!$A$302))","v":0}]
[null,"Fase de evaluación",null,null,null,null,null,{"$f":"SUM(GETPIVOTDATA(\"Suma de AC_EVa_R1\",TD!$A$302))","v":0},null,{"$f":"SUM(GETPIVOTDATA(\"Suma de AC_EVa_P1\",TD!$A$302))","v":0},null,{"$f":"SUM(GETPIVOTDATA(\"Suma de AC_EVa_R2\",TD!$A$302))","v":0},null,{"$f":"SUM(GETPIVOTDATA(\"Suma de AC_EVa_P2\",TD!$A$302))","v":0},null,{"$f":"SUM(GETPIVOTDATA(\"Suma de AC_EVa_R3\",TD!$A$302))","v":0},null,{"$f":"SUM(GETPIVOTDATA(\"Suma de AC_EVa_P3\",TD!$A$302))","v":0},null,{"$f":"SUM(GETPIVOTDATA(\"Suma de AC_EVa_R4\",TD!$A$302))","v":0},null,{"$f":"SUM(GETPIVOTDATA(\"Suma de AC_EVa_P4\",TD!$A$302))","v":0}]
[]
[null,"Actividad 5: Grupos de ayuda mutua comunitarios"]
[]
[null,"REUNIONES PARA LA ORGANIZACIÓN",null,null,null,null,null,"1° Reunión",null,"2° Reunión",null,"3° Reunión"]
[null,"Numero de CSMC que desarrollan actividad",null,null,null,null,null,{"$f":"SUM(GETPIVOTDATA(\"Suma de RORG_1\",TD!$A$302))","v":0},null,{"$f":"SUM(GETPIVOTDATA(\"Suma de RORG_2\",TD!$A$302))","v":0},null,{"$f":"SUM(GETPIVOTDATA(\"Suma de RORG_3\",TD!$A$302))","v":0}]
[]
[null,"Talleres de ayudad mutua "]
[]
[null,"Temas",null,null,null,null,null,"N° Reuniones",null,"N° Participantes"]
[null,"1° Sesión",null,null,null,null,null,{"$f":"SUM(GETPIVOTDATA(\"Suma de TAMU_S1\",TD!$A$302))","v":0},null,{"$f":"SUM(GETPIVOTDATA(\"Suma de TAMU_P1\",TD!$A$302))","v":0}]
[null,"2° Sesión",null,null,null,null,null,{"$f":"SUM(GETPIVOTDATA(\"Suma de TAMU_S2\",TD!$A$302))","v":0},null,{"$f":"SUM(GETPIVOTDATA(\"Suma de TAMU_P2\",TD!$A$302))","v":0}]
[null,"3° Sesión",null,null,null,null,null,{"$f":"SUM(GETPIVOTDATA(\"Suma de TAMU_S3\",TD!$A$302))","v":0},null,{"$f":"SUM(GETPIVOTDATA(\"Suma de TAMU_P3\",TD!$A$302))","v":0}]
[null,"4° Sesión",null,null,null,null,null,{"$f":"SUM(GETPIVOTDATA(\"Suma de TAMU_S4\",TD!$A$302))","v":0},null,{"$f":"SUM(GETPIVOTDATA(\"Suma de TAMU_P4\",TD!$A$302))","v":0}]
[null,"5° Sesión",null,null,null,null,null,{"$f":"SUM(GETPIVOTDATA(\"Suma de TAMU_S5\",TD!$A$302))","v":0},null,{"$f":"SUM(GETPIVOTDATA(\"Suma de TAMU_P5\",TD!$A$302))","v":0}]
[null,"6° Sesión",null,null,null,null,null,{"$f":"SUM(GETPIVOTDATA(\"Suma de TAMU_S6\",TD!$A$302))","v":0},null,{"$f":"SUM(GETPIVOTDATA(\"Suma de TAMU_P6\",TD!$A$302))","v":0}]
[null,"7° Sesión",null,null,null,null,null,{"$f":"SUM(GETPIVOTDATA(\"Suma de TAMU_S7\",TD!$A$302))","v":0},null,{"$f":"SUM(GETPIVOTDATA(\"Suma de TAMU_P7\",TD!$A$302))","v":0}]
[null,"8° Sesión",null,null,null,null,null,{"$f":"SUM(GETPIVOTDATA(\"Suma de TAMU_S8\",TD!$A$302))","v":0},null,{"$f":"SUM(GETPIVOTDATA(\"Suma de TAMU_P8\",TD!$A$302))","v":0}]
[null,"9° Sesión",null,null,null,null,null,{"$f":"SUM(GETPIVOTDATA(\"Suma de TAMU_S9\",TD!$A$302))","v":0},null,{"$f":"SUM(GETPIVOTDATA(\"Suma de TAMU_P9\",TD!$A$302))","v":0}]
[]
[]
[null,"Actividad 6: Formación de agentes para el acompañamiento de acciones comunitarias en cuidado mutuo. "]
[]
[null,"Reuniones de convocatorias",null,null,null,null,null,"1° Reunión",null,"2 Reunión",null,"3° Reunión"]
[null,"Numero de CSMC que desarrollan actividad",null,null,null,null,null,{"$f":"SUM(GETPIVOTDATA(\"Suma de RCON_1\",TD!$A$302))","v":1},null,{"$f":"SUM(GETPIVOTDATA(\"Suma de RCON_2\",TD!$A$302))","v":2},null,{"$f":"SUM(GETPIVOTDATA(\"Suma de RCON_3\",TD!$A$302))","v":0}]
[]
[null,"TALLERES con agentes comunitarios"]
[]
[null,"Temas",null,null,null,null,null,"N° Reuniones",null,"N° Participantes"]
[null,"Consejería ante problemáticas de salud mental generadas por el COVID-19. ",null,null,null,null,null,{"$f":"SUM(GETPIVOTDATA(\"Suma de T_CPSM_R1\",TD!$A$302))","v":0},null,{"$f":"SUM(GETPIVOTDATA(\"Suma de T_CPSM_P1\",TD!$A$302))","v":0}]
[null,"Cuidado mutuo y autocuidado de la salud mental.",null,null,null,null,null,{"$f":"SUM(GETPIVOTDATA(\"Suma de T_CMSM_R2\",TD!$A$302))","v":0},null,{"$f":"SUM(GETPIVOTDATA(\"Suma de T_CPSM_P2\",TD!$A$302))","v":0}]
[null,"Habilidades blandas de desarrollo personal.",null,null,null,null,null,{"$f":"SUM(GETPIVOTDATA(\"Suma de T_HBDP_R3\",TD!$A$302))","v":0},null,{"$f":"SUM(GETPIVOTDATA(\"Suma de T_CPSM_P3\",TD!$A$302))","v":0}]
[null,"Participación y organización comunitaria. ",null,null,null,null,null,{"$f":"SUM(GETPIVOTDATA(\"Suma de T_POCO_R4\",TD!$A$302))","v":0},null,{"$f":"SUM(GETPIVOTDATA(\"Suma de T_CPSM_P4\",TD!$A$302))","v":0}]
[]
[null,"ACOMPAÑAMIENTO PSICOSOCIAL"]
[]
[null,"1. Primeros Auxilios Psicológicos"]
[]
[null,"CONDICIÓN",null,null,null,null,null,"PRESENCIAL",null,null,null,null,null,"VIRTUAL"]
[null,null,null,null,null,null,null,"Relacionados con la desaparición o muerte de un miembro de la familia",null,"Relacionados con la ausencia de un miembro de la familia (hospitalización)",null,"Relacionados con el apoyo familiar inadecuado",null,"Relacionados con la desaparición o muerte de un miembro de la familia",null,"Relacionados con la ausencia de un miembro de la familia (hospitalización)",null,"Relacionados con el apoyo familiar inadecuado"]
[null,"N° personas sin COVID con PAP",null,null,null,null,null,{"$f":"SUM(GETPIVOTDATA(\"Suma de RDMF_PSC\",TD!$A$302))","v":2},null,{"$f":"SUM(GETPIVOTDATA(\"Suma de RAMF_PSC\",TD!$A$302))","v":0},null,{"$f":"SUM(GETPIVOTDATA(\"Suma de RAFI_PSC\",TD!$A$302))","v":4},null,{"$f":"SUM(GETPIVOTDATA(\"Suma de RDMF_PSC_V\",TD!$A$302))","v":0},null,{"$f":"SUM(GETPIVOTDATA(\"Suma de RAMF_PSC_V\",TD!$A$302))","v":0},null,{"$f":"SUM(GETPIVOTDATA(\"Suma de RAFI_PSC_V\",TD!$A$302))","v":0}]
[null,"N° personas con COVID con PAP",null,null,null,null,null,{"$f":"SUM(GETPIVOTDATA(\"Suma de RDMF_PCC\",TD!$A$302))","v":0},null,{"$f":"SUM(GETPIVOTDATA(\"Suma de RAMF_PCC\",TD!$A$302))","v":0},null,{"$f":"SUM(GETPIVOTDATA(\"Suma de RAFI_PCC\",TD!$A$302))","v":0},null,{"$f":"SUM(GETPIVOTDATA(\"Suma de RDMF_PCC_V\",TD!$A$302))","v":0},null,{"$f":"SUM(GETPIVOTDATA(\"Suma de RAMF_PCC_V\",TD!$A$302))","v":0},null,{"$f":"SUM(GETPIVOTDATA(\"Suma de RAFI_PCC_V\",TD!$A$302))","v":0}]
[null,"N° Personal de salud sin COVID con PAP",null,null,null,null,null,{"$f":"SUM(GETPIVOTDATA(\"Suma de RDMF_PESC\",TD!$A$302))","v":0},null,{"$f":"SUM(GETPIVOTDATA(\"Suma de RAMF_PESC\",TD!$A$302))","v":0},null,{"$f":"SUM(GETPIVOTDATA(\"Suma de RAFI_PESC\",TD!$A$302))","v":0},null,{"$f":"SUM(GETPIVOTDATA(\"Suma de RDMF_PESC_V\",TD!$A$302))","v":0},null,{"$f":"SUM(GETPIVOTDATA(\"Suma de RAMF_PESC_V\",TD!$A$302))","v":0},null,{"$f":"SUM(GETPIVOTDATA(\"Suma de RAFI_PESC_V\",TD!$A$302))","v":0}]
[null,"N° Personal de salud con COVID con PAP",null,null,null,null,null,{"$f":"SUM(GETPIVOTDATA(\"Suma de RDMF_PECC\",TD!$A$302))","v":0},null,{"$f":"SUM(GETPIVOTDATA(\"Suma de RAMF_PECC\",TD!$A$302))","v":0},null,{"$f":"SUM(GETPIVOTDATA(\"Suma de RAFI_PECC\",TD!$A$302))","v":0},null,{"$f":"SUM(GETPIVOTDATA(\"Suma de RDMF_PECC_V\",TD!$A$302))","v":0},null,{"$f":"SUM(GETPIVOTDATA(\"Suma de RAMF_PECC_V\",TD!$A$302))","v":0},null,{"$f":"SUM(GETPIVOTDATA(\"Suma de RAFI_PECC_V\",TD!$A$302))","v":0}]
[]
[]
[null,"2. Intervención Individual en Salud Mental"]
[]
[null,"INTERVENCIONES INDIVIDUALES EN SALUD MENTAL",null,null,null,null,null,"PRESENCIAL",null,null,null,null,null,null,null,null,null,null,null,"VIRTUAL"]
[null,null,null,null,null,null,null,"Relacionados con la desaparición o muerte de un miembro de la familia",null,null,null,"Relacionados con la ausencia de un miembro de la familia (hospitalización)",null,null,null,"Relacionados con el apoyo familiar inadecuado",null,null,null,"Relacionados con la desaparición o muerte de un miembro de la familia",null,null,null,"Relacionados con la ausencia de un miembro de la familia (hospitalización)",null,null,null,"Relacionados con el apoyo familiar inadecuado"]
[null,null,null,null,null,null,null,"Con 01 intervención",null,"02 o más intervenciones",null,"Con 01 intervención",null,"02 o más intervenciones",null,"Con 01 intervención",null,"02 o más intervenciones",null,"Con 01 intervención",null,"02 o más intervenciones",null,"Con 01 intervención",null,"02 o más intervenciones",null,"Con 01 intervención",null,"02 o más intervenciones"]
[null,"N° personas sin COVID con PAP",null,null,null,null,null,{"$f":"SUM(GETPIVOTDATA(\"Suma de RDMF_II_PSC_V\",TD!$A$302))","v":0},null,{"$f":"SUM(GETPIVOTDATA(\"Suma de RDMF_II_PSC2\",TD!$A$302))","v":0},null,{"$f":"SUM(GETPIVOTDATA(\"Suma de RAMF_II_PSC\",TD!$A$302))","v":0},null,{"$f":"SUM(GETPIVOTDATA(\"Suma de RAMF_II_PSC2\",TD!$A$302))","v":0},null,{"$f":"SUM(GETPIVOTDATA(\"Suma de RAFI_II_PSC\",TD!$A$302))","v":0},null,{"$f":"SUM(GETPIVOTDATA(\"Suma de RAFI_II_PSC2\",TD!$A$302))","v":0},null,{"$f":"SUM(GETPIVOTDATA(\"Suma de RDMF_II_PSC_V\",TD!$A$302))","v":0},null,{"$f":"SUM(GETPIVOTDATA(\"Suma de RDMF_II_PSC2_V\",TD!$A$302))","v":0},null,{"$f":"SUM(GETPIVOTDATA(\"Suma de RAMF_II_PSC_V\",TD!$A$302))","v":0},null,{"$f":"SUM(GETPIVOTDATA(\"Suma de RAMF_II_PSC2_V\",TD!$A$302))","v":0},null,{"$f":"SUM(GETPIVOTDATA(\"Suma de RAFI_II_PSC_V\",TD!$A$302))","v":0},null,{"$f":"SUM(GETPIVOTDATA(\"Suma de RAFI_II_PSC2_V\",TD!$A$302))","v":0}]
[null,"N° personas con COVID con PAP",null,null,null,null,null,{"$f":"SUM(GETPIVOTDATA(\"Suma de RDMF_II_PCC\",TD!$A$302))","v":0},null,{"$f":"SUM(GETPIVOTDATA(\"Suma de RDMF_II_PCC2\",TD!$A$302))","v":0},null,{"$f":"SUM(GETPIVOTDATA(\"Suma de RAMF_II_PCC\",TD!$A$302))","v":0},null,{"$f":"SUM(GETPIVOTDATA(\"Suma de RAMF_II_PCC2\",TD!$A$302))","v":0},null,{"$f":"SUM(GETPIVOTDATA(\"Suma de RAFI_II_PCC\",TD!$A$302))","v":0},null,{"$f":"SUM(GETPIVOTDATA(\"Suma de RAFI_II_PCC2\",TD!$A$302))","v":0},null,{"$f":"SUM(GETPIVOTDATA(\"Suma de RDMF_II_PCC_V\",TD!$A$302))","v":0},null,{"$f":"SUM(GETPIVOTDATA(\"Suma de RDMF_II_PCC2_V\",TD!$A$302))","v":0},null,{"$f":"SUM(GETPIVOTDATA(\"Suma de RAMF_II_PCC\",TD!$A$302))","v":0},null,{"$f":"SUM(GETPIVOTDATA(\"Suma de RAMF_II_PCC2_V\",TD!$A$302))","v":0},null,{"$f":"SUM(GETPIVOTDATA(\"Suma de RAFI_II_PCC\",TD!$A$302))","v":0},null,{"$f":"SUM(GETPIVOTDATA(\"Suma de RAFI_II_PCC2_V\",TD!$A$302))","v":0}]
[null,"N° Personal de salud sin COVID con PAP",null,null,null,null,null,{"$f":"SUM(GETPIVOTDATA(\"Suma de RDMF_II_PESC\",TD!$A$302))","v":0},null,{"$f":"SUM(GETPIVOTDATA(\"Suma de RDMF_II_PESC2\",TD!$A$302))","v":0},null,{"$f":"SUM(GETPIVOTDATA(\"Suma de RAMF_II_PESC\",TD!$A$302))","v":0},null,{"$f":"SUM(GETPIVOTDATA(\"Suma de RAMF_II_PESC2\",TD!$A$302))","v":0},null,{"$f":"SUM(GETPIVOTDATA(\"Suma de RAFI_II_PESC\",TD!$A$302))","v":0},null,{"$f":"SUM(GETPIVOTDATA(\"Suma de RAFI_II_PESC2\",TD!$A$302))","v":0},null,{"$f":"SUM(GETPIVOTDATA(\"Suma de RDMF_II_PESC_V\",TD!$A$302))","v":0},null,{"$f":"SUM(GETPIVOTDATA(\"Suma de RDMF_II_PESC2_V\",TD!$A$302))","v":0},null,{"$f":"SUM(GETPIVOTDATA(\"Suma de RAMF_II_PESC\",TD!$A$302))","v":0},null,{"$f":"SUM(GETPIVOTDATA(\"Suma de RAMF_II_PESC2_V\",TD!$A$302))","v":0},null,{"$f":"SUM(GETPIVOTDATA(\"Suma de RAFI_II_PESC\",TD!$A$302))","v":0},null,{"$f":"SUM(GETPIVOTDATA(\"Suma de RAFI_II_PESC2_V\",TD!$A$302))","v":0}]
[null,"N° Personal de salud con COVID con PAP",null,null,null,null,null,{"$f":"SUM(GETPIVOTDATA(\"Suma de RDMF_II_PSC_V\",TD!$A$302))","v":0},null,{"$f":"SUM(GETPIVOTDATA(\"Suma de RDMF_II_PSC2\",TD!$A$302))","v":0},null,{"$f":"SUM(GETPIVOTDATA(\"Suma de RAMF_II_PSC\",TD!$A$302))","v":0},null,{"$f":"SUM(GETPIVOTDATA(\"Suma de RAMF_II_PSC2\",TD!$A$302))","v":0},null,{"$f":"SUM(GETPIVOTDATA(\"Suma de RAFI_II_PSC\",TD!$A$302))","v":0},null,{"$f":"SUM(GETPIVOTDATA(\"Suma de RAFI_II_PSC2\",TD!$A$302))","v":0},null,{"$f":"SUM(GETPIVOTDATA(\"Suma de RDMF_II_PSC_V\",TD!$A$302))","v":0},null,{"$f":"SUM(GETPIVOTDATA(\"Suma de RDMF_II_PSC2_V\",TD!$A$302))","v":0},null,{"$f":"SUM(GETPIVOTDATA(\"Suma de RAMF_II_PSC\",TD!$A$302))","v":0},null,{"$f":"SUM(GETPIVOTDATA(\"Suma de RAMF_II_PSC2_V\",TD!$A$302))","v":0},null,{"$f":"SUM(GETPIVOTDATA(\"Suma de RAFI_II_PSC\",TD!$A$302))","v":0},null,{"$f":"SUM(GETPIVOTDATA(\"Suma de RAFI_II_PSC2_V\",TD!$A$302))","v":0}]
[]
[]
[null,"3.- Intervención familiar"]
[]
[null,"INTERVENCIONES INDIVIDUALES EN SALUD MENTAL",null,null,null,null,null,"PRESENCIAL",null,null,null,null,null,null,null,null,null,null,null,"VIRTUAL"]
[null,null,null,null,null,null,null,"Relacionados con la desaparición o muerte de un miembro de la familia",null,null,null,"Relacionados con la ausencia de un miembro de la familia (hospitalización)",null,null,null,"Relacionados con el apoyo familiar inadecuado",null,null,null,"Relacionados con la desaparición o muerte de un miembro de la familia",null,null,null,"Relacionados con la ausencia de un miembro de la familia (hospitalización)",null,null,null,"Relacionados con el apoyo familiar inadecuado"]
[null,null,null,null,null,null,null,"Con 01 intervención",null,"02 o más intervenciones",null,"Con 01 intervención",null,"02 o más intervenciones",null,"Con 01 intervención",null,"02 o más intervenciones",null,"Con 01 intervención",null,"02 o más intervenciones",null,"Con 01 intervención",null,"02 o más intervenciones",null,"Con 01 intervención",null,"02 o más intervenciones"]
[null,"N° personas sin COVID con PAP",null,null,null,null,null,{"$f":"SUM(GETPIVOTDATA(\"Suma de RDMF_IF_PSC_V\",TD!$A$302))","v":0},null,{"$f":"SUM(GETPIVOTDATA(\"Suma de RDMF_IF_PSC2\",TD!$A$302))","v":0},null,{"$f":"SUM(GETPIVOTDATA(\"Suma de RAMF_IF_PSC\",TD!$A$302))","v":0},null,{"$f":"SUM(GETPIVOTDATA(\"Suma de RAMF_IF_PSC2\",TD!$A$302))","v":0},null,{"$f":"SUM(GETPIVOTDATA(\"Suma de RAFI_IF_PSC\",TD!$A$302))","v":0},null,{"$f":"SUM(GETPIVOTDATA(\"Suma de RAFI_IF_PSC2\",TD!$A$302))","v":0},null,{"$f":"SUM(GETPIVOTDATA(\"Suma de RDMF_IF_PSC_V\",TD!$A$302))","v":0},null,{"$f":"SUM(GETPIVOTDATA(\"Suma de RDMF_IF_PSC2_V\",TD!$A$302))","v":0},null,{"$f":"SUM(GETPIVOTDATA(\"Suma de RAMF_IF_PSC_V\",TD!$A$302))","v":0},null,{"$f":"SUM(GETPIVOTDATA(\"Suma de RAMF_IF_PSC2_V\",TD!$A$302))","v":0},null,{"$f":"SUM(GETPIVOTDATA(\"Suma de RAFI_IF_PSC_V\",TD!$A$302))","v":0},null,{"$f":"SUM(GETPIVOTDATA(\"Suma de RAFI_IF_PSC2_V\",TD!$A$302))","v":0}]
[null,"N° personas con COVID con PAP",null,null,null,null,null,{"$f":"SUM(GETPIVOTDATA(\"Suma de RDMF_IF_PCC\",TD!$A$302))","v":0},null,{"$f":"SUM(GETPIVOTDATA(\"Suma de RDMF_IF_PCC2\",TD!$A$302))","v":0},null,{"$f":"SUM(GETPIVOTDATA(\"Suma de RAMF_IF_PCC\",TD!$A$302))","v":0},null,{"$f":"SUM(GETPIVOTDATA(\"Suma de RAMF_IF_PCC2\",TD!$A$302))","v":0},null,{"$f":"SUM(GETPIVOTDATA(\"Suma de RAFI_IF_PCC\",TD!$A$302))","v":0},null,{"$f":"SUM(GETPIVOTDATA(\"Suma de RAFI_IF_PCC2\",TD!$A$302))","v":0},null,{"$f":"SUM(GETPIVOTDATA(\"Suma de RDMF_IF_PCC_V\",TD!$A$302))","v":0},null,{"$f":"SUM(GETPIVOTDATA(\"Suma de RDMF_IF_PCC2_V\",TD!$A$302))","v":0},null,{"$f":"SUM(GETPIVOTDATA(\"Suma de RAMF_IF_PCC\",TD!$A$302))","v":0},null,{"$f":"SUM(GETPIVOTDATA(\"Suma de RAMF_IF_PCC2_V\",TD!$A$302))","v":0},null,{"$f":"SUM(GETPIVOTDATA(\"Suma de RAFI_IF_PCC\",TD!$A$302))","v":0},null,{"$f":"SUM(GETPIVOTDATA(\"Suma de RAFI_IF_PCC2_V\",TD!$A$302))","v":0}]
[null,"N° Personal de salud sin COVID con PAP",null,null,null,null,null,{"$f":"SUM(GETPIVOTDATA(\"Suma de RDMF_IF_PESC\",TD!$A$302))","v":0},null,{"$f":"SUM(GETPIVOTDATA(\"Suma de RDMF_IF_PESC2\",TD!$A$302))","v":0},null,{"$f":"SUM(GETPIVOTDATA(\"Suma de RAMF_IF_PESC\",TD!$A$302))","v":0},null,{"$f":"SUM(GETPIVOTDATA(\"Suma de RAMF_IF_PESC2\",TD!$A$302))","v":0},null,{"$f":"SUM(GETPIVOTDATA(\"Suma de RAFI_IF_PESC\",TD!$A$302))","v":0},null,{"$f":"SUM(GETPIVOTDATA(\"Suma de RAFI_IF_PESC2\",TD!$A$302))","v":0},null,{"$f":"SUM(GETPIVOTDATA(\"Suma de RDMF_IF_PESC_V\",TD!$A$302))","v":0},null,{"$f":"SUM(GETPIVOTDATA(\"Suma de RDMF_IF_PESC2_V\",TD!$A$302))","v":0},null,{"$f":"SUM(GETPIVOTDATA(\"Suma de RAMF_IF_PESC\",TD!$A$302))","v":0},null,{"$f":"SUM(GETPIVOTDATA(\"Suma de RAMF_IF_PESC2_V\",TD!$A$302))","v":0},null,{"$f":"SUM(GETPIVOTDATA(\"Suma de RAFI_IF_PESC\",TD!$A$302))","v":0},null,{"$f":"SUM(GETPIVOTDATA(\"Suma de RAFI_IF_PESC2_V\",TD!$A$302))","v":0}]
[null,"N° Personal de salud con COVID con PAP",null,null,null,null,null,{"$f":"SUM(GETPIVOTDATA(\"Suma de RDMF_IF_PSC_V\",TD!$A$302))","v":0},null,{"$f":"SUM(GETPIVOTDATA(\"Suma de RDMF_IF_PSC2\",TD!$A$302))","v":0},null,{"$f":"SUM(GETPIVOTDATA(\"Suma de RAMF_IF_PSC\",TD!$A$302))","v":0},null,{"$f":"SUM(GETPIVOTDATA(\"Suma de RAMF_IF_PSC2\",TD!$A$302))","v":0},null,{"$f":"SUM(GETPIVOTDATA(\"Suma de RAFI_IF_PSC\",TD!$A$302))","v":0},null,{"$f":"SUM(GETPIVOTDATA(\"Suma de RAFI_IF_PSC2\",TD!$A$302))","v":0},null,{"$f":"SUM(GETPIVOTDATA(\"Suma de RDMF_IF_PSC_V\",TD!$A$302))","v":0},null,{"$f":"SUM(GETPIVOTDATA(\"Suma de RDMF_IF_PSC2_V\",TD!$A$302))","v":0},null,{"$f":"SUM(GETPIVOTDATA(\"Suma de RAMF_IF_PSC\",TD!$A$302))","v":0},null,{"$f":"SUM(GETPIVOTDATA(\"Suma de RAMF_IF_PSC2_V\",TD!$A$302))","v":0},null,{"$f":"SUM(GETPIVOTDATA(\"Suma de RAFI_IF_PSC\",TD!$A$302))","v":0},null,{"$f":"SUM(GETPIVOTDATA(\"Suma de RAFI_IF_PSC2_V\",TD!$A$302))","v":0}]
[]
[]
[]
[]
[]
[null,"4.- ACTIVIDADES CUIDADO DE SALUD MENTAL AL PERSONAL DE SALUD DE FORMA GRUPAL "]
[]
[null,"CON PERSONALDE SALUD",null,null,null,null,null,null,null,null,null,"CON LA COMUNIDAD"]
[null,"INTERVENCIONES GRUPALES",null,null,null,null,null,"PRESENCIALES",null,"VIRTUALES",null,"INTERVENCIONES GRUPALES",null,null,"PRESENCIALES",null,"VIRTUALES"]
[null,"Nª DE REUNIONES",null,null,null,null,null,{"$f":"SUM(GETPIVOTDATA(\"Suma de IGPS_P_R1\",TD!$A$302))","v":0},null,{"$f":"SUM(GETPIVOTDATA(\"Suma de IGPS_V_R1\",TD!$A$302))","v":0},null,"N° DE REUNIONES",null,null,{"$f":"SUM(GETPIVOTDATA(\"Suma de IGCO_P_R1\",TD!$A$302))","v":0},null,{"$f":"SUM(GETPIVOTDATA(\"Suma de IGCO_V_R1\",TD!$A$302))","v":0}]
[null,"Nª DE PARTICIPANTES ",null,null,null,null,null,{"$f":"SUM(GETPIVOTDATA(\"Suma de IGPS_P_P1\",TD!$A$302))","v":0},null,{"$f":"SUM(GETPIVOTDATA(\"Suma de IGPS_V_P1\",TD!$A$302))","v":0},null,"Nª DE PARTICIPANTES ",null,null,{"$f":"SUM(GETPIVOTDATA(\"Suma de IGCO_P_P1\",TD!$A$302))","v":0},null,{"$f":"SUM(GETPIVOTDATA(\"Suma de IGCO_V_P1\",TD!$A$302))","v":0}]
[]
[null,"5.- SESIÓN EDUCATIVA PARA PAUTAS DE CRIANZA"]
[]
[null,"ACTIVIDADES",null,null,null,null,null,"1° Sesion",null,"2° Sesion",null,"3° sesion",null,"4° sesion",null,"5° sesion",null,"6° sesion",null,"7° sesion"]
[null,"Nº  REUNIONES",null,null,null,null,null,{"$f":"SUM(GETPIVOTDATA(\"Suma de SEPC_S1\",TD!$A$302))","v":0},null,{"$f":"SUM(GETPIVOTDATA(\"Suma de SEPC_S2\",TD!$A$302))","v":0},null,{"$f":"SUM(GETPIVOTDATA(\"Suma de SEPC_S3\",TD!$A$302))","v":0},null,{"$f":"SUM(GETPIVOTDATA(\"Suma de SEPC_S4\",TD!$A$302))","v":0},null,{"$f":"SUM(GETPIVOTDATA(\"Suma de SEPC_S5\",TD!$A$302))","v":0},null,{"$f":"SUM(GETPIVOTDATA(\"Suma de SEPC_S6\",TD!$A$302))","v":0},null,{"$f":"SUM(GETPIVOTDATA(\"Suma de SEPC_S7\",TD!$A$302))","v":0}]
[null,"Nª PARTICIPANTES",null,null,null,null,null,{"$f":"SUM(GETPIVOTDATA(\"Suma de SEPC_P1\",TD!$A$302))","v":0},null,{"$f":"SUM(GETPIVOTDATA(\"Suma de SEPC_P2\",TD!$A$302))","v":0},null,{"$f":"SUM(GETPIVOTDATA(\"Suma de SEPC_P3\",TD!$A$302))","v":0},null,{"$f":"SUM(GETPIVOTDATA(\"Suma de SEPC_P4\",TD!$A$302))","v":0},null,{"$f":"SUM(GETPIVOTDATA(\"Suma de SEPC_P5\",TD!$A$302))","v":0},null,{"$f":"SUM(GETPIVOTDATA(\"Suma de SEPC_P6\",TD!$A$302))","v":0},null,{"$f":"SUM(GETPIVOTDATA(\"Suma de SEPC_P7\",TD!$A$302))","v":0}]